BEGIN:VCALENDAR
VERSION:2.0
PRODID:-//Espace Moebius - ECPv6.0.12//NONSGML v1.0//EN
CALSCALE:GREGORIAN
METHOD:PUBLISH
X-ORIGINAL-URL:https://moebius.cegepmontpetit.ca
X-WR-CALDESC:évènements pour Espace Moebius
REFRESH-INTERVAL;VALUE=DURATION:PT1H
X-Robots-Tag:noindex
X-PUBLISHED-TTL:PT1H
BEGIN:VTIMEZONE
TZID:America/Toronto
BEGIN:DAYLIGHT
TZOFFSETFROM:-0500
TZOFFSETTO:-0400
TZNAME:EDT
DTSTART:20260308T070000
END:DAYLIGHT
BEGIN:STANDARD
TZOFFSETFROM:-0400
TZOFFSETTO:-0500
TZNAME:EST
DTSTART:20261101T060000
END:STANDARD
END:VTIMEZONE
BEGIN:VEVENT
DTSTART;TZID=America/Toronto:20260422T130000
DTEND;TZID=America/Toronto:20260422T160000
DTSTAMP:20260422T154459
CREATED:20260115T164257Z
LAST-MODIFIED:20260115T164257Z
UID:22201-1776862800-1776873600@moebius.cegepmontpetit.ca
SUMMARY:Réservation RV – Soins Infirmiers
DESCRIPTION:Problématique: Syndrome du compartiment (fracture) et chambre des erreurs (180-21B)\n6 station
URL:https://moebius.cegepmontpetit.ca/evenement/reservation-rv-soins-infirmiers-106/
LOCATION:D2702
CATEGORIES:Atelier - Réalité virtuelle
ATTACH;FMTTYPE=image/jpeg:https://moebius.cegepmontpetit.ca/wp-content/uploads/sites/166/2025/09/Realite_Virtuelle_Chaises_Quest_3-1-scaled.jpg
END:VEVENT
BEGIN:VEVENT
DTSTART;VALUE=DATE:20260423
DTEND;VALUE=DATE:20260425
DTSTAMP:20260422T154459
CREATED:20260318T191627Z
LAST-MODIFIED:20260318T191627Z
UID:22515-1776924000-1777010399@moebius.cegepmontpetit.ca
SUMMARY:Prêt BenQ
DESCRIPTION:Julie J Dubois \nRetour le lendemain
URL:https://moebius.cegepmontpetit.ca/evenement/pret-benq-8/
LOCATION:D2702
ATTACH;FMTTYPE=image/jpeg:https://moebius.cegepmontpetit.ca/wp-content/uploads/sites/166/2022/06/PXL_20220208_150128587.MP_-scaled.jpg
END:VEVENT
BEGIN:VEVENT
DTSTART;TZID=America/Toronto:20260423T130000
DTEND;TZID=America/Toronto:20260423T160000
DTSTAMP:20260422T154459
CREATED:20260115T164403Z
LAST-MODIFIED:20260115T164403Z
UID:22203-1776949200-1776960000@moebius.cegepmontpetit.ca
SUMMARY:Réservation RV – Soins Infirmiers
DESCRIPTION:Problématique: Syndrome du compartiment (fracture) et chambre des erreurs (180-21B)\n6 station
URL:https://moebius.cegepmontpetit.ca/evenement/reservation-rv-soins-infirmiers-107/
LOCATION:D2702
CATEGORIES:Atelier - Réalité virtuelle
ATTACH;FMTTYPE=image/jpeg:https://moebius.cegepmontpetit.ca/wp-content/uploads/sites/166/2025/09/Realite_Virtuelle_Chaises_Quest_3-1-scaled.jpg
END:VEVENT
BEGIN:VEVENT
DTSTART;TZID=America/Toronto:20260427T090000
DTEND;TZID=America/Toronto:20260427T120000
DTSTAMP:20260422T154459
CREATED:20260119T133219Z
LAST-MODIFIED:20260119T133219Z
UID:22245-1777280400-1777291200@moebius.cegepmontpetit.ca
SUMMARY:Réservation – Communauté EVA
DESCRIPTION:Disposition: en cercle
URL:https://moebius.cegepmontpetit.ca/evenement/reservation-communaute-eva-6/
LOCATION:D2702
CATEGORIES:Réservation de l'Espace Moebius
ATTACH;FMTTYPE=image/jpeg:https://moebius.cegepmontpetit.ca/wp-content/uploads/sites/166/2025/07/Espace_Moebius_-4-scaled.jpg
END:VEVENT
BEGIN:VEVENT
DTSTART;TZID=America/Toronto:20260427T140000
DTEND;TZID=America/Toronto:20260427T150000
DTSTAMP:20260422T154459
CREATED:20260313T183317Z
LAST-MODIFIED:20260313T183317Z
UID:22512-1777298400-1777302000@moebius.cegepmontpetit.ca
SUMMARY:Réservation - Séance photos Soins infirmiers
DESCRIPTION:#89981 \n1 station Rift 1 station Quest
URL:https://moebius.cegepmontpetit.ca/evenement/reservation-seance-photos-soins-infirmiers/
LOCATION:D2702
CATEGORIES:Réservation de l'Espace Moebius
ATTACH;FMTTYPE=image/jpeg:https://moebius.cegepmontpetit.ca/wp-content/uploads/sites/166/2025/07/Espace_Moebius_-4-scaled.jpg
END:VEVENT
BEGIN:VEVENT
DTSTART;TZID=America/Toronto:20260428T140000
DTEND;TZID=America/Toronto:20260428T160000
DTSTAMP:20260422T154459
CREATED:20260127T134116Z
LAST-MODIFIED:20260127T134116Z
UID:22452-1777384800-1777392000@moebius.cegepmontpetit.ca
SUMMARY:Réservation – Cours Techniques dentaires (Prothèses dentaires)
DESCRIPTION:#88003\n– Téléviseur interactif : 1\n– Projecteur interactif : 1\n– Boutons sonores : Oui\n– Verres de couleur : Oui\n– Un ordinateur portable : Oui\n– Nombre requis : 20
URL:https://moebius.cegepmontpetit.ca/evenement/reservation-cours-techniques-dentaires-protheses-dentaires-9/
LOCATION:D2702
CATEGORIES:Besoin de portables,Imprimante en fonction,Mode exclusif,Réservation - CLAAC,Réservation de l'Espace Moebius,Téléviseur interactif 1x
ATTACH;FMTTYPE=image/jpeg:https://moebius.cegepmontpetit.ca/wp-content/uploads/sites/166/2025/07/Espace_Moebius_-4-scaled.jpg
END:VEVENT
BEGIN:VEVENT
DTSTART;VALUE=DATE:20260429
DTEND;VALUE=DATE:20260501
DTSTAMP:20260422T154459
CREATED:20260408T192318Z
LAST-MODIFIED:20260408T192318Z
UID:22543-1777442400-1777528799@moebius.cegepmontpetit.ca
SUMMARY:Prêt Buzzer
DESCRIPTION:Marie-Josée Martineau \nvenir chercher 12h\, aller chercher après au comptoir de la bibliothèque
URL:https://moebius.cegepmontpetit.ca/evenement/pret-buzzer/
LOCATION:D2702
ATTACH;FMTTYPE=image/jpeg:https://moebius.cegepmontpetit.ca/wp-content/uploads/sites/166/2019/06/Moebius_2019_05_16_0017-e1568646956205.jpg
END:VEVENT
BEGIN:VEVENT
DTSTART;TZID=America/Toronto:20260429T123000
DTEND;TZID=America/Toronto:20260429T140000
DTSTAMP:20260422T154459
CREATED:20260122T190713Z
LAST-MODIFIED:20260122T190713Z
UID:22425-1777465800-1777471200@moebius.cegepmontpetit.ca
SUMMARY:Réservation - Atelier pause créative
DESCRIPTION:#87812
URL:https://moebius.cegepmontpetit.ca/evenement/reservation-atelier-pause-creative/
LOCATION:D2702
CATEGORIES:Réservation de l'Espace Moebius
ATTACH;FMTTYPE=image/jpeg:https://moebius.cegepmontpetit.ca/wp-content/uploads/sites/166/2025/07/Espace_Moebius_-4-scaled.jpg
END:VEVENT
BEGIN:VEVENT
DTSTART;VALUE=DATE:20260430
DTEND;VALUE=DATE:20260502
DTSTAMP:20260422T154459
CREATED:20260129T193322Z
LAST-MODIFIED:20260129T193322Z
UID:22464-1777528800-1777615199@moebius.cegepmontpetit.ca
SUMMARY:Réservation Matériel: 4 divan et 4 petites tables
DESCRIPTION:Ariane Boulay-Prévost
URL:https://moebius.cegepmontpetit.ca/evenement/reservation-materiel-4-divan-et-4-petites-tables/
LOCATION:D2702
ATTACH;FMTTYPE=image/jpeg:https://moebius.cegepmontpetit.ca/wp-content/uploads/sites/166/2019/07/P1090442-300-e1568647073717.jpg
END:VEVENT
BEGIN:VEVENT
DTSTART;TZID=America/Toronto:20260430T093000
DTEND;TZID=America/Toronto:20260430T120000
DTSTAMP:20260422T154459
CREATED:20260325T174212Z
LAST-MODIFIED:20260325T174212Z
UID:22517-1777541400-1777550400@moebius.cegepmontpetit.ca
SUMMARY:Réservation - Test RV Soins Infirmiers
DESCRIPTION:#90321 \nTester les 2 nouvelles simulations : sim 14 (100 inspiro-EPI) et sim 17 (610 péritonite)
URL:https://moebius.cegepmontpetit.ca/evenement/reservation-test-rv-soins-infirmiers-2/
LOCATION:D2702
CATEGORIES:Réservation de l'Espace Moebius
ATTACH;FMTTYPE=image/jpeg:https://moebius.cegepmontpetit.ca/wp-content/uploads/sites/166/2025/07/Espace_Moebius_-4-scaled.jpg
END:VEVENT
BEGIN:VEVENT
DTSTART;TZID=America/Toronto:20260501T080000
DTEND;TZID=America/Toronto:20260501T110000
DTSTAMP:20260422T154459
CREATED:20260121T131347Z
LAST-MODIFIED:20260121T131347Z
UID:22416-1777622400-1777633200@moebius.cegepmontpetit.ca
SUMMARY:Réservation – Cours Denturologie
DESCRIPTION:#87714\nordinateur portable: 28
URL:https://moebius.cegepmontpetit.ca/evenement/reservation-cours-denturologie-4/
LOCATION:D2702
CATEGORIES:Besoin de portables,Réservation de l'Espace Moebius
ATTACH;FMTTYPE=image/jpeg:https://moebius.cegepmontpetit.ca/wp-content/uploads/sites/166/2025/07/Espace_Moebius_-4-scaled.jpg
END:VEVENT
BEGIN:VEVENT
DTSTART;TZID=America/Toronto:20260505T083000
DTEND;TZID=America/Toronto:20260505T090000
DTSTAMP:20260422T154459
CREATED:20260421T154646Z
LAST-MODIFIED:20260421T154646Z
UID:22557-1777969800-1777971600@moebius.cegepmontpetit.ca
SUMMARY:Placement Local: BenQ dans zone discussion
DESCRIPTION:Nous aimerions utiliser l’espace discussion.\nNous utiliserons également les tableaux blancs sur roulettes
URL:https://moebius.cegepmontpetit.ca/evenement/placement-local-benq-dans-zone-discussion/
LOCATION:D2702
ATTACH;FMTTYPE=image/jpeg:https://moebius.cegepmontpetit.ca/wp-content/uploads/sites/166/2019/04/P1090450.jpg
END:VEVENT
BEGIN:VEVENT
DTSTART;TZID=America/Toronto:20260505T090000
DTEND;TZID=America/Toronto:20260505T120000
DTSTAMP:20260422T154459
CREATED:20260421T154548Z
LAST-MODIFIED:20260421T154548Z
UID:22555-1777971600-1777982400@moebius.cegepmontpetit.ca
SUMMARY:Réservation - Rencontre
DESCRIPTION:#91119\nNous aimerions utiliser l’espace discussion.\nNous utiliserons également les tableaux blancs sur roulettes
URL:https://moebius.cegepmontpetit.ca/evenement/reservation-rencontre-2/
LOCATION:D2702
CATEGORIES:Réservation - Zone discussion
ATTACH;FMTTYPE=image/jpeg:https://moebius.cegepmontpetit.ca/wp-content/uploads/sites/166/2019/03/P1090450.jpg
END:VEVENT
BEGIN:VEVENT
DTSTART;TZID=America/Toronto:20260505T140000
DTEND;TZID=America/Toronto:20260505T160000
DTSTAMP:20260422T154459
CREATED:20260127T134225Z
LAST-MODIFIED:20260127T134225Z
UID:22454-1777989600-1777996800@moebius.cegepmontpetit.ca
SUMMARY:Réservation – Cours Techniques dentaires (Prothèses dentaires)
DESCRIPTION:#88003\n– Téléviseur interactif : 1\n– Projecteur interactif : 1\n– Boutons sonores : Oui\n– Verres de couleur : Oui\n– Un ordinateur portable : Oui\n– Nombre requis : 20
URL:https://moebius.cegepmontpetit.ca/evenement/reservation-cours-techniques-dentaires-protheses-dentaires-10/
LOCATION:D2702
CATEGORIES:Besoin de portables,Imprimante en fonction,Mode exclusif,Réservation - CLAAC,Réservation de l'Espace Moebius,Téléviseur interactif 1x
ATTACH;FMTTYPE=image/jpeg:https://moebius.cegepmontpetit.ca/wp-content/uploads/sites/166/2025/07/Espace_Moebius_-4-scaled.jpg
END:VEVENT
BEGIN:VEVENT
DTSTART;VALUE=DATE:20260506
DTEND;VALUE=DATE:20260508
DTSTAMP:20260422T154459
CREATED:20260203T184225Z
LAST-MODIFIED:20260203T184418Z
UID:22466-1778047200-1778133599@moebius.cegepmontpetit.ca
SUMMARY:Prêt BenQ
DESCRIPTION:Antoine Mayer
URL:https://moebius.cegepmontpetit.ca/evenement/pret-benq-3/
LOCATION:D2702
ATTACH;FMTTYPE=image/jpeg:https://moebius.cegepmontpetit.ca/wp-content/uploads/sites/166/2022/06/PXL_20220208_150128587.MP_-scaled.jpg
END:VEVENT
BEGIN:VEVENT
DTSTART;TZID=America/Toronto:20260506T073000
DTEND;TZID=America/Toronto:20260506T080000
DTSTAMP:20260422T154459
CREATED:20260120T131553Z
LAST-MODIFIED:20260407T135308Z
UID:22373-1778052600-1778054400@moebius.cegepmontpetit.ca
SUMMARY:Placement local grande table ronde pour 9 personnes
DESCRIPTION:
URL:https://moebius.cegepmontpetit.ca/evenement/placement-local-grande-table-ronde-pour-9-personnes/
LOCATION:D2702
END:VEVENT
BEGIN:VEVENT
DTSTART;TZID=America/Toronto:20260506T080000
DTEND;TZID=America/Toronto:20260506T130000
DTSTAMP:20260422T154459
CREATED:20260120T131431Z
LAST-MODIFIED:20260407T135247Z
UID:22371-1778054400-1778072400@moebius.cegepmontpetit.ca
SUMMARY:Réservation - Cours Techniques administratives
DESCRIPTION:#87648\nDisposition: grande table ronde pour 9 personnes\n– Téléviseur interactif : 1\n– Projecteur interactif : 1
URL:https://moebius.cegepmontpetit.ca/evenement/reservation-cours-techniques-administratives-8/
LOCATION:D2702
CATEGORIES:Réservation de l'Espace Moebius
ATTACH;FMTTYPE=image/jpeg:https://moebius.cegepmontpetit.ca/wp-content/uploads/sites/166/2025/07/Espace_Moebius_-4-scaled.jpg
END:VEVENT
BEGIN:VEVENT
DTSTART;TZID=America/Toronto:20260508T080000
DTEND;TZID=America/Toronto:20260508T110000
DTSTAMP:20260422T154459
CREATED:20260121T131454Z
LAST-MODIFIED:20260121T131454Z
UID:22418-1778227200-1778238000@moebius.cegepmontpetit.ca
SUMMARY:Réservation – Cours Denturologie
DESCRIPTION:#87714\nordinateur portable: 28
URL:https://moebius.cegepmontpetit.ca/evenement/reservation-cours-denturologie-5/
LOCATION:D2702
CATEGORIES:Besoin de portables,Réservation de l'Espace Moebius
ATTACH;FMTTYPE=image/jpeg:https://moebius.cegepmontpetit.ca/wp-content/uploads/sites/166/2025/07/Espace_Moebius_-4-scaled.jpg
END:VEVENT
BEGIN:VEVENT
DTSTART;TZID=America/Toronto:20260508T123000
DTEND;TZID=America/Toronto:20260508T160000
DTSTAMP:20260422T154459
CREATED:20260422T144201Z
LAST-MODIFIED:20260422T144201Z
UID:22559-1778243400-1778256000@moebius.cegepmontpetit.ca
SUMMARY:Réservation - Cours Techniques d'éducation à l'enfance
DESCRIPTION:#91163 \n2x BenQ
URL:https://moebius.cegepmontpetit.ca/evenement/reservation-cours-techniques-deducation-a-lenfance/
LOCATION:D2702
CATEGORIES:Réservation de l'Espace Moebius
ATTACH;FMTTYPE=image/jpeg:https://moebius.cegepmontpetit.ca/wp-content/uploads/sites/166/2025/07/Espace_Moebius_-4-scaled.jpg
END:VEVENT
BEGIN:VEVENT
DTSTART;TZID=America/Toronto:20260511T090000
DTEND;TZID=America/Toronto:20260511T120000
DTSTAMP:20260422T154459
CREATED:20260119T133505Z
LAST-MODIFIED:20260119T133505Z
UID:22247-1778490000-1778500800@moebius.cegepmontpetit.ca
SUMMARY:Réservation – Communauté EVA
DESCRIPTION:Disposition: en cercle
URL:https://moebius.cegepmontpetit.ca/evenement/reservation-communaute-eva-7/
LOCATION:D2702
CATEGORIES:Réservation de l'Espace Moebius
ATTACH;FMTTYPE=image/jpeg:https://moebius.cegepmontpetit.ca/wp-content/uploads/sites/166/2025/07/Espace_Moebius_-4-scaled.jpg
END:VEVENT
BEGIN:VEVENT
DTSTART;TZID=America/Toronto:20260511T130000
DTEND;TZID=America/Toronto:20260511T150000
DTSTAMP:20260422T154459
CREATED:20260327T133018Z
LAST-MODIFIED:20260327T133018Z
UID:22523-1778504400-1778511600@moebius.cegepmontpetit.ca
SUMMARY:Réservation - Test RV Soins Infirmiers
DESCRIPTION:#90384
URL:https://moebius.cegepmontpetit.ca/evenement/reservation-test-rv-soins-infirmiers-3/
LOCATION:D2702
ATTACH;FMTTYPE=image/jpeg:https://moebius.cegepmontpetit.ca/wp-content/uploads/sites/166/2025/09/Realite_Virtuelle_Chaises_Quest_3-1-scaled.jpg
END:VEVENT
BEGIN:VEVENT
DTSTART;TZID=America/Toronto:20260512T080000
DTEND;TZID=America/Toronto:20260512T120000
DTSTAMP:20260422T154500
CREATED:20260119T195612Z
LAST-MODIFIED:20260119T195612Z
UID:22320-1778572800-1778587200@moebius.cegepmontpetit.ca
SUMMARY:Réservation - Cours Psychologie
DESCRIPTION:#87630\nBesoin: Kit Bimodale
URL:https://moebius.cegepmontpetit.ca/evenement/reservation-cours-psychologie-22/
LOCATION:D2702
CATEGORIES:Réservation de l'Espace Moebius
ATTACH;FMTTYPE=image/jpeg:https://moebius.cegepmontpetit.ca/wp-content/uploads/sites/166/2025/07/Espace_Moebius_-4-scaled.jpg
END:VEVENT
BEGIN:VEVENT
DTSTART;TZID=America/Toronto:20260512T130000
DTEND;TZID=America/Toronto:20260512T160000
DTSTAMP:20260422T154500
CREATED:20260115T164537Z
LAST-MODIFIED:20260115T164559Z
UID:22205-1778590800-1778601600@moebius.cegepmontpetit.ca
SUMMARY:Réservation RV – Soins Infirmiers
DESCRIPTION:Problématique: Syndrome du compartiment (fracture) et chambre des erreurs (180-21B)\n6 station
URL:https://moebius.cegepmontpetit.ca/evenement/reservation-rv-soins-infirmiers-108/
LOCATION:D2702
CATEGORIES:Atelier - Réalité virtuelle
ATTACH;FMTTYPE=image/jpeg:https://moebius.cegepmontpetit.ca/wp-content/uploads/sites/166/2025/09/Realite_Virtuelle_Chaises_Quest_3-1-scaled.jpg
END:VEVENT
BEGIN:VEVENT
DTSTART;VALUE=DATE:20260513
DTEND;VALUE=DATE:20260515
DTSTAMP:20260422T154500
CREATED:20250521T175826Z
LAST-MODIFIED:20250521T175826Z
UID:20869-1778652000-1778738399@moebius.cegepmontpetit.ca
SUMMARY:Épreuve uniforme de langue d'enseignement et littérature (EUL/EC)
DESCRIPTION:
URL:https://moebius.cegepmontpetit.ca/evenement/epreuve-uniforme-de-langue-denseignement-et-litterature-eul-ec-2/
LOCATION:D2702
END:VEVENT
BEGIN:VEVENT
DTSTART;TZID=America/Toronto:20260513T090000
DTEND;TZID=America/Toronto:20260513T110000
DTSTAMP:20260422T154500
CREATED:20260327T133115Z
LAST-MODIFIED:20260327T133115Z
UID:22525-1778662800-1778670000@moebius.cegepmontpetit.ca
SUMMARY:Réservation – Test RV Soins Infirmiers
DESCRIPTION:#90384
URL:https://moebius.cegepmontpetit.ca/evenement/reservation-test-rv-soins-infirmiers-4/
LOCATION:D2702
ATTACH;FMTTYPE=image/jpeg:https://moebius.cegepmontpetit.ca/wp-content/uploads/sites/166/2025/09/Realite_Virtuelle_Chaises_Quest_3-1-scaled.jpg
END:VEVENT
BEGIN:VEVENT
DTSTART;TZID=America/Toronto:20260513T130000
DTEND;TZID=America/Toronto:20260513T160000
DTSTAMP:20260422T154500
CREATED:20260119T195727Z
LAST-MODIFIED:20260119T195727Z
UID:22322-1778677200-1778688000@moebius.cegepmontpetit.ca
SUMMARY:Réservation – Cours Psychologie
DESCRIPTION:#87630\nBesoin: Kit Bimodale
URL:https://moebius.cegepmontpetit.ca/evenement/reservation-cours-psychologie-24/
LOCATION:D2702
CATEGORIES:Réservation de l'Espace Moebius
ATTACH;FMTTYPE=image/jpeg:https://moebius.cegepmontpetit.ca/wp-content/uploads/sites/166/2025/07/Espace_Moebius_-4-scaled.jpg
END:VEVENT
BEGIN:VEVENT
DTSTART;TZID=America/Toronto:20260514T073000
DTEND;TZID=America/Toronto:20260514T080000
DTSTAMP:20260422T154500
CREATED:20260120T131720Z
LAST-MODIFIED:20260407T135349Z
UID:22377-1778743800-1778745600@moebius.cegepmontpetit.ca
SUMMARY:Placement local grande table ronde pour 9 personnes
DESCRIPTION:
URL:https://moebius.cegepmontpetit.ca/evenement/placement-local-grande-table-ronde-pour-9-personnes-2/
LOCATION:D2702
END:VEVENT
BEGIN:VEVENT
DTSTART;TZID=America/Toronto:20260514T080000
DTEND;TZID=America/Toronto:20260514T130000
DTSTAMP:20260422T154500
CREATED:20260120T131639Z
LAST-MODIFIED:20260407T135409Z
UID:22375-1778745600-1778763600@moebius.cegepmontpetit.ca
SUMMARY:Réservation – Cours Techniques administratives
DESCRIPTION:#87648\nDisposition: grande table ronde pour 9 personnes\n– Téléviseur interactif : 1\n– Projecteur interactif : 1
URL:https://moebius.cegepmontpetit.ca/evenement/reservation-cours-techniques-administratives-9/
LOCATION:D2702
CATEGORIES:Réservation de l'Espace Moebius
ATTACH;FMTTYPE=image/jpeg:https://moebius.cegepmontpetit.ca/wp-content/uploads/sites/166/2025/07/Espace_Moebius_-4-scaled.jpg
END:VEVENT
BEGIN:VEVENT
DTSTART;TZID=America/Toronto:20260515T123000
DTEND;TZID=America/Toronto:20260515T153000
DTSTAMP:20260422T154500
CREATED:20260123T194359Z
LAST-MODIFIED:20260123T194359Z
UID:22429-1778848200-1778859000@moebius.cegepmontpetit.ca
SUMMARY:Réservation - Cours Techniques d'hygiène dentaire
DESCRIPTION:#87875\n– Aimants : Oui
URL:https://moebius.cegepmontpetit.ca/evenement/reservation-cours-techniques-dhygiene-dentaire-3/
LOCATION:D2702
CATEGORIES:Réservation de l'Espace Moebius
ATTACH;FMTTYPE=image/jpeg:https://moebius.cegepmontpetit.ca/wp-content/uploads/sites/166/2025/07/Espace_Moebius_-4-scaled.jpg
END:VEVENT
BEGIN:VEVENT
DTSTART;VALUE=DATE:20260518
DTEND;VALUE=DATE:20260520
DTSTAMP:20260422T154500
CREATED:20250521T180003Z
LAST-MODIFIED:20251014T144727Z
UID:20874-1779084000-1779170399@moebius.cegepmontpetit.ca
SUMMARY:Journée de reprise de cours (JR)
DESCRIPTION:
URL:https://moebius.cegepmontpetit.ca/evenement/journee-dencadrement-je-8/
LOCATION:D2702
END:VEVENT
END:VCALENDAR