BEGIN:VCALENDAR
VERSION:2.0
PRODID:-//Espace Moebius - ECPv6.0.12//NONSGML v1.0//EN
CALSCALE:GREGORIAN
METHOD:PUBLISH
X-ORIGINAL-URL:https://moebius.cegepmontpetit.ca
X-WR-CALDESC:évènements pour Espace Moebius
REFRESH-INTERVAL;VALUE=DURATION:PT1H
X-Robots-Tag:noindex
X-PUBLISHED-TTL:PT1H
BEGIN:VTIMEZONE
TZID:America/Toronto
BEGIN:DAYLIGHT
TZOFFSETFROM:-0500
TZOFFSETTO:-0400
TZNAME:EDT
DTSTART:20260308T070000
END:DAYLIGHT
BEGIN:STANDARD
TZOFFSETFROM:-0400
TZOFFSETTO:-0500
TZNAME:EST
DTSTART:20261101T060000
END:STANDARD
END:VTIMEZONE
BEGIN:VEVENT
DTSTART;TZID=America/Toronto:20260512T080000
DTEND;TZID=America/Toronto:20260512T120000
DTSTAMP:20260423T104850
CREATED:20260119T195612Z
LAST-MODIFIED:20260119T195612Z
UID:22320-1778572800-1778587200@moebius.cegepmontpetit.ca
SUMMARY:Réservation - Cours Psychologie
DESCRIPTION:#87630\nBesoin: Kit Bimodale
URL:https://moebius.cegepmontpetit.ca/evenement/reservation-cours-psychologie-22/
LOCATION:D2702
CATEGORIES:Réservation de l'Espace Moebius
ATTACH;FMTTYPE=image/jpeg:https://moebius.cegepmontpetit.ca/wp-content/uploads/sites/166/2025/07/Espace_Moebius_-4-scaled.jpg
END:VEVENT
BEGIN:VEVENT
DTSTART;TZID=America/Toronto:20260512T130000
DTEND;TZID=America/Toronto:20260512T160000
DTSTAMP:20260423T104850
CREATED:20260115T164537Z
LAST-MODIFIED:20260115T164559Z
UID:22205-1778590800-1778601600@moebius.cegepmontpetit.ca
SUMMARY:Réservation RV – Soins Infirmiers
DESCRIPTION:Problématique: Syndrome du compartiment (fracture) et chambre des erreurs (180-21B)\n6 station
URL:https://moebius.cegepmontpetit.ca/evenement/reservation-rv-soins-infirmiers-108/
LOCATION:D2702
CATEGORIES:Atelier - Réalité virtuelle
ATTACH;FMTTYPE=image/jpeg:https://moebius.cegepmontpetit.ca/wp-content/uploads/sites/166/2025/09/Realite_Virtuelle_Chaises_Quest_3-1-scaled.jpg
END:VEVENT
BEGIN:VEVENT
DTSTART;VALUE=DATE:20260513
DTEND;VALUE=DATE:20260515
DTSTAMP:20260423T104850
CREATED:20250521T175826Z
LAST-MODIFIED:20250521T175826Z
UID:20869-1778652000-1778738399@moebius.cegepmontpetit.ca
SUMMARY:Épreuve uniforme de langue d'enseignement et littérature (EUL/EC)
DESCRIPTION:
URL:https://moebius.cegepmontpetit.ca/evenement/epreuve-uniforme-de-langue-denseignement-et-litterature-eul-ec-2/
LOCATION:D2702
END:VEVENT
BEGIN:VEVENT
DTSTART;TZID=America/Toronto:20260513T090000
DTEND;TZID=America/Toronto:20260513T110000
DTSTAMP:20260423T104850
CREATED:20260327T133115Z
LAST-MODIFIED:20260327T133115Z
UID:22525-1778662800-1778670000@moebius.cegepmontpetit.ca
SUMMARY:Réservation – Test RV Soins Infirmiers
DESCRIPTION:#90384
URL:https://moebius.cegepmontpetit.ca/evenement/reservation-test-rv-soins-infirmiers-4/
LOCATION:D2702
ATTACH;FMTTYPE=image/jpeg:https://moebius.cegepmontpetit.ca/wp-content/uploads/sites/166/2025/09/Realite_Virtuelle_Chaises_Quest_3-1-scaled.jpg
END:VEVENT
BEGIN:VEVENT
DTSTART;TZID=America/Toronto:20260513T130000
DTEND;TZID=America/Toronto:20260513T160000
DTSTAMP:20260423T104850
CREATED:20260119T195727Z
LAST-MODIFIED:20260119T195727Z
UID:22322-1778677200-1778688000@moebius.cegepmontpetit.ca
SUMMARY:Réservation – Cours Psychologie
DESCRIPTION:#87630\nBesoin: Kit Bimodale
URL:https://moebius.cegepmontpetit.ca/evenement/reservation-cours-psychologie-24/
LOCATION:D2702
CATEGORIES:Réservation de l'Espace Moebius
ATTACH;FMTTYPE=image/jpeg:https://moebius.cegepmontpetit.ca/wp-content/uploads/sites/166/2025/07/Espace_Moebius_-4-scaled.jpg
END:VEVENT
BEGIN:VEVENT
DTSTART;TZID=America/Toronto:20260514T073000
DTEND;TZID=America/Toronto:20260514T080000
DTSTAMP:20260423T104850
CREATED:20260120T131720Z
LAST-MODIFIED:20260407T135349Z
UID:22377-1778743800-1778745600@moebius.cegepmontpetit.ca
SUMMARY:Placement local grande table ronde pour 9 personnes
DESCRIPTION:
URL:https://moebius.cegepmontpetit.ca/evenement/placement-local-grande-table-ronde-pour-9-personnes-2/
LOCATION:D2702
END:VEVENT
BEGIN:VEVENT
DTSTART;TZID=America/Toronto:20260514T080000
DTEND;TZID=America/Toronto:20260514T130000
DTSTAMP:20260423T104850
CREATED:20260120T131639Z
LAST-MODIFIED:20260407T135409Z
UID:22375-1778745600-1778763600@moebius.cegepmontpetit.ca
SUMMARY:Réservation – Cours Techniques administratives
DESCRIPTION:#87648\nDisposition: grande table ronde pour 9 personnes\n– Téléviseur interactif : 1\n– Projecteur interactif : 1
URL:https://moebius.cegepmontpetit.ca/evenement/reservation-cours-techniques-administratives-9/
LOCATION:D2702
CATEGORIES:Réservation de l'Espace Moebius
ATTACH;FMTTYPE=image/jpeg:https://moebius.cegepmontpetit.ca/wp-content/uploads/sites/166/2025/07/Espace_Moebius_-4-scaled.jpg
END:VEVENT
BEGIN:VEVENT
DTSTART;TZID=America/Toronto:20260515T123000
DTEND;TZID=America/Toronto:20260515T153000
DTSTAMP:20260423T104850
CREATED:20260123T194359Z
LAST-MODIFIED:20260123T194359Z
UID:22429-1778848200-1778859000@moebius.cegepmontpetit.ca
SUMMARY:Réservation - Cours Techniques d'hygiène dentaire
DESCRIPTION:#87875\n– Aimants : Oui
URL:https://moebius.cegepmontpetit.ca/evenement/reservation-cours-techniques-dhygiene-dentaire-3/
LOCATION:D2702
CATEGORIES:Réservation de l'Espace Moebius
ATTACH;FMTTYPE=image/jpeg:https://moebius.cegepmontpetit.ca/wp-content/uploads/sites/166/2025/07/Espace_Moebius_-4-scaled.jpg
END:VEVENT
BEGIN:VEVENT
DTSTART;VALUE=DATE:20260518
DTEND;VALUE=DATE:20260520
DTSTAMP:20260423T104850
CREATED:20250521T180003Z
LAST-MODIFIED:20251014T144727Z
UID:20874-1779084000-1779170399@moebius.cegepmontpetit.ca
SUMMARY:Journée de reprise de cours (JR)
DESCRIPTION:
URL:https://moebius.cegepmontpetit.ca/evenement/journee-dencadrement-je-8/
LOCATION:D2702
END:VEVENT
BEGIN:VEVENT
DTSTART;TZID=America/Toronto:20260518T130000
DTEND;TZID=America/Toronto:20260518T160000
DTSTAMP:20260423T104850
CREATED:20260120T202023Z
LAST-MODIFIED:20260120T202023Z
UID:22401-1779109200-1779120000@moebius.cegepmontpetit.ca
SUMMARY:Réservation – Cours Psychologie
DESCRIPTION:#87700\nBesoin: Kit Bimodale
URL:https://moebius.cegepmontpetit.ca/evenement/reservation-cours-psychologie-28/
LOCATION:D2702
CATEGORIES:Réservation de l'Espace Moebius
ATTACH;FMTTYPE=image/jpeg:https://moebius.cegepmontpetit.ca/wp-content/uploads/sites/166/2025/07/Espace_Moebius_-4-scaled.jpg
END:VEVENT
BEGIN:VEVENT
DTSTART;VALUE=DATE:20260519
DTEND;VALUE=DATE:20260521
DTSTAMP:20260423T104850
CREATED:20250521T180110Z
LAST-MODIFIED:20251014T144941Z
UID:20876-1779170400-1779256799@moebius.cegepmontpetit.ca
SUMMARY:Évaluations terminales selon l'horaire régulier des cours (EHR)
DESCRIPTION:
URL:https://moebius.cegepmontpetit.ca/evenement/evaluations-terminales-selon-lhoraire-regulier-des-cours-ehr-11/
LOCATION:D2702
END:VEVENT
BEGIN:VEVENT
DTSTART;TZID=America/Toronto:20260519T130000
DTEND;TZID=America/Toronto:20260519T160000
DTSTAMP:20260423T104850
CREATED:20260120T202124Z
LAST-MODIFIED:20260120T202124Z
UID:22403-1779195600-1779206400@moebius.cegepmontpetit.ca
SUMMARY:Réservation – Cours Psychologie
DESCRIPTION:#87700\nBesoin: Kit Bimodale
URL:https://moebius.cegepmontpetit.ca/evenement/reservation-cours-psychologie-29/
LOCATION:D2702
CATEGORIES:Réservation de l'Espace Moebius
ATTACH;FMTTYPE=image/jpeg:https://moebius.cegepmontpetit.ca/wp-content/uploads/sites/166/2025/07/Espace_Moebius_-4-scaled.jpg
END:VEVENT
BEGIN:VEVENT
DTSTART;VALUE=DATE:20260520
DTEND;VALUE=DATE:20260522
DTSTAMP:20260423T104850
CREATED:20251014T145440Z
LAST-MODIFIED:20251014T145440Z
UID:22041-1779256800-1779343199@moebius.cegepmontpetit.ca
SUMMARY:Évaluations terminales communes (EC)
DESCRIPTION:
URL:https://moebius.cegepmontpetit.ca/evenement/evaluations-terminales-communes-ec-13/
LOCATION:D2702
END:VEVENT
BEGIN:VEVENT
DTSTART;TZID=America/Toronto:20260520T100000
DTEND;TZID=America/Toronto:20260520T133000
DTSTAMP:20260423T104850
CREATED:20260119T195838Z
LAST-MODIFIED:20260119T195838Z
UID:22324-1779271200-1779283800@moebius.cegepmontpetit.ca
SUMMARY:Réservation – Cours Psychologie
DESCRIPTION:#87630\nBesoin: Kit Bimodale
URL:https://moebius.cegepmontpetit.ca/evenement/reservation-cours-psychologie-25/
LOCATION:D2702
CATEGORIES:Réservation de l'Espace Moebius
ATTACH;FMTTYPE=image/jpeg:https://moebius.cegepmontpetit.ca/wp-content/uploads/sites/166/2025/07/Espace_Moebius_-4-scaled.jpg
END:VEVENT
BEGIN:VEVENT
DTSTART;VALUE=DATE:20260521
DTEND;VALUE=DATE:20260523
DTSTAMP:20260423T104850
CREATED:20250521T180142Z
LAST-MODIFIED:20251014T145918Z
UID:20879-1779343200-1779429599@moebius.cegepmontpetit.ca
SUMMARY:Évaluations terminales selon l'horaire régulier des cours (EHR)
DESCRIPTION:
URL:https://moebius.cegepmontpetit.ca/evenement/evaluations-terminales-communes-ec-11/
LOCATION:D2702
END:VEVENT
BEGIN:VEVENT
DTSTART;TZID=America/Toronto:20260521T083000
DTEND;TZID=America/Toronto:20260521T163000
DTSTAMP:20260423T104850
CREATED:20260227T132715Z
LAST-MODIFIED:20260227T132715Z
UID:22492-1779352200-1779381000@moebius.cegepmontpetit.ca
SUMMARY:Réservation - Cours Techniques administratives
DESCRIPTION:#89369 \nPrésentation sous forme de table ronde\nPlusieurs petits groupes d’étudiants au courant de la journée
URL:https://moebius.cegepmontpetit.ca/evenement/reservation-cours-techniques-administratives-10/
LOCATION:D2702
CATEGORIES:Réservation de l'Espace Moebius
ATTACH;FMTTYPE=image/jpeg:https://moebius.cegepmontpetit.ca/wp-content/uploads/sites/166/2025/07/Espace_Moebius_-4-scaled.jpg
END:VEVENT
BEGIN:VEVENT
DTSTART;VALUE=DATE:20260522
DTEND;VALUE=DATE:20260524
DTSTAMP:20260423T104850
CREATED:20250521T180226Z
LAST-MODIFIED:20250521T180226Z
UID:20881-1779429600-1779515999@moebius.cegepmontpetit.ca
SUMMARY:Évaluations terminales selon l'horaire régulier des cours (EHR)
DESCRIPTION:
URL:https://moebius.cegepmontpetit.ca/evenement/evaluations-terminales-selon-lhoraire-regulier-des-cours-ehr-12/
LOCATION:D2702
END:VEVENT
BEGIN:VEVENT
DTSTART;VALUE=DATE:20260525
DTEND;VALUE=DATE:20260527
DTSTAMP:20260423T104850
CREATED:20250521T180253Z
LAST-MODIFIED:20250521T180253Z
UID:20883-1779688800-1779775199@moebius.cegepmontpetit.ca
SUMMARY:Évaluations terminales selon l'horaire régulier des cours (EHR)
DESCRIPTION:
URL:https://moebius.cegepmontpetit.ca/evenement/evaluations-terminales-selon-lhoraire-regulier-des-cours-ehr-13/
LOCATION:D2702
END:VEVENT
BEGIN:VEVENT
DTSTART;TZID=America/Toronto:20260525T090000
DTEND;TZID=America/Toronto:20260525T120000
DTSTAMP:20260423T104850
CREATED:20260119T132825Z
LAST-MODIFIED:20260119T152703Z
UID:22236-1779699600-1779710400@moebius.cegepmontpetit.ca
SUMMARY:Réservation – Communauté EVA
DESCRIPTION:Disposition: en cercle
URL:https://moebius.cegepmontpetit.ca/evenement/reservation-communaute-eva-2/
LOCATION:D2702
CATEGORIES:Réservation de l'Espace Moebius
ATTACH;FMTTYPE=image/jpeg:https://moebius.cegepmontpetit.ca/wp-content/uploads/sites/166/2025/07/Espace_Moebius_-4-scaled.jpg
END:VEVENT
BEGIN:VEVENT
DTSTART;VALUE=DATE:20260526
DTEND;VALUE=DATE:20260528
DTSTAMP:20260423T104850
CREATED:20251014T150228Z
LAST-MODIFIED:20251014T150228Z
UID:22045-1779775200-1779861599@moebius.cegepmontpetit.ca
SUMMARY:Évaluations terminales communes (EC)
DESCRIPTION:
URL:https://moebius.cegepmontpetit.ca/evenement/evaluations-terminales-communes-ec-14/
LOCATION:D2702
END:VEVENT
BEGIN:VEVENT
DTSTART;TZID=America/Toronto:20260526T080000
DTEND;TZID=America/Toronto:20260526T120000
DTSTAMP:20260423T104850
CREATED:20260119T200013Z
LAST-MODIFIED:20260119T200013Z
UID:22326-1779782400-1779796800@moebius.cegepmontpetit.ca
SUMMARY:Réservation – Cours Psychologie
DESCRIPTION:#87630\nBesoin: Kit Bimodale
URL:https://moebius.cegepmontpetit.ca/evenement/reservation-cours-psychologie-26/
LOCATION:D2702
CATEGORIES:Réservation de l'Espace Moebius
ATTACH;FMTTYPE=image/jpeg:https://moebius.cegepmontpetit.ca/wp-content/uploads/sites/166/2025/07/Espace_Moebius_-4-scaled.jpg
END:VEVENT
BEGIN:VEVENT
DTSTART;VALUE=DATE:20260527
DTEND;VALUE=DATE:20260529
DTSTAMP:20260423T104850
CREATED:20251014T150405Z
LAST-MODIFIED:20251014T150405Z
UID:22047-1779861600-1779947999@moebius.cegepmontpetit.ca
SUMMARY:Évaluations terminales selon l’horaire régulier des cours (EHR)
DESCRIPTION:
URL:https://moebius.cegepmontpetit.ca/evenement/evaluations-terminales-selon-lhoraire-regulier-des-cours-ehr-15/
LOCATION:D2702
END:VEVENT
BEGIN:VEVENT
DTSTART;TZID=America/Toronto:20260527T100000
DTEND;TZID=America/Toronto:20260527T130000
DTSTAMP:20260423T104850
CREATED:20260119T200124Z
LAST-MODIFIED:20260119T200124Z
UID:22328-1779876000-1779886800@moebius.cegepmontpetit.ca
SUMMARY:Réservation – Cours Psychologie
DESCRIPTION:#87630\nBesoin: Kit Bimodale
URL:https://moebius.cegepmontpetit.ca/evenement/reservation-cours-psychologie-27/
LOCATION:D2702
CATEGORIES:Réservation de l'Espace Moebius
ATTACH;FMTTYPE=image/jpeg:https://moebius.cegepmontpetit.ca/wp-content/uploads/sites/166/2025/07/Espace_Moebius_-4-scaled.jpg
END:VEVENT
BEGIN:VEVENT
DTSTART;VALUE=DATE:20260528
DTEND;VALUE=DATE:20260530
DTSTAMP:20260423T104850
CREATED:20250521T180554Z
LAST-MODIFIED:20251014T150514Z
UID:20888-1779948000-1780034399@moebius.cegepmontpetit.ca
SUMMARY:Évaluations terminales communes (EC)
DESCRIPTION:
URL:https://moebius.cegepmontpetit.ca/evenement/evaluations-terminales-selon-lhoraire-regulier-des-cours-ehr-14/
LOCATION:D2702
END:VEVENT
BEGIN:VEVENT
DTSTART;TZID=America/Toronto:20260528T080000
DTEND;TZID=America/Toronto:20260528T130000
DTSTAMP:20260423T104850
CREATED:20260217T205202Z
LAST-MODIFIED:20260217T205202Z
UID:22484-1779955200-1779973200@moebius.cegepmontpetit.ca
SUMMARY:Réservation - Forum des TTP
DESCRIPTION:#89099 \nNombre de place :60
URL:https://moebius.cegepmontpetit.ca/evenement/reservation-forum-des-ttp/
LOCATION:D2702
CATEGORIES:Réservation de l'Espace Moebius
ATTACH;FMTTYPE=image/jpeg:https://moebius.cegepmontpetit.ca/wp-content/uploads/sites/166/2025/07/Espace_Moebius_-4-scaled.jpg
END:VEVENT
BEGIN:VEVENT
DTSTART;VALUE=DATE:20260529
DTEND;VALUE=DATE:20260531
DTSTAMP:20260423T104850
CREATED:20250521T180631Z
LAST-MODIFIED:20250521T180631Z
UID:20890-1780034400-1780120799@moebius.cegepmontpetit.ca
SUMMARY:Journée provisoire particulière d'enseignement (JPR)
DESCRIPTION:
URL:https://moebius.cegepmontpetit.ca/evenement/journee-provisoire-particuliere-denseignement-jpr-5/
LOCATION:D2702
END:VEVENT
BEGIN:VEVENT
DTSTART;TZID=America/Toronto:20260601T120000
DTEND;TZID=America/Toronto:20260601T130000
DTSTAMP:20260423T104850
CREATED:20260109T134119Z
LAST-MODIFIED:20260109T134119Z
UID:22129-1780315200-1780318800@moebius.cegepmontpetit.ca
SUMMARY:Dîner TTP – Local Fermé
DESCRIPTION:
URL:https://moebius.cegepmontpetit.ca/evenement/diner-ttp-local-ferme-19/
LOCATION:D2702
CATEGORIES:Local fermé
ATTACH;FMTTYPE=image/jpeg:https://moebius.cegepmontpetit.ca/wp-content/uploads/sites/166/2019/07/1090639.jpg
END:VEVENT
BEGIN:VEVENT
DTSTART;TZID=America/Toronto:20260602T120000
DTEND;TZID=America/Toronto:20260602T130000
DTSTAMP:20260423T104850
CREATED:20260109T134119Z
LAST-MODIFIED:20260109T134119Z
UID:22130-1780401600-1780405200@moebius.cegepmontpetit.ca
SUMMARY:Dîner TTP – Local Fermé
DESCRIPTION:
URL:https://moebius.cegepmontpetit.ca/evenement/diner-ttp-local-ferme-19/2026-06-02/
LOCATION:D2702
CATEGORIES:Local fermé
ATTACH;FMTTYPE=image/jpeg:https://moebius.cegepmontpetit.ca/wp-content/uploads/sites/166/2019/07/1090639.jpg
END:VEVENT
BEGIN:VEVENT
DTSTART;TZID=America/Toronto:20260603T120000
DTEND;TZID=America/Toronto:20260603T130000
DTSTAMP:20260423T104850
CREATED:20260109T134119Z
LAST-MODIFIED:20260109T134119Z
UID:22131-1780488000-1780491600@moebius.cegepmontpetit.ca
SUMMARY:Dîner TTP – Local Fermé
DESCRIPTION:
URL:https://moebius.cegepmontpetit.ca/evenement/diner-ttp-local-ferme-19/2026-06-03/
LOCATION:D2702
CATEGORIES:Local fermé
ATTACH;FMTTYPE=image/jpeg:https://moebius.cegepmontpetit.ca/wp-content/uploads/sites/166/2019/07/1090639.jpg
END:VEVENT
BEGIN:VEVENT
DTSTART;TZID=America/Toronto:20260604T120000
DTEND;TZID=America/Toronto:20260604T130000
DTSTAMP:20260423T104850
CREATED:20260109T134119Z
LAST-MODIFIED:20260109T134119Z
UID:22132-1780574400-1780578000@moebius.cegepmontpetit.ca
SUMMARY:Dîner TTP – Local Fermé
DESCRIPTION:
URL:https://moebius.cegepmontpetit.ca/evenement/diner-ttp-local-ferme-19/2026-06-04/
LOCATION:D2702
CATEGORIES:Local fermé
ATTACH;FMTTYPE=image/jpeg:https://moebius.cegepmontpetit.ca/wp-content/uploads/sites/166/2019/07/1090639.jpg
END:VEVENT
END:VCALENDAR