BEGIN:VCALENDAR
VERSION:2.0
PRODID:-//Espace Moebius - ECPv6.0.12//NONSGML v1.0//EN
CALSCALE:GREGORIAN
METHOD:PUBLISH
X-ORIGINAL-URL:https://moebius.cegepmontpetit.ca
X-WR-CALDESC:évènements pour Espace Moebius
REFRESH-INTERVAL;VALUE=DURATION:PT1H
X-Robots-Tag:noindex
X-PUBLISHED-TTL:PT1H
BEGIN:VTIMEZONE
TZID:America/Toronto
BEGIN:DAYLIGHT
TZOFFSETFROM:-0500
TZOFFSETTO:-0400
TZNAME:EDT
DTSTART:20260308T070000
END:DAYLIGHT
BEGIN:STANDARD
TZOFFSETFROM:-0400
TZOFFSETTO:-0500
TZNAME:EST
DTSTART:20261101T060000
END:STANDARD
END:VTIMEZONE
BEGIN:VEVENT
DTSTART;TZID=America/Toronto:20260617T120000
DTEND;TZID=America/Toronto:20260617T130000
DTSTAMP:20260423T172659
CREATED:20260109T134954Z
LAST-MODIFIED:20260109T134954Z
UID:22143-1781697600-1781701200@moebius.cegepmontpetit.ca
SUMMARY:Dîner TTP – Local Fermé
DESCRIPTION:
URL:https://moebius.cegepmontpetit.ca/evenement/diner-ttp-local-ferme-21/2026-06-17/
LOCATION:D2702
CATEGORIES:Local fermé
ATTACH;FMTTYPE=image/jpeg:https://moebius.cegepmontpetit.ca/wp-content/uploads/sites/166/2019/07/1090639.jpg
END:VEVENT
BEGIN:VEVENT
DTSTART;TZID=America/Toronto:20260618T120000
DTEND;TZID=America/Toronto:20260618T130000
DTSTAMP:20260423T172659
CREATED:20260109T134954Z
LAST-MODIFIED:20260109T134954Z
UID:22144-1781784000-1781787600@moebius.cegepmontpetit.ca
SUMMARY:Dîner TTP – Local Fermé
DESCRIPTION:
URL:https://moebius.cegepmontpetit.ca/evenement/diner-ttp-local-ferme-21/2026-06-18/
LOCATION:D2702
CATEGORIES:Local fermé
ATTACH;FMTTYPE=image/jpeg:https://moebius.cegepmontpetit.ca/wp-content/uploads/sites/166/2019/07/1090639.jpg
END:VEVENT
BEGIN:VEVENT
DTSTART;TZID=America/Toronto:20260619T120000
DTEND;TZID=America/Toronto:20260619T130000
DTSTAMP:20260423T172659
CREATED:20260109T134954Z
LAST-MODIFIED:20260109T134954Z
UID:22145-1781870400-1781874000@moebius.cegepmontpetit.ca
SUMMARY:Dîner TTP – Local Fermé
DESCRIPTION:
URL:https://moebius.cegepmontpetit.ca/evenement/diner-ttp-local-ferme-21/2026-06-19/
LOCATION:D2702
CATEGORIES:Local fermé
ATTACH;FMTTYPE=image/jpeg:https://moebius.cegepmontpetit.ca/wp-content/uploads/sites/166/2019/07/1090639.jpg
END:VEVENT
BEGIN:VEVENT
DTSTART;TZID=America/Toronto:20260622T120000
DTEND;TZID=America/Toronto:20260622T130000
DTSTAMP:20260423T172659
CREATED:20260109T135121Z
LAST-MODIFIED:20260109T135121Z
UID:22147-1782129600-1782133200@moebius.cegepmontpetit.ca
SUMMARY:Dîner TTP – Local Fermé
DESCRIPTION:
URL:https://moebius.cegepmontpetit.ca/evenement/diner-ttp-local-ferme-22/
LOCATION:D2702
CATEGORIES:Local fermé
ATTACH;FMTTYPE=image/jpeg:https://moebius.cegepmontpetit.ca/wp-content/uploads/sites/166/2019/07/1090639.jpg
END:VEVENT
BEGIN:VEVENT
DTSTART;TZID=America/Toronto:20260623T120000
DTEND;TZID=America/Toronto:20260623T130000
DTSTAMP:20260423T172659
CREATED:20260109T142343Z
LAST-MODIFIED:20260109T142343Z
UID:22154-1782216000-1782219600@moebius.cegepmontpetit.ca
SUMMARY:Dîner TTP – Local Fermé
DESCRIPTION:
URL:https://moebius.cegepmontpetit.ca/evenement/diner-ttp-local-ferme-23-2026-06-23/
LOCATION:D2702
CATEGORIES:Local fermé
ATTACH;FMTTYPE=image/jpeg:https://moebius.cegepmontpetit.ca/wp-content/uploads/sites/166/2019/07/1090639.jpg
END:VEVENT
BEGIN:VEVENT
DTSTART;TZID=America/Toronto:20260624T120000
DTEND;TZID=America/Toronto:20260624T130000
DTSTAMP:20260423T172659
CREATED:20260109T142343Z
LAST-MODIFIED:20260109T142343Z
UID:22155-1782302400-1782306000@moebius.cegepmontpetit.ca
SUMMARY:Dîner TTP – Local Fermé
DESCRIPTION:
URL:https://moebius.cegepmontpetit.ca/evenement/diner-ttp-local-ferme-23-2026-06-24/
LOCATION:D2702
CATEGORIES:Local fermé
ATTACH;FMTTYPE=image/jpeg:https://moebius.cegepmontpetit.ca/wp-content/uploads/sites/166/2019/07/1090639.jpg
END:VEVENT
BEGIN:VEVENT
DTSTART;TZID=America/Toronto:20260625T120000
DTEND;TZID=America/Toronto:20260625T130000
DTSTAMP:20260423T172659
CREATED:20260109T142343Z
LAST-MODIFIED:20260109T142343Z
UID:22156-1782388800-1782392400@moebius.cegepmontpetit.ca
SUMMARY:Dîner TTP – Local Fermé
DESCRIPTION:
URL:https://moebius.cegepmontpetit.ca/evenement/diner-ttp-local-ferme-23-2026-06-25/
LOCATION:D2702
CATEGORIES:Local fermé
ATTACH;FMTTYPE=image/jpeg:https://moebius.cegepmontpetit.ca/wp-content/uploads/sites/166/2019/07/1090639.jpg
END:VEVENT
BEGIN:VEVENT
DTSTART;TZID=America/Toronto:20260626T120000
DTEND;TZID=America/Toronto:20260626T130000
DTSTAMP:20260423T172659
CREATED:20260109T142343Z
LAST-MODIFIED:20260109T142343Z
UID:22157-1782475200-1782478800@moebius.cegepmontpetit.ca
SUMMARY:Dîner TTP – Local Fermé
DESCRIPTION:
URL:https://moebius.cegepmontpetit.ca/evenement/diner-ttp-local-ferme-23-2026-06-26/
LOCATION:D2702
CATEGORIES:Local fermé
ATTACH;FMTTYPE=image/jpeg:https://moebius.cegepmontpetit.ca/wp-content/uploads/sites/166/2019/07/1090639.jpg
END:VEVENT
END:VCALENDAR