BEGIN:VCALENDAR
VERSION:2.0
PRODID:-//Espace Moebius - ECPv6.0.12//NONSGML v1.0//EN
CALSCALE:GREGORIAN
METHOD:PUBLISH
X-ORIGINAL-URL:https://moebius.cegepmontpetit.ca
X-WR-CALDESC:évènements pour Espace Moebius
REFRESH-INTERVAL;VALUE=DURATION:PT1H
X-Robots-Tag:noindex
X-PUBLISHED-TTL:PT1H
BEGIN:VTIMEZONE
TZID:America/Toronto
BEGIN:DAYLIGHT
TZOFFSETFROM:-0500
TZOFFSETTO:-0400
TZNAME:EDT
DTSTART:20230312T070000
END:DAYLIGHT
BEGIN:STANDARD
TZOFFSETFROM:-0400
TZOFFSETTO:-0500
TZNAME:EST
DTSTART:20231105T060000
END:STANDARD
END:VTIMEZONE
BEGIN:VEVENT
DTSTART;TZID=America/Toronto:20231101T120000
DTEND;TZID=America/Toronto:20231101T140000
DTSTAMP:20260424T201952
CREATED:20231002T122632Z
LAST-MODIFIED:20231002T122632Z
UID:16982-1698840000-1698847200@moebius.cegepmontpetit.ca
SUMMARY:Réservation Espace Moebius - Événement Livres vivants
DESCRIPTION:Coin discussion en quelques ilôt de 2-3 personnes pour discussion. \nTableau blanc pour séparer.
URL:https://moebius.cegepmontpetit.ca/evenement/reservation-espace-moebius-evenement-livres-vivants-2/
LOCATION:D2702
CATEGORIES:Événement spécial,Imprimante en fonction,Réservation de l'Espace Moebius
ATTACH;FMTTYPE=image/png:https://moebius.cegepmontpetit.ca/wp-content/uploads/sites/166/2020/02/littérature-et-français.png
END:VEVENT
BEGIN:VEVENT
DTSTART;TZID=America/Toronto:20231102T080000
DTEND;TZID=America/Toronto:20231102T120000
DTSTAMP:20260424T201952
CREATED:20231027T194549Z
LAST-MODIFIED:20231027T194549Z
UID:17041-1698912000-1698926400@moebius.cegepmontpetit.ca
SUMMARY:Local fermé
DESCRIPTION:
URL:https://moebius.cegepmontpetit.ca/evenement/local-ferme-144/
LOCATION:D2702
ATTACH;FMTTYPE=image/jpeg:https://moebius.cegepmontpetit.ca/wp-content/uploads/sites/166/2019/07/1090633-Modifier-e1562721284853.jpg
END:VEVENT
BEGIN:VEVENT
DTSTART;TZID=America/Toronto:20231102T120000
DTEND;TZID=America/Toronto:20231102T140000
DTSTAMP:20260424T201952
CREATED:20230818T193918Z
LAST-MODIFIED:20230818T193918Z
UID:16901-1698926400-1698933600@moebius.cegepmontpetit.ca
SUMMARY:Réservation Espace Moebius - Cours Littérature
DESCRIPTION:
URL:https://moebius.cegepmontpetit.ca/evenement/reservation-espace-moebius-cours-litterature-4/
LOCATION:D2702
CATEGORIES:1 portable par étudiant,Besoin de portables,Imprimante en fonction,Mode exclusif,Réservation de l'Espace Moebius,Téléviseur interactif 1x
ATTACH;FMTTYPE=image/png:https://moebius.cegepmontpetit.ca/wp-content/uploads/sites/166/2020/02/littérature-et-français.png
END:VEVENT
BEGIN:VEVENT
DTSTART;TZID=America/Toronto:20231102T140000
DTEND;TZID=America/Toronto:20231102T160000
DTSTAMP:20260424T201952
CREATED:20231027T194638Z
LAST-MODIFIED:20231027T194638Z
UID:17043-1698933600-1698940800@moebius.cegepmontpetit.ca
SUMMARY:Local fermé
DESCRIPTION:
URL:https://moebius.cegepmontpetit.ca/evenement/local-ferme-145/
LOCATION:D2702
ATTACH;FMTTYPE=image/jpeg:https://moebius.cegepmontpetit.ca/wp-content/uploads/sites/166/2019/07/1090633-Modifier-e1562721284853.jpg
END:VEVENT
BEGIN:VEVENT
DTSTART;TZID=America/Toronto:20231103T080000
DTEND;TZID=America/Toronto:20231103T160000
DTSTAMP:20260424T201952
CREATED:20231027T194732Z
LAST-MODIFIED:20231027T194732Z
UID:17045-1698998400-1699027200@moebius.cegepmontpetit.ca
SUMMARY:Local Fermé
DESCRIPTION:
URL:https://moebius.cegepmontpetit.ca/evenement/local-ferme-146/
LOCATION:D2702
ATTACH;FMTTYPE=image/jpeg:https://moebius.cegepmontpetit.ca/wp-content/uploads/sites/166/2019/07/1090639.jpg
END:VEVENT
BEGIN:VEVENT
DTSTART;TZID=America/Toronto:20231106T080000
DTEND;TZID=America/Toronto:20231106T120000
DTSTAMP:20260424T201952
CREATED:20231027T194829Z
LAST-MODIFIED:20231027T194829Z
UID:17047-1699257600-1699272000@moebius.cegepmontpetit.ca
SUMMARY:Local Fermé - Grève Front Commun
DESCRIPTION:
URL:https://moebius.cegepmontpetit.ca/evenement/local-ferme-greve-front-commun/
LOCATION:D2702
ATTACH;FMTTYPE=image/jpeg:https://moebius.cegepmontpetit.ca/wp-content/uploads/sites/166/2019/07/1090633-Modifier-e1562721284853.jpg
END:VEVENT
BEGIN:VEVENT
DTSTART;TZID=America/Toronto:20231106T150000
DTEND;TZID=America/Toronto:20231106T180000
DTSTAMP:20260424T201952
CREATED:20231101T132619Z
LAST-MODIFIED:20231101T133213Z
UID:17059-1699282800-1699293600@moebius.cegepmontpetit.ca
SUMMARY:Réservation Espace Moebius - Cours Sociologie
DESCRIPTION:Réservation pour travail d’équipe\, disposition classique.
URL:https://moebius.cegepmontpetit.ca/evenement/reservation-espace-moebius-cours-sociologie/
LOCATION:D2702
CATEGORIES:1 portable par étudiant,Besoin de portables,Imprimante en fonction,Réservation - CLAAC
ATTACH;FMTTYPE=image/png:https://moebius.cegepmontpetit.ca/wp-content/uploads/sites/166/2021/08/travail-equipe.png
END:VEVENT
BEGIN:VEVENT
DTSTART;TZID=America/Toronto:20231107T120000
DTEND;TZID=America/Toronto:20231107T150000
DTSTAMP:20260424T201952
CREATED:20231101T133202Z
LAST-MODIFIED:20231101T133202Z
UID:17061-1699358400-1699369200@moebius.cegepmontpetit.ca
SUMMARY:Réservation Espace Moebius - Cours Sociologie
DESCRIPTION:Réservation pour travail d’équipe\, disposition classique.
URL:https://moebius.cegepmontpetit.ca/evenement/reservation-espace-moebius-cours-sociologie-2/
LOCATION:D2702
CATEGORIES:1 portable par étudiant,Besoin de portables,Imprimante en fonction,Mode exclusif,Réservation - CLAAC
ATTACH;FMTTYPE=image/png:https://moebius.cegepmontpetit.ca/wp-content/uploads/sites/166/2021/08/travail-equipe.png
END:VEVENT
BEGIN:VEVENT
DTSTART;TZID=America/Toronto:20231108T080000
DTEND;TZID=America/Toronto:20231108T120000
DTSTAMP:20260424T201952
CREATED:20230818T185505Z
LAST-MODIFIED:20230818T185513Z
UID:16887-1699430400-1699444800@moebius.cegepmontpetit.ca
SUMMARY:Réservation Espace Moebius - RV Soins infirmiers
DESCRIPTION:Simulation 419
URL:https://moebius.cegepmontpetit.ca/evenement/reservation-espace-moebius-rv-soins-infirmiers-15/
LOCATION:D2702
CATEGORIES:Atelier - Réalité virtuelle,Besoin de portables,Imprimante en fonction,Mode exclusif,Réservation de l'Espace Moebius,Téléviseur interactif 1x
ATTACH;FMTTYPE=image/jpeg:https://moebius.cegepmontpetit.ca/wp-content/uploads/sites/166/2019/04/OculusRift.jpg
END:VEVENT
BEGIN:VEVENT
DTSTART;TZID=America/Toronto:20231108T120000
DTEND;TZID=America/Toronto:20231108T190000
DTSTAMP:20260424T201952
CREATED:20230823T123122Z
LAST-MODIFIED:20230921T195022Z
UID:16936-1699444800-1699470000@moebius.cegepmontpetit.ca
SUMMARY:Réservation Espace Moebius - Atelier et Soirée de l'entrepreneuriat (Fondation)
DESCRIPTION:
URL:https://moebius.cegepmontpetit.ca/evenement/reservation-espace-moebius-soiree-de-lentrepreneuriat-fondation/
LOCATION:D2702
CATEGORIES:Événement spécial,Mode exclusif
ATTACH;FMTTYPE=image/png:https://moebius.cegepmontpetit.ca/wp-content/uploads/sites/166/2021/08/Club-entrepreneur.png
END:VEVENT
BEGIN:VEVENT
DTSTART;TZID=America/Toronto:20231108T190000
DTEND;TZID=America/Toronto:20231108T203000
DTSTAMP:20260424T201952
CREATED:20230921T195351Z
LAST-MODIFIED:20230921T195737Z
UID:16971-1699470000-1699475400@moebius.cegepmontpetit.ca
SUMMARY:Événement Portes Ouvertes
DESCRIPTION:
URL:https://moebius.cegepmontpetit.ca/evenement/evenement-portes-ouvertes/
LOCATION:D2702
CATEGORIES:Événement spécial
ATTACH;FMTTYPE=image/png:https://moebius.cegepmontpetit.ca/wp-content/uploads/sites/166/2022/05/portes-ouvertes.png
END:VEVENT
BEGIN:VEVENT
DTSTART;TZID=America/Toronto:20231109T080000
DTEND;TZID=America/Toronto:20231109T120000
DTSTAMP:20260424T201952
CREATED:20230818T185806Z
LAST-MODIFIED:20230818T185827Z
UID:16892-1699516800-1699531200@moebius.cegepmontpetit.ca
SUMMARY:Réservation Espace Moebius - RV Soins infirmiers
DESCRIPTION:Simulation 419
URL:https://moebius.cegepmontpetit.ca/evenement/reservation-espace-moebius-rv-soins-infirmiers-19/
LOCATION:D2702
CATEGORIES:Atelier - Réalité virtuelle,Imprimante en fonction,Mode exclusif,Réservation de l'Espace Moebius,Téléviseur interactif 1x
ATTACH;FMTTYPE=image/jpeg:https://moebius.cegepmontpetit.ca/wp-content/uploads/sites/166/2019/04/OculusRift.jpg
END:VEVENT
BEGIN:VEVENT
DTSTART;TZID=America/Toronto:20231110T080000
DTEND;TZID=America/Toronto:20231110T120000
DTSTAMP:20260424T201952
CREATED:20230818T185959Z
LAST-MODIFIED:20230818T185959Z
UID:16895-1699603200-1699617600@moebius.cegepmontpetit.ca
SUMMARY:Réservation Espace Moebius - RV Soins infirmiers
DESCRIPTION:Simulation 419
URL:https://moebius.cegepmontpetit.ca/evenement/reservation-espace-moebius-rv-soins-infirmiers-20/
LOCATION:D2702
CATEGORIES:Atelier - Réalité virtuelle,Besoin de portables,Imprimante en fonction,Mode exclusif,Réservation de l'Espace Moebius,Téléviseur interactif 1x
ATTACH;FMTTYPE=image/jpeg:https://moebius.cegepmontpetit.ca/wp-content/uploads/sites/166/2019/04/OculusRift.jpg
END:VEVENT
BEGIN:VEVENT
DTSTART;TZID=America/Toronto:20231110T130000
DTEND;TZID=America/Toronto:20231110T150000
DTSTAMP:20260424T201952
CREATED:20231027T122238Z
LAST-MODIFIED:20231030T153217Z
UID:17035-1699621200-1699628400@moebius.cegepmontpetit.ca
SUMMARY:Réservation Espace Moebius - RV Tests #1 - Nouvelles simulations Soins Infirmiers
DESCRIPTION:Simulations 510-TCC et 510-MPOC
URL:https://moebius.cegepmontpetit.ca/evenement/reservation-espace-moebius-rv-tests-1-nouvelles-simulations-soins-infirmiers/
LOCATION:D2702
CATEGORIES:Atelier - Réalité virtuelle,Imprimante en fonction,Mode exclusif
ATTACH;FMTTYPE=image/jpeg:https://moebius.cegepmontpetit.ca/wp-content/uploads/sites/166/2019/04/P1090458.jpg
END:VEVENT
BEGIN:VEVENT
DTSTART;TZID=America/Toronto:20231113T080000
DTEND;TZID=America/Toronto:20231113T120000
DTSTAMP:20260424T201952
CREATED:20230822T144038Z
LAST-MODIFIED:20230822T144038Z
UID:16928-1699862400-1699876800@moebius.cegepmontpetit.ca
SUMMARY:Réservation Espace Moebius - Cours administration
DESCRIPTION:
URL:https://moebius.cegepmontpetit.ca/evenement/reservation-espace-moebius-cours-administration-28/
LOCATION:D2702
CATEGORIES:1 portable par étudiant,Mode exclusif,Réservation de l'Espace Moebius,Téléviseur interactif 1x
ATTACH;FMTTYPE=image/png:https://moebius.cegepmontpetit.ca/wp-content/uploads/sites/166/2019/03/claac.png
END:VEVENT
BEGIN:VEVENT
DTSTART;TZID=America/Toronto:20231113T130000
DTEND;TZID=America/Toronto:20231113T160000
DTSTAMP:20260424T201952
CREATED:20230914T175730Z
LAST-MODIFIED:20230914T175819Z
UID:16967-1699880400-1699891200@moebius.cegepmontpetit.ca
SUMMARY:Réservation Espace Moebius - RV Soins Infirmiers
DESCRIPTION:Présentation aux partenaires du projet. \nBesoin de toutes les simulations disponibles.
URL:https://moebius.cegepmontpetit.ca/evenement/reservation-espace-moebius-rv-soins-infirmiers-9/
LOCATION:D2702
CATEGORIES:Atelier - Réalité virtuelle,Besoin de portables,Classe ananas_Observation,Événement spécial,Mode exclusif,Réservation de l'Espace Moebius,Téléviseur interactif 1x
ATTACH;FMTTYPE=image/jpeg:https://moebius.cegepmontpetit.ca/wp-content/uploads/sites/166/2023/05/Quest_2_07-scaled.jpg
END:VEVENT
BEGIN:VEVENT
DTSTART;TZID=America/Toronto:20231115T130000
DTEND;TZID=America/Toronto:20231115T160000
DTSTAMP:20260424T201952
CREATED:20230817T181106Z
LAST-MODIFIED:20231018T132838Z
UID:16860-1700053200-1700064000@moebius.cegepmontpetit.ca
SUMMARY:Réservation Espace Moebius - RV Soins infirmiers
DESCRIPTION:Simulation 410
URL:https://moebius.cegepmontpetit.ca/evenement/reservation-espace-moebius-rv-soins-infirmiers-17/
LOCATION:D2702
CATEGORIES:Atelier - Réalité virtuelle,Besoin de portables,Imprimante en fonction,Réservation de l'Espace Moebius,Téléviseur interactif 1x
ATTACH;FMTTYPE=image/jpeg:https://moebius.cegepmontpetit.ca/wp-content/uploads/sites/166/2019/04/P1090458.jpg
END:VEVENT
BEGIN:VEVENT
DTSTART;TZID=America/Toronto:20231116T120000
DTEND;TZID=America/Toronto:20231116T150000
DTSTAMP:20260424T201952
CREATED:20231024T144351Z
LAST-MODIFIED:20231110T203542Z
UID:17033-1700136000-1700146800@moebius.cegepmontpetit.ca
SUMMARY:Réservation Espace Moebius - Cours en administration ET Formation RV Soins infirmiers (Partenariat)
DESCRIPTION:Disposition en équipe de 4.
URL:https://moebius.cegepmontpetit.ca/evenement/reservation-espace-moebius-cours-en-administration/
LOCATION:D2702
CATEGORIES:Imprimante en fonction,Réservation - CLAAC,Téléviseur interactif 1x
ATTACH;FMTTYPE=image/png:https://moebius.cegepmontpetit.ca/wp-content/uploads/sites/166/2022/12/claac.png
END:VEVENT
BEGIN:VEVENT
DTSTART;TZID=America/Toronto:20231116T150000
DTEND;TZID=America/Toronto:20231116T160000
DTSTAMP:20260424T201952
CREATED:20231004T154016Z
LAST-MODIFIED:20231110T203352Z
UID:16991-1700146800-1700150400@moebius.cegepmontpetit.ca
SUMMARY:Réservation Zone Discussion - Formation RV Soins infirmiers (Partenariat)
DESCRIPTION:Installation dans le coin discussion : 11h30 à 12h00. \nFormation : 13h00 à 16h00.
URL:https://moebius.cegepmontpetit.ca/evenement/reservation-coin-discussion-formation-rv-soins-infirmiers-partenariat/
LOCATION:D2702
CATEGORIES:Atelier - Réalité virtuelle,Réservation - Zone discussion,Téléviseur interactif 1x
ATTACH;FMTTYPE=image/jpeg:https://moebius.cegepmontpetit.ca/wp-content/uploads/sites/166/2023/05/Quest_2_07-scaled.jpg
END:VEVENT
BEGIN:VEVENT
DTSTART;TZID=America/Toronto:20231117T080000
DTEND;TZID=America/Toronto:20231117T160000
DTSTAMP:20260424T201952
CREATED:20231110T203146Z
LAST-MODIFIED:20231110T203146Z
UID:17067-1700208000-1700236800@moebius.cegepmontpetit.ca
SUMMARY:Local Fermé
DESCRIPTION:
URL:https://moebius.cegepmontpetit.ca/evenement/local-ferme-147/
LOCATION:D2702
CATEGORIES:Réservation de l'Espace Moebius
ATTACH;FMTTYPE=image/jpeg:https://moebius.cegepmontpetit.ca/wp-content/uploads/sites/166/2019/07/1090639.jpg
END:VEVENT
BEGIN:VEVENT
DTSTART;TZID=America/Toronto:20231120T080000
DTEND;TZID=America/Toronto:20231120T110000
DTSTAMP:20260424T201952
CREATED:20231004T125647Z
LAST-MODIFIED:20231004T125647Z
UID:16984-1700467200-1700478000@moebius.cegepmontpetit.ca
SUMMARY:Réservation Espace Moebius - Cours Économie
DESCRIPTION:
URL:https://moebius.cegepmontpetit.ca/evenement/reservation-espace-moebius-cours-economie-8/
LOCATION:D2702
CATEGORIES:Besoin de portables,Classe ananas_Observation,Imprimante en fonction,Réservation - CLAAC,Téléviseur interactif 1x
ATTACH;FMTTYPE=image/png:https://moebius.cegepmontpetit.ca/wp-content/uploads/sites/166/2022/12/claac.png
END:VEVENT
BEGIN:VEVENT
DTSTART;TZID=America/Toronto:20231121T080000
DTEND;TZID=America/Toronto:20231121T100000
DTSTAMP:20260424T201952
CREATED:20230817T180557Z
LAST-MODIFIED:20230818T183459Z
UID:16855-1700553600-1700560800@moebius.cegepmontpetit.ca
SUMMARY:Réservation Espace Moebius - RV Soins infirmiers
DESCRIPTION:Simulation 309
URL:https://moebius.cegepmontpetit.ca/evenement/reservation-espace-moebius-rv-soins-infirmiers-16/
LOCATION:D2702
CATEGORIES:Atelier - Réalité virtuelle,Besoin de portables,Imprimante en fonction,Réservation - CLAAC,Téléviseur interactif 1x
ATTACH;FMTTYPE=image/jpeg:https://moebius.cegepmontpetit.ca/wp-content/uploads/sites/166/2019/04/P1090458.jpg
END:VEVENT
BEGIN:VEVENT
DTSTART;TZID=America/Toronto:20231123T133000
DTEND;TZID=America/Toronto:20231123T153000
DTSTAMP:20260424T201952
CREATED:20231027T122437Z
LAST-MODIFIED:20231027T122437Z
UID:17037-1700746200-1700753400@moebius.cegepmontpetit.ca
SUMMARY:Réservation Espace Moebius - RV Tests #2 - Nouvelles simulations Soins Infirmiers
DESCRIPTION:Simulations 510-TCC et 510-MPOC
URL:https://moebius.cegepmontpetit.ca/evenement/reservation-espace-moebius-rv-tests-2-nouvelles-simulations-soins-infirmiers/
LOCATION:D2702
CATEGORIES:Atelier - Réalité virtuelle,Imprimante en fonction,Mode exclusif
ATTACH;FMTTYPE=image/jpeg:https://moebius.cegepmontpetit.ca/wp-content/uploads/sites/166/2019/04/OculusRift.jpg
END:VEVENT
BEGIN:VEVENT
DTSTART;TZID=America/Toronto:20231124T120000
DTEND;TZID=America/Toronto:20231124T150000
DTSTAMP:20260424T201952
CREATED:20231031T130157Z
LAST-MODIFIED:20231031T130157Z
UID:17051-1700827200-1700838000@moebius.cegepmontpetit.ca
SUMMARY:Réservation Espace Moebius - Cours Administration
DESCRIPTION:Disposition : L’Assemblée
URL:https://moebius.cegepmontpetit.ca/evenement/reservation-espace-moebius-cours-administration-32/
LOCATION:D2702
CATEGORIES:Mode partagé,Réservation - CLAAC,Téléviseur interactif 1x
END:VEVENT
BEGIN:VEVENT
DTSTART;TZID=America/Toronto:20231127T080000
DTEND;TZID=America/Toronto:20231127T120000
DTSTAMP:20260424T201952
CREATED:20230822T144331Z
LAST-MODIFIED:20230822T144331Z
UID:16930-1701072000-1701086400@moebius.cegepmontpetit.ca
SUMMARY:Réservation Espace Moebius - Cours administration
DESCRIPTION:
URL:https://moebius.cegepmontpetit.ca/evenement/reservation-espace-moebius-cours-administration-30/
LOCATION:D2702
CATEGORIES:1 portable par étudiant,Besoin de portables,Réservation - CLAAC,Réservation de l'Espace Moebius,Téléviseur interactif 1x
ATTACH;FMTTYPE=image/jpeg:https://moebius.cegepmontpetit.ca/wp-content/uploads/sites/166/2019/05/administration.jpg
END:VEVENT
BEGIN:VEVENT
DTSTART;TZID=America/Toronto:20231128T080000
DTEND;TZID=America/Toronto:20231128T100000
DTSTAMP:20260424T201952
CREATED:20230818T194215Z
LAST-MODIFIED:20230818T194215Z
UID:16904-1701158400-1701165600@moebius.cegepmontpetit.ca
SUMMARY:Réservation Espace Moebius - Cours Littérature
DESCRIPTION:
URL:https://moebius.cegepmontpetit.ca/evenement/reservation-espace-moebius-cours-litterature-5/
LOCATION:D2702
CATEGORIES:1 portable par étudiant,Besoin de portables,Imprimante en fonction,Mode exclusif,Réservation de l'Espace Moebius,Téléviseur interactif 1x
ATTACH;FMTTYPE=image/png:https://moebius.cegepmontpetit.ca/wp-content/uploads/sites/166/2020/02/littérature-et-français.png
END:VEVENT
BEGIN:VEVENT
DTSTART;TZID=America/Toronto:20231128T100000
DTEND;TZID=America/Toronto:20231128T120000
DTSTAMP:20260424T201952
CREATED:20231107T170445Z
LAST-MODIFIED:20231124T203838Z
UID:17065-1701165600-1701172800@moebius.cegepmontpetit.ca
SUMMARY:RÉSERVATION ESPACE MOEBIUS – RV TESTS #2 - NOUVELLES SIMULATIONS SOINS INFIRMIERS
DESCRIPTION:
URL:https://moebius.cegepmontpetit.ca/evenement/reservation-espace-moebius-rv-tests-2-plan-b-nouvelles-simulations-soins-infirmiers/
LOCATION:D2702
CATEGORIES:Atelier - Réalité virtuelle
ATTACH;FMTTYPE=image/jpeg:https://moebius.cegepmontpetit.ca/wp-content/uploads/sites/166/2019/04/P1090458.jpg
END:VEVENT
BEGIN:VEVENT
DTSTART;TZID=America/Toronto:20231128T120000
DTEND;TZID=America/Toronto:20231128T150000
DTSTAMP:20260424T201952
CREATED:20231031T130628Z
LAST-MODIFIED:20231031T130628Z
UID:17053-1701172800-1701183600@moebius.cegepmontpetit.ca
SUMMARY:Réservation Espace Moebius - Cours Administration
DESCRIPTION:Disposition : L’Assemblée
URL:https://moebius.cegepmontpetit.ca/evenement/reservation-espace-moebius-cours-administration-33/
LOCATION:D2702
CATEGORIES:Mode partagé,Réservation - CLAAC,Téléviseur interactif 1x
END:VEVENT
BEGIN:VEVENT
DTSTART;TZID=America/Toronto:20231129T130000
DTEND;TZID=America/Toronto:20231129T160000
DTSTAMP:20260424T201952
CREATED:20230817T181247Z
LAST-MODIFIED:20230817T181247Z
UID:16863-1701262800-1701273600@moebius.cegepmontpetit.ca
SUMMARY:Réservation Espace Moebius - RV Soins infirmiers
DESCRIPTION:Simulation 410
URL:https://moebius.cegepmontpetit.ca/evenement/reservation-espace-moebius-rv-soins-infirmiers-18/
LOCATION:D2702
CATEGORIES:Atelier - Réalité virtuelle,Besoin de portables,Imprimante en fonction,Mode exclusif,Téléviseur interactif 1x
ATTACH;FMTTYPE=image/jpeg:https://moebius.cegepmontpetit.ca/wp-content/uploads/sites/166/2019/04/OculusRift.jpg
END:VEVENT
BEGIN:VEVENT
DTSTART;TZID=America/Toronto:20231130T120000
DTEND;TZID=America/Toronto:20231130T140000
DTSTAMP:20260424T201952
CREATED:20230818T194436Z
LAST-MODIFIED:20230818T194436Z
UID:16907-1701345600-1701352800@moebius.cegepmontpetit.ca
SUMMARY:Réservation Espace Moebius - Cours Littérature
DESCRIPTION:
URL:https://moebius.cegepmontpetit.ca/evenement/reservation-espace-moebius-cours-litterature-6/
LOCATION:D2702
CATEGORIES:1 portable par étudiant,Besoin de portables,Imprimante en fonction,Mode exclusif,Réservation de l'Espace Moebius,Téléviseur interactif 1x
ATTACH;FMTTYPE=image/png:https://moebius.cegepmontpetit.ca/wp-content/uploads/sites/166/2020/02/littérature-et-français.png
END:VEVENT
END:VCALENDAR