BEGIN:VCALENDAR
VERSION:2.0
PRODID:-//Espace Moebius - ECPv6.0.12//NONSGML v1.0//EN
CALSCALE:GREGORIAN
METHOD:PUBLISH
X-ORIGINAL-URL:https://moebius.cegepmontpetit.ca
X-WR-CALDESC:évènements pour Espace Moebius
REFRESH-INTERVAL;VALUE=DURATION:PT1H
X-Robots-Tag:noindex
X-PUBLISHED-TTL:PT1H
BEGIN:VTIMEZONE
TZID:America/Toronto
BEGIN:DAYLIGHT
TZOFFSETFROM:-0500
TZOFFSETTO:-0400
TZNAME:EDT
DTSTART:20230312T070000
END:DAYLIGHT
BEGIN:STANDARD
TZOFFSETFROM:-0400
TZOFFSETTO:-0500
TZNAME:EST
DTSTART:20231105T060000
END:STANDARD
END:VTIMEZONE
BEGIN:VEVENT
DTSTART;TZID=America/Toronto:20231201T120000
DTEND;TZID=America/Toronto:20231201T150000
DTSTAMP:20260424T201952
CREATED:20231031T130855Z
LAST-MODIFIED:20231031T130855Z
UID:17055-1701432000-1701442800@moebius.cegepmontpetit.ca
SUMMARY:Réservation Espace Moebius - Cours Administration
DESCRIPTION:Disposition : L’Assemblé
URL:https://moebius.cegepmontpetit.ca/evenement/reservation-espace-moebius-cours-administration-34/
LOCATION:D2702
END:VEVENT
BEGIN:VEVENT
DTSTART;TZID=America/Toronto:20231204T080000
DTEND;TZID=America/Toronto:20231204T120000
DTSTAMP:20260424T201952
CREATED:20230822T144528Z
LAST-MODIFIED:20231113T133259Z
UID:16933-1701676800-1701691200@moebius.cegepmontpetit.ca
SUMMARY:Réservation Espace Moebius - Cours administration
DESCRIPTION:Disposition : Espace discussion : Placer pour présentation orale (Déplacer le lutrin) + Placer quelques tables orienter vers le coin discussion.
URL:https://moebius.cegepmontpetit.ca/evenement/reservation-espace-moebius-cours-administration-31/
LOCATION:D2702
CATEGORIES:1 portable par étudiant,Besoin de portables,Réservation de l'Espace Moebius,Téléviseur interactif 1x
ATTACH;FMTTYPE=image/jpeg:https://moebius.cegepmontpetit.ca/wp-content/uploads/sites/166/2019/05/administration.jpg
END:VEVENT
BEGIN:VEVENT
DTSTART;TZID=America/Toronto:20231204T120000
DTEND;TZID=America/Toronto:20231204T190000
DTSTAMP:20260424T201952
CREATED:20231129T174341Z
LAST-MODIFIED:20231129T174341Z
UID:17084-1701691200-1701716400@moebius.cegepmontpetit.ca
SUMMARY:Réservation Espace Moebius - Examen CSA
DESCRIPTION:12h00 à 12h30 : Placement du local Fin de session (Examens) \n12h30 à 19h00 : Examens
URL:https://moebius.cegepmontpetit.ca/evenement/reservation-espace-moebius-examen-csa-2/
LOCATION:D2702
CATEGORIES:Besoin de portables,Réservation de l'Espace Moebius
END:VEVENT
BEGIN:VEVENT
DTSTART;TZID=America/Toronto:20231205T090000
DTEND;TZID=America/Toronto:20231205T120000
DTSTAMP:20260424T201952
CREATED:20230817T173704Z
LAST-MODIFIED:20230818T182438Z
UID:16831-1701766800-1701777600@moebius.cegepmontpetit.ca
SUMMARY:Réservation Espace Moebius - RV Soins infirmiers
DESCRIPTION:Simulation 510
URL:https://moebius.cegepmontpetit.ca/evenement/reservation-espace-moebius-rv-soins-infirmiers-4/
LOCATION:D2702
CATEGORIES:Atelier - Réalité virtuelle,Imprimante en fonction,Mode exclusif,Réservation - Médialab,Réservation de l'Espace Moebius
ATTACH;FMTTYPE=image/jpeg:https://moebius.cegepmontpetit.ca/wp-content/uploads/sites/166/2019/04/OculusRift.jpg
END:VEVENT
BEGIN:VEVENT
DTSTART;TZID=America/Toronto:20231205T120000
DTEND;TZID=America/Toronto:20231205T150000
DTSTAMP:20260424T201952
CREATED:20231031T131046Z
LAST-MODIFIED:20231031T131103Z
UID:17057-1701777600-1701788400@moebius.cegepmontpetit.ca
SUMMARY:Réservation CLAAC seulement - Cours Administration
DESCRIPTION:Disposition : L’Assemblée
URL:https://moebius.cegepmontpetit.ca/evenement/reservation-claac-seulement-cours-administration/
LOCATION:D2702
CATEGORIES:Mode partagé,Réservation - CLAAC,Téléviseur interactif 1x
END:VEVENT
BEGIN:VEVENT
DTSTART;TZID=America/Toronto:20231205T133000
DTEND;TZID=America/Toronto:20231205T153000
DTSTAMP:20260424T201952
CREATED:20231027T122639Z
LAST-MODIFIED:20231027T122639Z
UID:17039-1701783000-1701790200@moebius.cegepmontpetit.ca
SUMMARY:Réservation Espace Moebius - RV Tests #3 (Finaux) - Nouvelles simulations Soins Infirmiers
DESCRIPTION:Simulations 510-TCC et 510-MPOC \n 
URL:https://moebius.cegepmontpetit.ca/evenement/reservation-espace-moebius-rv-tests-3-finaux-nouvelles-simulations-soins-infirmiers/
LOCATION:D2702
CATEGORIES:Atelier - Réalité virtuelle,Imprimante en fonction,Mode exclusif
ATTACH;FMTTYPE=image/jpeg:https://moebius.cegepmontpetit.ca/wp-content/uploads/sites/166/2019/04/OculusRift.jpg
END:VEVENT
BEGIN:VEVENT
DTSTART;TZID=America/Toronto:20231207T130000
DTEND;TZID=America/Toronto:20231207T160000
DTSTAMP:20260424T201952
CREATED:20231205T160154Z
LAST-MODIFIED:20231206T182317Z
UID:17087-1701954000-1701964800@moebius.cegepmontpetit.ca
SUMMARY:Réservation Espace Moebius - Rencontre DISTI
DESCRIPTION:
URL:https://moebius.cegepmontpetit.ca/evenement/reservation-espace-moebius-rencontre-disti-2/
LOCATION:D2702
CATEGORIES:Événement spécial
ATTACH;FMTTYPE=image/jpeg:https://moebius.cegepmontpetit.ca/wp-content/uploads/sites/166/2019/07/1090635-Modifier.jpg
END:VEVENT
BEGIN:VEVENT
DTSTART;TZID=America/Toronto:20231208T090000
DTEND;TZID=America/Toronto:20231208T120000
DTSTAMP:20260424T201952
CREATED:20230817T174006Z
LAST-MODIFIED:20230817T174006Z
UID:16835-1702026000-1702036800@moebius.cegepmontpetit.ca
SUMMARY:Réservation Espace Moebius - RV Soins infirmiers
DESCRIPTION:Simulation 21B
URL:https://moebius.cegepmontpetit.ca/evenement/reservation-espace-moebius-rv-soins-infirmiers-10/
LOCATION:D2702
CATEGORIES:Atelier - Réalité virtuelle,Besoin de portables,Imprimante en fonction,Réservation - CLAAC,Réservation - Médialab
ATTACH;FMTTYPE=image/jpeg:https://moebius.cegepmontpetit.ca/wp-content/uploads/sites/166/2019/04/OculusRift.jpg
END:VEVENT
BEGIN:VEVENT
DTSTART;TZID=America/Toronto:20231208T130000
DTEND;TZID=America/Toronto:20231208T170000
DTSTAMP:20260424T201952
CREATED:20230817T174139Z
LAST-MODIFIED:20230817T174139Z
UID:16838-1702040400-1702054800@moebius.cegepmontpetit.ca
SUMMARY:Réservation Espace Moebius - RV Soins infirmiers
DESCRIPTION:Simulation 21B
URL:https://moebius.cegepmontpetit.ca/evenement/reservation-espace-moebius-rv-soins-infirmiers-11/
LOCATION:D2702
CATEGORIES:Atelier - Réalité virtuelle,Besoin de portables,Réservation - CLAAC
ATTACH;FMTTYPE=image/jpeg:https://moebius.cegepmontpetit.ca/wp-content/uploads/sites/166/2019/04/OculusRift.jpg
END:VEVENT
BEGIN:VEVENT
DTSTART;TZID=America/Toronto:20231211T080000
DTEND;TZID=America/Toronto:20231211T110000
DTSTAMP:20260424T201952
CREATED:20231004T125956Z
LAST-MODIFIED:20231004T125956Z
UID:16986-1702281600-1702292400@moebius.cegepmontpetit.ca
SUMMARY:Réservation Espace Moebius - Cours Économie
DESCRIPTION:
URL:https://moebius.cegepmontpetit.ca/evenement/reservation-espace-moebius-cours-economie-9/
LOCATION:D2702
CATEGORIES:Besoin de portables,Classe ananas_Observation,Imprimante en fonction,Réservation - CLAAC,Téléviseur interactif 1x
ATTACH;FMTTYPE=image/png:https://moebius.cegepmontpetit.ca/wp-content/uploads/sites/166/2022/12/claac.png
END:VEVENT
BEGIN:VEVENT
DTSTART;TZID=America/Toronto:20231211T110000
DTEND;TZID=America/Toronto:20231211T120000
DTSTAMP:20260424T201952
CREATED:20231017T153329Z
LAST-MODIFIED:20231017T153329Z
UID:17001-1702292400-1702296000@moebius.cegepmontpetit.ca
SUMMARY:Placement du local pour examens
DESCRIPTION:Disposition du local en examens pour CSA.
URL:https://moebius.cegepmontpetit.ca/evenement/placement-du-local-pour-examens/
LOCATION:D2702
CATEGORIES:Mode partagé
END:VEVENT
BEGIN:VEVENT
DTSTART;TZID=America/Toronto:20231211T120000
DTEND;TZID=America/Toronto:20231211T190000
DTSTAMP:20260424T201952
CREATED:20231017T153142Z
LAST-MODIFIED:20231017T153142Z
UID:16999-1702296000-1702321200@moebius.cegepmontpetit.ca
SUMMARY:Réservation Espace Moebius - Examens CSA
DESCRIPTION:Disposition du local : Fin de session (Examens)
URL:https://moebius.cegepmontpetit.ca/evenement/reservation-espace-moebius-examens-csa-2/
LOCATION:D2702
CATEGORIES:Réservation de l'Espace Moebius
ATTACH;FMTTYPE=image/jpeg:https://moebius.cegepmontpetit.ca/wp-content/uploads/sites/166/2019/03/examen.jpg
END:VEVENT
BEGIN:VEVENT
DTSTART;TZID=America/Toronto:20231212T070000
DTEND;TZID=America/Toronto:20231212T190000
DTSTAMP:20260424T201952
CREATED:20231017T153530Z
LAST-MODIFIED:20231017T153609Z
UID:17003-1702364400-1702407600@moebius.cegepmontpetit.ca
SUMMARY:Réservation Espace Moebius - Examens CSA
DESCRIPTION:Disposition du local : Fin de session (Examens)
URL:https://moebius.cegepmontpetit.ca/evenement/reservation-espace-moebius-examens-csa-7/
LOCATION:D2702
CATEGORIES:Réservation de l'Espace Moebius
ATTACH;FMTTYPE=image/jpeg:https://moebius.cegepmontpetit.ca/wp-content/uploads/sites/166/2019/03/examen.jpg
END:VEVENT
BEGIN:VEVENT
DTSTART;TZID=America/Toronto:20231213T070000
DTEND;TZID=America/Toronto:20231213T190000
DTSTAMP:20260424T201952
CREATED:20231017T153725Z
LAST-MODIFIED:20231017T153725Z
UID:17005-1702450800-1702494000@moebius.cegepmontpetit.ca
SUMMARY:Réservation Espace Moebius - Examens CSA
DESCRIPTION:Disposition du local : Fin de session (Examens)
URL:https://moebius.cegepmontpetit.ca/evenement/reservation-espace-moebius-examens-csa-8/
LOCATION:D2702
CATEGORIES:Réservation de l'Espace Moebius
ATTACH;FMTTYPE=image/jpeg:https://moebius.cegepmontpetit.ca/wp-content/uploads/sites/166/2019/03/examen.jpg
END:VEVENT
BEGIN:VEVENT
DTSTART;TZID=America/Toronto:20231214T070000
DTEND;TZID=America/Toronto:20231214T110000
DTSTAMP:20260424T201952
CREATED:20231017T154349Z
LAST-MODIFIED:20231017T154349Z
UID:17007-1702537200-1702551600@moebius.cegepmontpetit.ca
SUMMARY:Réservation Espace Moebius - Examens CSA
DESCRIPTION:Disposition du local : Fin de session (Examens)
URL:https://moebius.cegepmontpetit.ca/evenement/reservation-espace-moebius-examens-csa-9/
LOCATION:D2702
CATEGORIES:Réservation de l'Espace Moebius
ATTACH;FMTTYPE=image/jpeg:https://moebius.cegepmontpetit.ca/wp-content/uploads/sites/166/2019/03/examen.jpg
END:VEVENT
BEGIN:VEVENT
DTSTART;TZID=America/Toronto:20231214T110000
DTEND;TZID=America/Toronto:20231214T120000
DTSTAMP:20260424T201952
CREATED:20231017T194910Z
LAST-MODIFIED:20231106T192015Z
UID:17012-1702551600-1702555200@moebius.cegepmontpetit.ca
SUMMARY:Placement local - Cours littérature
DESCRIPTION:Disposition : CLAAC-sique
URL:https://moebius.cegepmontpetit.ca/evenement/placement-local-cours-litterature/
LOCATION:D2702
END:VEVENT
BEGIN:VEVENT
DTSTART;TZID=America/Toronto:20231214T120000
DTEND;TZID=America/Toronto:20231214T140000
DTSTAMP:20260424T201952
CREATED:20230818T194623Z
LAST-MODIFIED:20230818T194623Z
UID:16910-1702555200-1702562400@moebius.cegepmontpetit.ca
SUMMARY:Réservation Espace Moebius - Cours Littérature
DESCRIPTION:
URL:https://moebius.cegepmontpetit.ca/evenement/reservation-espace-moebius-cours-litterature-7/
LOCATION:D2702
CATEGORIES:1 portable par étudiant,Besoin de portables,Imprimante en fonction,Mode exclusif,Réservation - CLAAC,Réservation de l'Espace Moebius,Téléviseur interactif 1x
ATTACH;FMTTYPE=image/png:https://moebius.cegepmontpetit.ca/wp-content/uploads/sites/166/2020/02/littérature-et-français.png
END:VEVENT
BEGIN:VEVENT
DTSTART;TZID=America/Toronto:20231214T140000
DTEND;TZID=America/Toronto:20231214T150000
DTSTAMP:20260424T201952
CREATED:20231017T194949Z
LAST-MODIFIED:20231017T195003Z
UID:17014-1702562400-1702566000@moebius.cegepmontpetit.ca
SUMMARY:Placement du local - Examens CSA
DESCRIPTION:Disposition du local : Fin de session (Examens)
URL:https://moebius.cegepmontpetit.ca/evenement/placement-du-local-examens-csa/
LOCATION:D2702
END:VEVENT
BEGIN:VEVENT
DTSTART;TZID=America/Toronto:20231214T150000
DTEND;TZID=America/Toronto:20231214T190000
DTSTAMP:20260424T201952
CREATED:20231017T194734Z
LAST-MODIFIED:20231017T194734Z
UID:17010-1702566000-1702580400@moebius.cegepmontpetit.ca
SUMMARY:Réservation Espace Moebius - Examens CSA
DESCRIPTION:Disposition du local : Fin de session (Examens)
URL:https://moebius.cegepmontpetit.ca/evenement/reservation-espace-moebius-examens-csa-10/
LOCATION:D2702
CATEGORIES:Réservation de l'Espace Moebius
ATTACH;FMTTYPE=image/jpeg:https://moebius.cegepmontpetit.ca/wp-content/uploads/sites/166/2019/03/examen.jpg
END:VEVENT
BEGIN:VEVENT
DTSTART;TZID=America/Toronto:20231215T070000
DTEND;TZID=America/Toronto:20231215T180000
DTSTAMP:20260424T201952
CREATED:20231017T195934Z
LAST-MODIFIED:20231018T124959Z
UID:17016-1702623600-1702663200@moebius.cegepmontpetit.ca
SUMMARY:Réservation Espace Moebius - Examens CSA
DESCRIPTION:Disposition du local : Fin de session (Examens)
URL:https://moebius.cegepmontpetit.ca/evenement/reservation-espace-moebius-examens-csa-11/
LOCATION:D2702
ATTACH;FMTTYPE=image/jpeg:https://moebius.cegepmontpetit.ca/wp-content/uploads/sites/166/2019/03/examen.jpg
END:VEVENT
BEGIN:VEVENT
DTSTART;TZID=America/Toronto:20231218T070000
DTEND;TZID=America/Toronto:20231218T190000
DTSTAMP:20260424T201952
CREATED:20231018T124905Z
LAST-MODIFIED:20231205T202756Z
UID:17019-1702882800-1702926000@moebius.cegepmontpetit.ca
SUMMARY:Réservation Espace Moebius - Examens CSA + Prêt Chariot portables Moebius Denturologie -
DESCRIPTION:Disposition du local : Fin de session (Examens) \n** Le chariot de portables de Moebius sera en prêt de 15h30 jusqu’à 9h00 le lendemain. **
URL:https://moebius.cegepmontpetit.ca/evenement/reservation-espace-moebius-examens-csa-12/
LOCATION:D2702
CATEGORIES:Réservation de l'Espace Moebius
ATTACH;FMTTYPE=image/jpeg:https://moebius.cegepmontpetit.ca/wp-content/uploads/sites/166/2019/03/examen.jpg
END:VEVENT
BEGIN:VEVENT
DTSTART;TZID=America/Toronto:20231219T070000
DTEND;TZID=America/Toronto:20231219T190000
DTSTAMP:20260424T201952
CREATED:20231018T125733Z
LAST-MODIFIED:20231018T125733Z
UID:17021-1702969200-1703012400@moebius.cegepmontpetit.ca
SUMMARY:Réservation Espace Moebius - Examens CSA
DESCRIPTION:Disposition du local : Fin de session (Examens)
URL:https://moebius.cegepmontpetit.ca/evenement/reservation-espace-moebius-examens-csa-13/
LOCATION:D2702
ATTACH;FMTTYPE=image/jpeg:https://moebius.cegepmontpetit.ca/wp-content/uploads/sites/166/2019/03/examen.jpg
END:VEVENT
BEGIN:VEVENT
DTSTART;TZID=America/Toronto:20231220T070000
DTEND;TZID=America/Toronto:20231220T190000
DTSTAMP:20260424T201952
CREATED:20231018T130253Z
LAST-MODIFIED:20231018T130253Z
UID:17023-1703055600-1703098800@moebius.cegepmontpetit.ca
SUMMARY:Réservation Espace Moebius - Examens CSA
DESCRIPTION:Disposition du local : Fin de session (Examens)
URL:https://moebius.cegepmontpetit.ca/evenement/reservation-espace-moebius-examens-csa-14/
LOCATION:D2702
ATTACH;FMTTYPE=image/jpeg:https://moebius.cegepmontpetit.ca/wp-content/uploads/sites/166/2019/03/examen.jpg
END:VEVENT
BEGIN:VEVENT
DTSTART;TZID=America/Toronto:20231221T070000
DTEND;TZID=America/Toronto:20231221T190000
DTSTAMP:20260424T201952
CREATED:20231018T130531Z
LAST-MODIFIED:20231018T130537Z
UID:17025-1703142000-1703185200@moebius.cegepmontpetit.ca
SUMMARY:Réservation Espace Moebius - Examens CSA
DESCRIPTION:Disposition du local : Fin de session (Examens)e
URL:https://moebius.cegepmontpetit.ca/evenement/reservation-espace-moebius-examens-csa-15/
LOCATION:D2702
ATTACH;FMTTYPE=image/jpeg:https://moebius.cegepmontpetit.ca/wp-content/uploads/sites/166/2019/03/examen.jpg
END:VEVENT
BEGIN:VEVENT
DTSTART;TZID=America/Toronto:20231222T070000
DTEND;TZID=America/Toronto:20231222T180000
DTSTAMP:20260424T201952
CREATED:20231018T130711Z
LAST-MODIFIED:20231018T130711Z
UID:17027-1703228400-1703268000@moebius.cegepmontpetit.ca
SUMMARY:Réservation Espace Moebius - Examens CSA
DESCRIPTION:Disposition du local : Fin de session (Examens)
URL:https://moebius.cegepmontpetit.ca/evenement/reservation-espace-moebius-examens-csa-16/
LOCATION:D2702
ATTACH;FMTTYPE=image/jpeg:https://moebius.cegepmontpetit.ca/wp-content/uploads/sites/166/2019/03/examen.jpg
END:VEVENT
END:VCALENDAR