BEGIN:VCALENDAR
VERSION:2.0
PRODID:-//Espace Moebius - ECPv6.0.12//NONSGML v1.0//EN
CALSCALE:GREGORIAN
METHOD:PUBLISH
X-ORIGINAL-URL:https://moebius.cegepmontpetit.ca
X-WR-CALDESC:évènements pour Espace Moebius
REFRESH-INTERVAL;VALUE=DURATION:PT1H
X-Robots-Tag:noindex
X-PUBLISHED-TTL:PT1H
BEGIN:VTIMEZONE
TZID:America/Toronto
BEGIN:DAYLIGHT
TZOFFSETFROM:-0500
TZOFFSETTO:-0400
TZNAME:EDT
DTSTART:20240310T070000
END:DAYLIGHT
BEGIN:STANDARD
TZOFFSETFROM:-0400
TZOFFSETTO:-0500
TZNAME:EST
DTSTART:20241103T060000
END:STANDARD
END:VTIMEZONE
BEGIN:VEVENT
DTSTART;TZID=America/Toronto:20240101T080000
DTEND;TZID=America/Toronto:20240103T160000
DTSTAMP:20260424T201957
CREATED:20240104T144538Z
LAST-MODIFIED:20240104T144538Z
UID:17102-1704096000-1704297600@moebius.cegepmontpetit.ca
SUMMARY:Congés des Fêtes
DESCRIPTION:
URL:https://moebius.cegepmontpetit.ca/evenement/conges-des-fetes/
LOCATION:D2702
END:VEVENT
BEGIN:VEVENT
DTSTART;TZID=America/Toronto:20240108T080000
DTEND;TZID=America/Toronto:20240108T160000
DTSTAMP:20260424T201957
CREATED:20240104T144624Z
LAST-MODIFIED:20240104T144624Z
UID:17104-1704700800-1704729600@moebius.cegepmontpetit.ca
SUMMARY:Local Fermé
DESCRIPTION:
URL:https://moebius.cegepmontpetit.ca/evenement/local-ferme-148/
LOCATION:D2702
CATEGORIES:Local fermé
ATTACH;FMTTYPE=image/jpeg:https://moebius.cegepmontpetit.ca/wp-content/uploads/sites/166/2019/07/1090639.jpg
END:VEVENT
BEGIN:VEVENT
DTSTART;TZID=America/Toronto:20240109T120000
DTEND;TZID=America/Toronto:20240109T140000
DTSTAMP:20260424T201957
CREATED:20240104T201233Z
LAST-MODIFIED:20240104T201233Z
UID:17110-1704801600-1704808800@moebius.cegepmontpetit.ca
SUMMARY:Local Fermé - Dîner et rencontre TTP
DESCRIPTION:
URL:https://moebius.cegepmontpetit.ca/evenement/local-ferme-diner-et-rencontre-ttp/
LOCATION:D2702
CATEGORIES:Local fermé
ATTACH;FMTTYPE=image/jpeg:https://moebius.cegepmontpetit.ca/wp-content/uploads/sites/166/2019/07/1090639.jpg
END:VEVENT
BEGIN:VEVENT
DTSTART;TZID=America/Toronto:20240110T080000
DTEND;TZID=America/Toronto:20240110T123000
DTSTAMP:20260424T201957
CREATED:20231110T205240Z
LAST-MODIFIED:20231110T205240Z
UID:17071-1704873600-1704889800@moebius.cegepmontpetit.ca
SUMMARY:Réservation Espace Moebius - Formation corps professoral
DESCRIPTION:
URL:https://moebius.cegepmontpetit.ca/evenement/reservation-espace-moebius-formation-corps-professoral-3/
LOCATION:D2702
CATEGORIES:Imprimante en fonction,Réservation de l'Espace Moebius
ATTACH;FMTTYPE=image/png:https://moebius.cegepmontpetit.ca/wp-content/uploads/sites/166/2022/12/claac.png
END:VEVENT
BEGIN:VEVENT
DTSTART;TZID=America/Toronto:20240110T123000
DTEND;TZID=America/Toronto:20240110T160000
DTSTAMP:20260424T201957
CREATED:20240104T144728Z
LAST-MODIFIED:20240104T144839Z
UID:17106-1704889800-1704902400@moebius.cegepmontpetit.ca
SUMMARY:Local Fermé
DESCRIPTION:
URL:https://moebius.cegepmontpetit.ca/evenement/local-ferme-149/
LOCATION:D2702
CATEGORIES:Local fermé
ATTACH;FMTTYPE=image/jpeg:https://moebius.cegepmontpetit.ca/wp-content/uploads/sites/166/2019/07/1090639.jpg
END:VEVENT
BEGIN:VEVENT
DTSTART;TZID=America/Toronto:20240111T080000
DTEND;TZID=America/Toronto:20240111T120000
DTSTAMP:20260424T201957
CREATED:20231106T190938Z
LAST-MODIFIED:20231106T190938Z
UID:17063-1704960000-1704974400@moebius.cegepmontpetit.ca
SUMMARY:Réservation Espace Moebius - Conférence Journée de l'inclusion\, réussite et persévérance
DESCRIPTION:Disposition du local : L’ONU
URL:https://moebius.cegepmontpetit.ca/evenement/reservation-espace-moebius-conference-journee-de-linclusion-reussite-et-perseverance/
LOCATION:D2702
CATEGORIES:Mode exclusif,Réservation - CLAAC,Réservation - Médialab,Téléviseur interactif 1x
END:VEVENT
BEGIN:VEVENT
DTSTART;TZID=America/Toronto:20240111T120000
DTEND;TZID=America/Toronto:20240111T130000
DTSTAMP:20260424T201957
CREATED:20240104T201314Z
LAST-MODIFIED:20240104T201325Z
UID:17112-1704974400-1704978000@moebius.cegepmontpetit.ca
SUMMARY:Local Fermé - Dîner TTP
DESCRIPTION:
URL:https://moebius.cegepmontpetit.ca/evenement/local-ferme-diner-ttp-10/
LOCATION:D2702
CATEGORIES:Local fermé
ATTACH;FMTTYPE=image/jpeg:https://moebius.cegepmontpetit.ca/wp-content/uploads/sites/166/2019/07/1090639.jpg
END:VEVENT
BEGIN:VEVENT
DTSTART;TZID=America/Toronto:20240112T080000
DTEND;TZID=America/Toronto:20240112T160000
DTSTAMP:20260424T201957
CREATED:20231219T202029Z
LAST-MODIFIED:20240111T131749Z
UID:17094-1705046400-1705075200@moebius.cegepmontpetit.ca
SUMMARY:Réservation Espace Moebius - Rencontre Département TIM
DESCRIPTION:
URL:https://moebius.cegepmontpetit.ca/evenement/reservation-espace-moebius-rencontre-projet-rv-soins-infirmiers/
LOCATION:D2702
CATEGORIES:Réservation de l'Espace Moebius
ATTACH;FMTTYPE=image/jpeg:https://moebius.cegepmontpetit.ca/wp-content/uploads/sites/166/2019/06/Capture.jpg
END:VEVENT
BEGIN:VEVENT
DTSTART;TZID=America/Toronto:20240118T080000
DTEND;TZID=America/Toronto:20240118T120000
DTSTAMP:20260424T201957
CREATED:20240112T154757Z
LAST-MODIFIED:20240112T154757Z
UID:17119-1705564800-1705579200@moebius.cegepmontpetit.ca
SUMMARY:Local Fermé - Discours de la Rentrée
DESCRIPTION:
URL:https://moebius.cegepmontpetit.ca/evenement/local-ferme-discours-de-la-rentree/
LOCATION:D2702
CATEGORIES:Local fermé
ATTACH;FMTTYPE=image/jpeg:https://moebius.cegepmontpetit.ca/wp-content/uploads/sites/166/2019/07/1090639.jpg
END:VEVENT
BEGIN:VEVENT
DTSTART;TZID=America/Toronto:20240119T100000
DTEND;TZID=America/Toronto:20240119T120000
DTSTAMP:20260424T201957
CREATED:20240116T203056Z
LAST-MODIFIED:20240116T203056Z
UID:17293-1705658400-1705665600@moebius.cegepmontpetit.ca
SUMMARY:Local Fermé
DESCRIPTION:
URL:https://moebius.cegepmontpetit.ca/evenement/local-ferme-150/
LOCATION:D2702
CATEGORIES:Local fermé
ATTACH;FMTTYPE=image/jpeg:https://moebius.cegepmontpetit.ca/wp-content/uploads/sites/166/2019/07/1090639.jpg
END:VEVENT
BEGIN:VEVENT
DTSTART;TZID=America/Toronto:20240122T080000
DTEND;TZID=America/Toronto:20240122T180000
DTSTAMP:20260424T201957
CREATED:20240115T204639Z
LAST-MODIFIED:20240115T204639Z
UID:17171-1705910400-1705946400@moebius.cegepmontpetit.ca
SUMMARY:Réservation Espace Moebius - Projet Synthèse Informatiques
DESCRIPTION:
URL:https://moebius.cegepmontpetit.ca/evenement/reservation-espace-moebius-projet-synthese-informatiques/
LOCATION:D2702
CATEGORIES:Besoin de portables,Classe ananas_Observation,Imprimante en fonction,Mode exclusif,Réservation - CLAAC,Téléviseur interactif 1x
ATTACH;FMTTYPE=image/jpeg:https://moebius.cegepmontpetit.ca/wp-content/uploads/sites/166/2019/06/Moébius-ordinateur-HP-13-06-2019-1-e1568646589397.jpg
END:VEVENT
BEGIN:VEVENT
DTSTART;TZID=America/Toronto:20240123T120000
DTEND;TZID=America/Toronto:20240123T150000
DTSTAMP:20260424T201957
CREATED:20240116T140810Z
LAST-MODIFIED:20240116T140810Z
UID:17206-1706011200-1706022000@moebius.cegepmontpetit.ca
SUMMARY:Réservation Espace Moebius - Cours en administration
DESCRIPTION:Disposition du local : Regrouper les 40 places assises le plus près de la télévision BenQ. \nBesoin du silence\, aucune impression 3D.
URL:https://moebius.cegepmontpetit.ca/evenement/reservation-espace-moebius-cours-en-administration-2/
LOCATION:D2702
CATEGORIES:Mode exclusif,Réservation - CLAAC,Réservation - Médialab,Réservation - Zone discussion,Réservation de l'Espace Moebius,Téléviseur interactif 1x
ATTACH;FMTTYPE=image/jpeg:https://moebius.cegepmontpetit.ca/wp-content/uploads/sites/166/2019/03/P1090434.jpg
END:VEVENT
BEGIN:VEVENT
DTSTART;TZID=America/Toronto:20240124T080000
DTEND;TZID=America/Toronto:20240124T120000
DTSTAMP:20260424T201957
CREATED:20240122T144857Z
LAST-MODIFIED:20240122T144941Z
UID:17346-1706083200-1706097600@moebius.cegepmontpetit.ca
SUMMARY:Mode Partagé : Cours Prothèses Dentaires
DESCRIPTION:
URL:https://moebius.cegepmontpetit.ca/evenement/mode-partage-cours-protheses-dentaires/
LOCATION:D2702
CATEGORIES:1 portable par étudiant,Besoin de portables,Imprimante en fonction,Mode partagé,Réservation - CLAAC,Téléviseur interactif 1x
ATTACH;FMTTYPE=image/png:https://moebius.cegepmontpetit.ca/wp-content/uploads/sites/166/2019/10/Capture.png
END:VEVENT
BEGIN:VEVENT
DTSTART;TZID=America/Toronto:20240125T093000
DTEND;TZID=America/Toronto:20240125T113000
DTSTAMP:20260424T201957
CREATED:20240117T150827Z
LAST-MODIFIED:20240117T150827Z
UID:17298-1706175000-1706182200@moebius.cegepmontpetit.ca
SUMMARY:Réservation Espace Moebius - Stage administration
DESCRIPTION:
URL:https://moebius.cegepmontpetit.ca/evenement/reservation-espace-moebius-stage-administration/
LOCATION:D2702
CATEGORIES:1 portable par étudiant,Besoin de portables,Mode exclusif,Réservation - CLAAC,Téléviseur interactif 1x
ATTACH;FMTTYPE=image/jpeg:https://moebius.cegepmontpetit.ca/wp-content/uploads/sites/166/2019/03/P1090434.jpg
END:VEVENT
BEGIN:VEVENT
DTSTART;TZID=America/Toronto:20240125T130000
DTEND;TZID=America/Toronto:20240125T150000
DTSTAMP:20260424T201957
CREATED:20240116T191846Z
LAST-MODIFIED:20240116T191846Z
UID:17283-1706187600-1706194800@moebius.cegepmontpetit.ca
SUMMARY:Réservation Espace Moebius - Cours littérature
DESCRIPTION:
URL:https://moebius.cegepmontpetit.ca/evenement/reservation-espace-moebius-cours-litterature-8/
LOCATION:D2702
CATEGORIES:1 portable par étudiant,Besoin de portables,Imprimante en fonction,Mode exclusif,Réservation - CLAAC
ATTACH;FMTTYPE=image/png:https://moebius.cegepmontpetit.ca/wp-content/uploads/sites/166/2020/02/littérature-et-français.png
END:VEVENT
BEGIN:VEVENT
DTSTART;TZID=America/Toronto:20240126T100000
DTEND;TZID=America/Toronto:20240126T150000
DTSTAMP:20260424T201957
CREATED:20240115T185843Z
LAST-MODIFIED:20240115T191353Z
UID:17131-1706263200-1706281200@moebius.cegepmontpetit.ca
SUMMARY:Réservation Espace Moebius - Cours TIM
DESCRIPTION:Disposition ClAAC-sique + Tableaux blanc sur roulettes avec crayons
URL:https://moebius.cegepmontpetit.ca/evenement/reservation-espace-moebius-cours-tim-11/
LOCATION:D2702
CATEGORIES:1 portable par étudiant,Besoin de portables,Mode exclusif,Réservation - CLAAC,Téléviseur interactif 1x
ATTACH;FMTTYPE=image/jpeg:https://moebius.cegepmontpetit.ca/wp-content/uploads/sites/166/2019/06/Capture.jpg
END:VEVENT
BEGIN:VEVENT
DTSTART;TZID=America/Toronto:20240129T080000
DTEND;TZID=America/Toronto:20240129T130000
DTSTAMP:20260424T201957
CREATED:20240126T203314Z
LAST-MODIFIED:20240126T203314Z
UID:17390-1706515200-1706533200@moebius.cegepmontpetit.ca
SUMMARY:Réservation Espace Moebius - Cours administration
DESCRIPTION:
URL:https://moebius.cegepmontpetit.ca/evenement/reservation-espace-moebius-cours-administration-40/
LOCATION:D2702
CATEGORIES:Imprimante en fonction,Mode exclusif,Réservation - CLAAC,Téléviseur interactif 1x
ATTACH;FMTTYPE=image/jpeg:https://moebius.cegepmontpetit.ca/wp-content/uploads/sites/166/2019/05/administration.jpg
END:VEVENT
BEGIN:VEVENT
DTSTART;TZID=America/Toronto:20240129T130000
DTEND;TZID=America/Toronto:20240129T150000
DTSTAMP:20260424T201957
CREATED:20240119T195329Z
LAST-MODIFIED:20240119T195359Z
UID:17323-1706533200-1706540400@moebius.cegepmontpetit.ca
SUMMARY:Réservation Espace Moebius - Cours en administration
DESCRIPTION:Besoins de 30-35 portables.
URL:https://moebius.cegepmontpetit.ca/evenement/reservation-espace-moebius-cours-en-administration-4/
LOCATION:D2702
CATEGORIES:1 portable par étudiant,Besoin de portables,Mode exclusif,Réservation - CLAAC,Téléviseur interactif 1x
ATTACH;FMTTYPE=image/jpeg:https://moebius.cegepmontpetit.ca/wp-content/uploads/sites/166/2019/03/P1090434.jpg
END:VEVENT
BEGIN:VEVENT
DTSTART;TZID=America/Toronto:20240130T080000
DTEND;TZID=America/Toronto:20240130T120000
DTSTAMP:20260424T201957
CREATED:20240129T170122Z
LAST-MODIFIED:20240129T170122Z
UID:17395-1706601600-1706616000@moebius.cegepmontpetit.ca
SUMMARY:Réservation Espace Moebius - Cours THD
DESCRIPTION:
URL:https://moebius.cegepmontpetit.ca/evenement/reservation-espace-moebius-cours-thd-34/
LOCATION:D2702
CATEGORIES:1 portable par étudiant,Besoin de portables,Imprimante en fonction,Mode exclusif,Réservation - CLAAC,Téléviseur interactif 1x
ATTACH;FMTTYPE=image/jpeg:https://moebius.cegepmontpetit.ca/wp-content/uploads/sites/166/2019/03/dental-hygiene-600x375.jpg
END:VEVENT
BEGIN:VEVENT
DTSTART;TZID=America/Toronto:20240130T120000
DTEND;TZID=America/Toronto:20240130T141500
DTSTAMP:20260424T201957
CREATED:20240129T205410Z
LAST-MODIFIED:20240129T205410Z
UID:17397-1706616000-1706624100@moebius.cegepmontpetit.ca
SUMMARY:Local Fermé
DESCRIPTION:
URL:https://moebius.cegepmontpetit.ca/evenement/local-ferme-151/
LOCATION:D2702
CATEGORIES:Local fermé
END:VEVENT
BEGIN:VEVENT
DTSTART;TZID=America/Toronto:20240131T080000
DTEND;TZID=America/Toronto:20240131T120000
DTSTAMP:20260424T201957
CREATED:20240124T142500Z
LAST-MODIFIED:20240124T142500Z
UID:17374-1706688000-1706702400@moebius.cegepmontpetit.ca
SUMMARY:Réservation Espace Moebius - Cours Prothèses Dentaires
DESCRIPTION:Besoins de portables : Les étudiants connaissent leur numéro.
URL:https://moebius.cegepmontpetit.ca/evenement/reservation-espace-moebius-cours-protheses-dentaires/
LOCATION:D2702
CATEGORIES:1 portable par étudiant,Besoin de portables,Imprimante en fonction,Réservation - CLAAC,Téléviseur interactif 1x
ATTACH;FMTTYPE=image/png:https://moebius.cegepmontpetit.ca/wp-content/uploads/sites/166/2019/10/Capture.png
END:VEVENT
BEGIN:VEVENT
DTSTART;TZID=America/Toronto:20240131T140000
DTEND;TZID=America/Toronto:20240131T150000
DTSTAMP:20260424T201957
CREATED:20240119T165638Z
LAST-MODIFIED:20240119T165638Z
UID:17320-1706709600-1706713200@moebius.cegepmontpetit.ca
SUMMARY:Réservation Médialab - Test RV Défi Environnement
DESCRIPTION:
URL:https://moebius.cegepmontpetit.ca/evenement/reservation-medialab-test-rv-defi-environnement/
LOCATION:D2702
CATEGORIES:Atelier - Réalité virtuelle,Réservation - Médialab
ATTACH;FMTTYPE=image/jpeg:https://moebius.cegepmontpetit.ca/wp-content/uploads/sites/166/2023/05/Quest_2_07-scaled.jpg
END:VEVENT
END:VCALENDAR