BEGIN:VCALENDAR
VERSION:2.0
PRODID:-//Espace Moebius - ECPv6.0.12//NONSGML v1.0//EN
CALSCALE:GREGORIAN
METHOD:PUBLISH
X-WR-CALNAME:Espace Moebius
X-ORIGINAL-URL:https://moebius.cegepmontpetit.ca
X-WR-CALDESC:évènements pour Espace Moebius
REFRESH-INTERVAL;VALUE=DURATION:PT1H
X-Robots-Tag:noindex
X-PUBLISHED-TTL:PT1H
BEGIN:VTIMEZONE
TZID:America/Toronto
BEGIN:DAYLIGHT
TZOFFSETFROM:-0500
TZOFFSETTO:-0400
TZNAME:EDT
DTSTART:20240310T070000
END:DAYLIGHT
BEGIN:STANDARD
TZOFFSETFROM:-0400
TZOFFSETTO:-0500
TZNAME:EST
DTSTART:20241103T060000
END:STANDARD
END:VTIMEZONE
BEGIN:VEVENT
DTSTART;TZID=America/Toronto:20240325T080000
DTEND;TZID=America/Toronto:20240403T170000
DTSTAMP:20260424T113851
CREATED:20240314T131844Z
LAST-MODIFIED:20240314T131844Z
UID:17629-1711353600-1712163600@moebius.cegepmontpetit.ca
SUMMARY:Prêt BenQ 86 pouces - Espace Conférence
DESCRIPTION:
URL:https://moebius.cegepmontpetit.ca/evenement/pret-benq-86-pouces-espace-conference/
LOCATION:D2702
ATTACH;FMTTYPE=image/jpeg:https://moebius.cegepmontpetit.ca/wp-content/uploads/sites/166/2022/06/PXL_20220208_150128587.MP_-scaled.jpg
END:VEVENT
BEGIN:VEVENT
DTSTART;TZID=America/Toronto:20240401T080000
DTEND;TZID=America/Toronto:20240401T160000
DTSTAMP:20260424T113851
CREATED:20240201T142258Z
LAST-MODIFIED:20240201T142258Z
UID:17422-1711958400-1711987200@moebius.cegepmontpetit.ca
SUMMARY:Férié - Lundi de Pâques
DESCRIPTION:
URL:https://moebius.cegepmontpetit.ca/evenement/ferie-lundi-de-paques/
LOCATION:D2702
CATEGORIES:Local fermé
ATTACH;FMTTYPE=image/jpeg:https://moebius.cegepmontpetit.ca/wp-content/uploads/sites/166/2019/07/1090635-Modifier.jpg
END:VEVENT
BEGIN:VEVENT
DTSTART;TZID=America/Toronto:20240402T080000
DTEND;TZID=America/Toronto:20240402T110000
DTSTAMP:20260424T113851
CREATED:20240115T195623Z
LAST-MODIFIED:20240319T153211Z
UID:17162-1712044800-1712055600@moebius.cegepmontpetit.ca
SUMMARY:Réservation Espace Moebius - RV Soins infirmiers
DESCRIPTION:Simulation 419-Dyspnée (Pédiatrie) \nDemande #61931
URL:https://moebius.cegepmontpetit.ca/evenement/reservation-espace-moebius-rv-soins-infirmiers-27/
LOCATION:D2702
CATEGORIES:Besoin de portables,Imprimante en fonction,Mode exclusif,Réservation - CLAAC,Téléviseur interactif 1x
ATTACH;FMTTYPE=image/jpeg:https://moebius.cegepmontpetit.ca/wp-content/uploads/sites/166/2019/04/P1090458.jpg
END:VEVENT
BEGIN:VEVENT
DTSTART;TZID=America/Toronto:20240402T110000
DTEND;TZID=America/Toronto:20240402T140000
DTSTAMP:20260424T113851
CREATED:20240115T200802Z
LAST-MODIFIED:20240319T153254Z
UID:17169-1712055600-1712066400@moebius.cegepmontpetit.ca
SUMMARY:Réservation Espace Moebius - RV Soins Infirmiers
DESCRIPTION:Simulation 510-TCC \nBesoins des 3 stations fixes de Rift et des 3 stations mobiles (Quest 2 2x et Quest 3). \nDemande #61931 \n 
URL:https://moebius.cegepmontpetit.ca/evenement/reservation-espace-moebius-rv-soins-infirmiers-30/
LOCATION:D2702
CATEGORIES:Atelier - Réalité virtuelle,Besoin de portables,Imprimante en fonction,Mode exclusif,Réservation - CLAAC,Téléviseur interactif 1x
ATTACH;FMTTYPE=image/jpeg:https://moebius.cegepmontpetit.ca/wp-content/uploads/sites/166/2019/04/P1090458.jpg
END:VEVENT
BEGIN:VEVENT
DTSTART;TZID=America/Toronto:20240402T140000
DTEND;TZID=America/Toronto:20240402T160000
DTSTAMP:20260424T113851
CREATED:20240116T131047Z
LAST-MODIFIED:20240319T153326Z
UID:17183-1712066400-1712073600@moebius.cegepmontpetit.ca
SUMMARY:Printemps de la Culture
DESCRIPTION:Disposition du local à venir. \nAtelier d’impression 3D \nDemande #61916
URL:https://moebius.cegepmontpetit.ca/evenement/printemps-de-la-culture-6/
LOCATION:D2702
CATEGORIES:Atelier - Réalité virtuelle,Besoin de portables,Événement spécial,Imprimante en fonction,Mode exclusif,Réservation - CLAAC,Téléviseur interactif 1x
ATTACH;FMTTYPE=image/png:https://moebius.cegepmontpetit.ca/wp-content/uploads/sites/166/2022/12/claac.png
END:VEVENT
BEGIN:VEVENT
DTSTART;TZID=America/Toronto:20240403T130000
DTEND;TZID=America/Toronto:20240403T160000
DTSTAMP:20260424T113851
CREATED:20240328T194213Z
LAST-MODIFIED:20240328T194213Z
UID:17774-1712149200-1712160000@moebius.cegepmontpetit.ca
SUMMARY:Mode Partagé - Cours Littérature
DESCRIPTION:Demande #65532 \nBesoins de neuf portables
URL:https://moebius.cegepmontpetit.ca/evenement/mode-partage-cours-litterature/
LOCATION:D2702
CATEGORIES:1 portable par étudiant,Besoin de portables,Mode partagé,Réservation - CLAAC,Réservation - Zone discussion,Téléviseur interactif 1x
ATTACH;FMTTYPE=image/png:https://moebius.cegepmontpetit.ca/wp-content/uploads/sites/166/2020/02/littérature-et-français.png
END:VEVENT
BEGIN:VEVENT
DTSTART;TZID=America/Toronto:20240404T100000
DTEND;TZID=America/Toronto:20240404T120000
DTSTAMP:20260424T113851
CREATED:20240116T164831Z
LAST-MODIFIED:20240319T153402Z
UID:17259-1712224800-1712232000@moebius.cegepmontpetit.ca
SUMMARY:Réservation Espace Moebius - Cours Psychologie
DESCRIPTION:Évaluation avec Kit Bimodal\, normalement dans le coin discussion \nDemande #61928
URL:https://moebius.cegepmontpetit.ca/evenement/reservation-espace-moebius-cours-psychologie-11/
LOCATION:D2702
CATEGORIES:1 portable par étudiant,Besoin de portables,Imprimante en fonction,Mode exclusif,Réservation - CLAAC,Téléviseur interactif 1x
ATTACH;FMTTYPE=image/jpeg:https://moebius.cegepmontpetit.ca/wp-content/uploads/sites/166/2019/03/Video_Camera-e1553919606873.jpg
END:VEVENT
BEGIN:VEVENT
DTSTART;TZID=America/Toronto:20240404T120000
DTEND;TZID=America/Toronto:20240404T140000
DTSTAMP:20260424T113851
CREATED:20240328T195615Z
LAST-MODIFIED:20240402T121827Z
UID:17778-1712232000-1712239200@moebius.cegepmontpetit.ca
SUMMARY:Réservation Espace Moebius - RV Cinéma
DESCRIPTION:Besoins des quatre casques Quest 2 de réalité virtuelle. \nDemande #65534 \n 
URL:https://moebius.cegepmontpetit.ca/evenement/reservation-espace-moebius-rv-cinema/
LOCATION:D2702
CATEGORIES:Atelier - Réalité virtuelle,Imprimante en fonction,Réservation - CLAAC,Réservation - Médialab,Téléviseur interactif 1x
ATTACH;FMTTYPE=image/jpeg:https://moebius.cegepmontpetit.ca/wp-content/uploads/sites/166/2023/05/Quest_2_07-scaled.jpg
END:VEVENT
BEGIN:VEVENT
DTSTART;TZID=America/Toronto:20240405T083000
DTEND;TZID=America/Toronto:20240405T090000
DTSTAMP:20260424T113851
CREATED:20240402T191229Z
LAST-MODIFIED:20240402T191229Z
UID:17784-1712305800-1712307600@moebius.cegepmontpetit.ca
SUMMARY:Placement du local : Équipe de 4
DESCRIPTION:Disposition du local : 4×4 \nPour les tables en alvéole\, enlever 2 chaises pour des équipes de 4.  Besoin de 7 équipes. \nDemande #61918
URL:https://moebius.cegepmontpetit.ca/evenement/placement-du-local-equipe-de-4/
LOCATION:D2702
ATTACH;FMTTYPE=image/jpeg:https://moebius.cegepmontpetit.ca/wp-content/uploads/sites/166/2024/03/CLAAC-18_4x4.jpg
END:VEVENT
BEGIN:VEVENT
DTSTART;TZID=America/Toronto:20240405T090000
DTEND;TZID=America/Toronto:20240405T110000
DTSTAMP:20260424T113851
CREATED:20240116T134837Z
LAST-MODIFIED:20240319T153516Z
UID:17194-1712307600-1712314800@moebius.cegepmontpetit.ca
SUMMARY:Réservation Espace Moebius - Cours THD
DESCRIPTION:Disposition du local : En groupe de 4 \nDemande #61918
URL:https://moebius.cegepmontpetit.ca/evenement/reservation-espace-moebius-cours-thd-21/
LOCATION:D2702
CATEGORIES:Imprimante en fonction,Mode exclusif,Réservation - CLAAC,Téléviseur interactif 1x
ATTACH;FMTTYPE=image/jpeg:https://moebius.cegepmontpetit.ca/wp-content/uploads/sites/166/2019/03/dental-hygiene-600x375.jpg
END:VEVENT
BEGIN:VEVENT
DTSTART;TZID=America/Toronto:20240405T120000
DTEND;TZID=America/Toronto:20240405T160000
DTSTAMP:20260424T113851
CREATED:20240118T165459Z
LAST-MODIFIED:20240319T153539Z
UID:17312-1712318400-1712332800@moebius.cegepmontpetit.ca
SUMMARY:Réservation Espace Moebius - RV Soins infirmiers
DESCRIPTION:Simulation 309 \nDemande #61931
URL:https://moebius.cegepmontpetit.ca/evenement/reservation-espace-moebius-rv-soins-infirmiers-43/
LOCATION:D2702
CATEGORIES:Atelier - Réalité virtuelle,Besoin de portables,Imprimante en fonction,Mode exclusif,Réservation - CLAAC,Téléviseur interactif 1x
ATTACH;FMTTYPE=image/jpeg:https://moebius.cegepmontpetit.ca/wp-content/uploads/sites/166/2019/04/P1090458.jpg
END:VEVENT
BEGIN:VEVENT
DTSTART;TZID=America/Toronto:20240408T120000
DTEND;TZID=America/Toronto:20240408T140000
DTSTAMP:20260424T113851
CREATED:20240116T132906Z
LAST-MODIFIED:20240319T153614Z
UID:17187-1712577600-1712584800@moebius.cegepmontpetit.ca
SUMMARY:Réservation Espace Moebius - Cours THD
DESCRIPTION:Matériel : Aimants\, cartons couleurs aimantés et tableaux sur roulettes. \nDemande #61917
URL:https://moebius.cegepmontpetit.ca/evenement/reservation-espace-moebius-cours-thd-18/
LOCATION:D2702
CATEGORIES:Classe ananas_Observation,Mode exclusif,Réservation - CLAAC,Téléviseur interactif 1x
ATTACH;FMTTYPE=image/jpeg:https://moebius.cegepmontpetit.ca/wp-content/uploads/sites/166/2019/03/dental-hygiene-600x375.jpg
END:VEVENT
BEGIN:VEVENT
DTSTART;TZID=America/Toronto:20240409T130000
DTEND;TZID=America/Toronto:20240409T160000
DTSTAMP:20260424T113851
CREATED:20240208T154929Z
LAST-MODIFIED:20240319T153636Z
UID:17465-1712667600-1712678400@moebius.cegepmontpetit.ca
SUMMARY:Réservation Espace Moebius - RV Soins infirmiers
DESCRIPTION:Simulation 419-Dyspnée \nDemande #63429
URL:https://moebius.cegepmontpetit.ca/evenement/reservation-espace-moebius-rv-soins-infirmiers-48/
LOCATION:D2702
CATEGORIES:Atelier - Réalité virtuelle,Besoin de portables,Imprimante en fonction,Mode exclusif,Réservation - CLAAC,Téléviseur interactif 1x
ATTACH;FMTTYPE=image/jpeg:https://moebius.cegepmontpetit.ca/wp-content/uploads/sites/166/2019/04/P1090458.jpg
END:VEVENT
BEGIN:VEVENT
DTSTART;VALUE=DATE:20240410
DTEND;VALUE=DATE:20240412
DTSTAMP:20260424T113851
CREATED:20240409T153817Z
LAST-MODIFIED:20240409T153817Z
UID:17812-1712728800-1712815199@moebius.cegepmontpetit.ca
SUMMARY:Prêt BenQ 75 pouces - Espace Conférence
DESCRIPTION:
URL:https://moebius.cegepmontpetit.ca/evenement/pret-benq-75-pouces-espace-conference/
LOCATION:D2702
ATTACH;FMTTYPE=image/jpeg:https://moebius.cegepmontpetit.ca/wp-content/uploads/sites/166/2022/06/PXL_20220208_150128587.MP_-scaled.jpg
END:VEVENT
BEGIN:VEVENT
DTSTART;VALUE=DATE:20240411
DTEND;VALUE=DATE:20240413
DTSTAMP:20260424T113851
CREATED:20240403T185322Z
LAST-MODIFIED:20240403T185322Z
UID:17788-1712815200-1712901599@moebius.cegepmontpetit.ca
SUMMARY:Journée JR
DESCRIPTION:
URL:https://moebius.cegepmontpetit.ca/evenement/journee-jr-4/
LOCATION:D2702
END:VEVENT
BEGIN:VEVENT
DTSTART;TZID=America/Toronto:20240411T100000
DTEND;TZID=America/Toronto:20240411T140000
DTSTAMP:20260424T113851
CREATED:20240328T194418Z
LAST-MODIFIED:20240328T194418Z
UID:17776-1712829600-1712844000@moebius.cegepmontpetit.ca
SUMMARY:Mode Partagé - Cours Littérature
DESCRIPTION:Demande #65532 \nBesoins de neuf portables
URL:https://moebius.cegepmontpetit.ca/evenement/mode-partage-cours-litterature-2/
LOCATION:D2702
CATEGORIES:1 portable par étudiant,Besoin de portables,Mode partagé,Réservation - CLAAC,Réservation - Zone discussion,Téléviseur interactif 1x
ATTACH;FMTTYPE=image/png:https://moebius.cegepmontpetit.ca/wp-content/uploads/sites/166/2020/02/littérature-et-français.png
END:VEVENT
BEGIN:VEVENT
DTSTART;TZID=America/Toronto:20240412T080000
DTEND;TZID=America/Toronto:20240412T090000
DTSTAMP:20260424T113851
CREATED:20240318T194712Z
LAST-MODIFIED:20240408T124101Z
UID:17675-1712908800-1712912400@moebius.cegepmontpetit.ca
SUMMARY:Placement du local : En équipe de 4
DESCRIPTION:Disposition du local : Besoin d’un gros tableau blanc (sur roulettes) en avant et des tables disposées en équipes: 6 tables de 4 et 2 tables de 6. \nDemande #61918
URL:https://moebius.cegepmontpetit.ca/evenement/placement-du-local-en-equipe-de-4/
LOCATION:D2702
END:VEVENT
BEGIN:VEVENT
DTSTART;TZID=America/Toronto:20240412T090000
DTEND;TZID=America/Toronto:20240412T110000
DTSTAMP:20260424T113851
CREATED:20240116T135118Z
LAST-MODIFIED:20240318T192430Z
UID:17196-1712912400-1712919600@moebius.cegepmontpetit.ca
SUMMARY:Réservation Espace Moebius - Cours THD
DESCRIPTION:Disposition du local : En groupe de 4 \nDemande #61918 \nMatériel : \n– Boutons sonores : Oui\n– Verres de couleur : Oui
URL:https://moebius.cegepmontpetit.ca/evenement/reservation-espace-moebius-cours-thd-22/
LOCATION:D2702
CATEGORIES:Imprimante en fonction,Mode exclusif,Réservation - CLAAC,Téléviseur interactif 1x
ATTACH;FMTTYPE=image/jpeg:https://moebius.cegepmontpetit.ca/wp-content/uploads/sites/166/2019/03/dental-hygiene-600x375.jpg
END:VEVENT
BEGIN:VEVENT
DTSTART;TZID=America/Toronto:20240412T110000
DTEND;TZID=America/Toronto:20240412T120000
DTSTAMP:20260424T113851
CREATED:20240318T192317Z
LAST-MODIFIED:20240318T192317Z
UID:17671-1712919600-1712923200@moebius.cegepmontpetit.ca
SUMMARY:Placement du local : Le 10-4
DESCRIPTION:Disposition pour négociation  5 contre 5 \nDemande #61920
URL:https://moebius.cegepmontpetit.ca/evenement/placement-du-local-le-10-4/
LOCATION:D2702
CATEGORIES:Réservation de l'Espace Moebius
END:VEVENT
BEGIN:VEVENT
DTSTART;TZID=America/Toronto:20240412T120000
DTEND;TZID=America/Toronto:20240412T150000
DTSTAMP:20260424T113851
CREATED:20240116T141257Z
LAST-MODIFIED:20240318T192326Z
UID:17208-1712923200-1712934000@moebius.cegepmontpetit.ca
SUMMARY:Réservation Espace Moebius - Cours en administration
DESCRIPTION:Disposition pour négociation  5 contre 5 (Le 10-4) \nDemande #61920
URL:https://moebius.cegepmontpetit.ca/evenement/reservation-espace-moebius-cours-en-administration-3/
LOCATION:D2702
CATEGORIES:Mode exclusif,Réservation - CLAAC,Réservation - Médialab,Réservation - Zone discussion,Réservation de l'Espace Moebius,Téléviseur interactif 1x
ATTACH;FMTTYPE=image/jpeg:https://moebius.cegepmontpetit.ca/wp-content/uploads/sites/166/2019/05/administration.jpg
END:VEVENT
BEGIN:VEVENT
DTSTART;TZID=America/Toronto:20240412T150000
DTEND;TZID=America/Toronto:20240412T160000
DTSTAMP:20260424T113851
CREATED:20240318T192024Z
LAST-MODIFIED:20240410T191348Z
UID:17669-1712934000-1712937600@moebius.cegepmontpetit.ca
SUMMARY:Placement Local : Expo
DESCRIPTION:Demande #65099 \nDeux enseignants au centre en avant avec des demi-lunes de tables pour les étudiants. \nIls seront 28 étudiants donc priorisés de les placer entre les colonnes centrales au lieu de la pleine largeur.
URL:https://moebius.cegepmontpetit.ca/evenement/placement-local-expo/
LOCATION:D2702
CATEGORIES:Réservation de l'Espace Moebius
END:VEVENT
BEGIN:VEVENT
DTSTART;TZID=America/Toronto:20240412T160000
DTEND;TZID=America/Toronto:20240412T180000
DTSTAMP:20260424T113851
CREATED:20240318T191209Z
LAST-MODIFIED:20240318T191209Z
UID:17667-1712937600-1712944800@moebius.cegepmontpetit.ca
SUMMARY:Réservation Espace Moebius - Cours Informatique
DESCRIPTION:Disposition du local : Expo \nDemande #65099
URL:https://moebius.cegepmontpetit.ca/evenement/reservation-espace-moebius-cours-informatique-5/
LOCATION:D2702
CATEGORIES:Besoin de portables,Imprimante en fonction,Mode exclusif,Réservation - CLAAC,Réservation de l'Espace Moebius
ATTACH;FMTTYPE=image/jpeg:https://moebius.cegepmontpetit.ca/wp-content/uploads/sites/166/2019/03/P1090434.jpg
END:VEVENT
BEGIN:VEVENT
DTSTART;TZID=America/Toronto:20240415T090000
DTEND;TZID=America/Toronto:20240415T120000
DTSTAMP:20260424T113851
CREATED:20240116T185441Z
LAST-MODIFIED:20240319T153850Z
UID:17269-1713171600-1713182400@moebius.cegepmontpetit.ca
SUMMARY:Réservation Espace Moebius - Cours Administration
DESCRIPTION:Demande #61958
URL:https://moebius.cegepmontpetit.ca/evenement/reservation-espace-moebius-cours-administration-37/
LOCATION:D2702
CATEGORIES:1 portable par étudiant,Besoin de portables,Mode exclusif,Réservation - CLAAC,Téléviseur interactif 1x
ATTACH;FMTTYPE=image/jpeg:https://moebius.cegepmontpetit.ca/wp-content/uploads/sites/166/2019/05/administration.jpg
END:VEVENT
BEGIN:VEVENT
DTSTART;TZID=America/Toronto:20240416T080000
DTEND;TZID=America/Toronto:20240416T120000
DTSTAMP:20260424T113851
CREATED:20240115T193054Z
LAST-MODIFIED:20240319T153918Z
UID:17146-1713254400-1713268800@moebius.cegepmontpetit.ca
SUMMARY:Réservation Espace Moebius - RV Soins infirmiers
DESCRIPTION:Simulation 510-MPOC et 510-TCC \nInstallation des Stations de réalité virtuelle portables \nInstallation de 4 portables pour les sondages \nDemande #61931
URL:https://moebius.cegepmontpetit.ca/evenement/reservation-espace-moebius-rv-soins-infirmiers-13/
LOCATION:D2702
CATEGORIES:Atelier - Réalité virtuelle,Besoin de portables,Imprimante en fonction,Mode exclusif,Réservation - CLAAC,Téléviseur interactif 1x
ATTACH;FMTTYPE=image/jpeg:https://moebius.cegepmontpetit.ca/wp-content/uploads/sites/166/2019/04/P1090458.jpg
END:VEVENT
BEGIN:VEVENT
DTSTART;TZID=America/Toronto:20240416T133000
DTEND;TZID=America/Toronto:20240416T160000
DTSTAMP:20260424T113851
CREATED:20240116T143606Z
LAST-MODIFIED:20240415T192216Z
UID:17210-1713274200-1713283200@moebius.cegepmontpetit.ca
SUMMARY:Réservation Espace Moebius - RV Soins infirmiers
DESCRIPTION:Simulation 410- Post-Op \nDemande #61931
URL:https://moebius.cegepmontpetit.ca/evenement/reservation-espace-moebius-rv-soins-infirmiers-31/
LOCATION:D2702
CATEGORIES:Atelier - Réalité virtuelle,Besoin de portables,Imprimante en fonction,Mode exclusif,Réservation - CLAAC,Réservation - Médialab,Réservation - Zone discussion,Réservation de l'Espace Moebius,Téléviseur interactif 1x
ATTACH;FMTTYPE=image/jpeg:https://moebius.cegepmontpetit.ca/wp-content/uploads/sites/166/2019/04/P1090458.jpg
END:VEVENT
BEGIN:VEVENT
DTSTART;TZID=America/Toronto:20240417T080000
DTEND;TZID=America/Toronto:20240417T120000
DTSTAMP:20260424T113851
CREATED:20240116T201913Z
LAST-MODIFIED:20240415T151448Z
UID:17290-1713340800-1713355200@moebius.cegepmontpetit.ca
SUMMARY:Réservation Espace Moebius - RV Soins infirmiers
DESCRIPTION:Simulation 419-Dyspnée (Pédiatrie) \nDemande #61931 \n(Demande ajustée qui était de 9h à 12h et qui est maintenant de 8h à 12h)
URL:https://moebius.cegepmontpetit.ca/evenement/reservation-espace-moebius-rv-soins-infirmiers-42/
LOCATION:D2702
CATEGORIES:Atelier - Réalité virtuelle,Imprimante en fonction,Mode exclusif,Réservation - CLAAC,Téléviseur interactif 1x
ATTACH;FMTTYPE=image/jpeg:https://moebius.cegepmontpetit.ca/wp-content/uploads/sites/166/2019/04/P1090458.jpg
END:VEVENT
BEGIN:VEVENT
DTSTART;TZID=America/Toronto:20240418T080000
DTEND;TZID=America/Toronto:20240418T110000
DTSTAMP:20260424T113851
CREATED:20240402T130614Z
LAST-MODIFIED:20240402T130614Z
UID:17781-1713427200-1713438000@moebius.cegepmontpetit.ca
SUMMARY:Réservation Espace Moebius - Cours Administration
DESCRIPTION:Disposition du local : \n5 grandes tables de 8 chaise et une de 9 chaises \n(Référence : 10-4 plus un ilôt de 8 supplémentaire) \nConcept :  2 équipes par table (partie patronale et partie syndicale) \nDemande #65550 \n 
URL:https://moebius.cegepmontpetit.ca/evenement/reservation-espace-moebius-cours-administration-42/
LOCATION:D2702
CATEGORIES:Classe ananas_Observation,Imprimante en fonction,Mode exclusif,Réservation - CLAAC,Réservation de l'Espace Moebius,Téléviseur interactif 1x
ATTACH;FMTTYPE=image/jpeg:https://moebius.cegepmontpetit.ca/wp-content/uploads/sites/166/2019/05/administration.jpg
END:VEVENT
BEGIN:VEVENT
DTSTART;TZID=America/Toronto:20240418T133000
DTEND;TZID=America/Toronto:20240418T143000
DTSTAMP:20260424T113851
CREATED:20240418T123632Z
LAST-MODIFIED:20240418T123632Z
UID:17839-1713447000-1713450600@moebius.cegepmontpetit.ca
SUMMARY:Placement du local: Le CLAAQ-sique
DESCRIPTION:
URL:https://moebius.cegepmontpetit.ca/evenement/placement-du-local-le-claaq-sique/
LOCATION:D2702
END:VEVENT
BEGIN:VEVENT
DTSTART;TZID=America/Toronto:20240418T143000
DTEND;TZID=America/Toronto:20240418T160000
DTSTAMP:20260424T113851
CREATED:20240418T122742Z
LAST-MODIFIED:20240418T122823Z
UID:17837-1713450600-1713456000@moebius.cegepmontpetit.ca
SUMMARY:Réservation Espace Moebius - Cours Anglais
DESCRIPTION:Plan prédéfini : Le CLAAQ-sique \nBesoin d’ordinateurs portables \nDemande #66236
URL:https://moebius.cegepmontpetit.ca/evenement/reservation-espace-moebius-cours-anglais-4/
LOCATION:D2702
CATEGORIES:Besoin de portables,Mode exclusif,Réservation - CLAAC,Téléviseur interactif 1x
ATTACH;FMTTYPE=image/jpeg:https://moebius.cegepmontpetit.ca/wp-content/uploads/sites/166/2023/03/Recit-Claudine-e1679669850283.jpg
END:VEVENT
BEGIN:VEVENT
DTSTART;TZID=America/Toronto:20240419T080000
DTEND;TZID=America/Toronto:20240419T090000
DTSTAMP:20260424T113851
CREATED:20240319T160033Z
LAST-MODIFIED:20240319T160033Z
UID:17714-1713513600-1713517200@moebius.cegepmontpetit.ca
SUMMARY:Placement du local : Équipe de 4 (4x4)
DESCRIPTION:
URL:https://moebius.cegepmontpetit.ca/evenement/placement-du-local-equipe-de-4-4x4/
LOCATION:D2702
ATTACH;FMTTYPE=image/jpeg:https://moebius.cegepmontpetit.ca/wp-content/uploads/sites/166/2024/03/CLAAC-18_4x4.jpg
END:VEVENT
END:VCALENDAR