BEGIN:VCALENDAR
VERSION:2.0
PRODID:-//Espace Moebius - ECPv6.0.12//NONSGML v1.0//EN
CALSCALE:GREGORIAN
METHOD:PUBLISH
X-ORIGINAL-URL:https://moebius.cegepmontpetit.ca
X-WR-CALDESC:évènements pour Espace Moebius
REFRESH-INTERVAL;VALUE=DURATION:PT1H
X-Robots-Tag:noindex
X-PUBLISHED-TTL:PT1H
BEGIN:VTIMEZONE
TZID:America/Toronto
BEGIN:DAYLIGHT
TZOFFSETFROM:-0500
TZOFFSETTO:-0400
TZNAME:EDT
DTSTART:20240310T070000
END:DAYLIGHT
BEGIN:STANDARD
TZOFFSETFROM:-0400
TZOFFSETTO:-0500
TZNAME:EST
DTSTART:20241103T060000
END:STANDARD
END:VTIMEZONE
BEGIN:VEVENT
DTSTART;TZID=America/Toronto:20240603T080000
DTEND;TZID=America/Toronto:20240603T150000
DTSTAMP:20260424T085851
CREATED:20240416T152101Z
LAST-MODIFIED:20240529T185548Z
UID:17831-1717401600-1717426800@moebius.cegepmontpetit.ca
SUMMARY:Réservation Espace Moebius - Formation professionnelle
DESCRIPTION:Demande #66128 \nNom du plan prédéfini : 10-4 modifiée \nVerres de couleur
URL:https://moebius.cegepmontpetit.ca/evenement/reservation-espace-moebius-formation-professionnelle/
LOCATION:D2702
CATEGORIES:Besoin de portables,Imprimante en fonction,Mode exclusif,Réservation - CLAAC,Téléviseur interactif 1x
END:VEVENT
BEGIN:VEVENT
DTSTART;TZID=America/Toronto:20240603T153000
DTEND;TZID=America/Toronto:20240603T160000
DTSTAMP:20260424T085851
CREATED:20240528T194404Z
LAST-MODIFIED:20240528T194404Z
UID:18330-1717428600-1717430400@moebius.cegepmontpetit.ca
SUMMARY:Mode Partagé - Formation Moebius
DESCRIPTION:Demande #67399
URL:https://moebius.cegepmontpetit.ca/evenement/mode-partage-formation-moebius/
LOCATION:D2702
CATEGORIES:Besoin de portables,Mode partagé,Réservation - CLAAC,Téléviseur interactif 1x
ATTACH;FMTTYPE=image/jpeg:https://moebius.cegepmontpetit.ca/wp-content/uploads/sites/166/2022/06/PXL_20220208_150128587.MP_-scaled.jpg
END:VEVENT
BEGIN:VEVENT
DTSTART;TZID=America/Toronto:20240604T090000
DTEND;TZID=America/Toronto:20240604T180000
DTSTAMP:20260424T085851
CREATED:20240528T141612Z
LAST-MODIFIED:20240528T141612Z
UID:18319-1717491600-1717524000@moebius.cegepmontpetit.ca
SUMMARY:Réservation Espace Moebius - Cours administration
DESCRIPTION:Demande #67663
URL:https://moebius.cegepmontpetit.ca/evenement/reservation-espace-moebius-cours-administration-43/
LOCATION:D2702
CATEGORIES:Classe ananas_Observation,Imprimante en fonction,Mode exclusif,Réservation - CLAAC,Téléviseur interactif 1x
ATTACH;FMTTYPE=image/jpeg:https://moebius.cegepmontpetit.ca/wp-content/uploads/sites/166/2019/05/administration.jpg
END:VEVENT
BEGIN:VEVENT
DTSTART;TZID=America/Toronto:20240605T120000
DTEND;TZID=America/Toronto:20240605T130000
DTSTAMP:20260424T085851
CREATED:20240523T192654Z
LAST-MODIFIED:20240523T192654Z
UID:18233-1717588800-1717592400@moebius.cegepmontpetit.ca
SUMMARY:Dîner - Local Fermé
DESCRIPTION:
URL:https://moebius.cegepmontpetit.ca/evenement/diner-local-ferme-23/
LOCATION:D2702
ATTACH;FMTTYPE=image/jpeg:https://moebius.cegepmontpetit.ca/wp-content/uploads/sites/166/2019/07/1090639.jpg
END:VEVENT
BEGIN:VEVENT
DTSTART;TZID=America/Toronto:20240606T120000
DTEND;TZID=America/Toronto:20240606T130000
DTSTAMP:20260424T085851
CREATED:20240523T192728Z
LAST-MODIFIED:20240523T192728Z
UID:18235-1717675200-1717678800@moebius.cegepmontpetit.ca
SUMMARY:Dîner - Local Fermé
DESCRIPTION:
URL:https://moebius.cegepmontpetit.ca/evenement/diner-local-ferme-24/
LOCATION:D2702
ATTACH;FMTTYPE=image/jpeg:https://moebius.cegepmontpetit.ca/wp-content/uploads/sites/166/2019/07/1090639.jpg
END:VEVENT
BEGIN:VEVENT
DTSTART;TZID=America/Toronto:20240607T080000
DTEND;TZID=America/Toronto:20240607T160000
DTSTAMP:20260424T085851
CREATED:20240522T132747Z
LAST-MODIFIED:20240522T132747Z
UID:18130-1717747200-1717776000@moebius.cegepmontpetit.ca
SUMMARY:Journée Plein Air CEM
DESCRIPTION:
URL:https://moebius.cegepmontpetit.ca/evenement/journee-plein-air-cem/
LOCATION:D2702
CATEGORIES:Réservation de l'Espace Moebius
END:VEVENT
BEGIN:VEVENT
DTSTART;TZID=America/Toronto:20240610T090000
DTEND;TZID=America/Toronto:20240610T120000
DTSTAMP:20260424T085851
CREATED:20240529T151805Z
LAST-MODIFIED:20240529T151805Z
UID:18333-1718010000-1718020800@moebius.cegepmontpetit.ca
SUMMARY:Réservation Espace Moebius - Rencontre Disti
DESCRIPTION:#67733 \nPortables: une dizaine
URL:https://moebius.cegepmontpetit.ca/evenement/reservation-espace-moebius-rencontre-disti-4/
LOCATION:D2702
CATEGORIES:Besoin de portables,Imprimante en fonction,Mode exclusif,Téléviseur interactif 1x
ATTACH;FMTTYPE=image/jpeg:https://moebius.cegepmontpetit.ca/wp-content/uploads/sites/166/2019/03/P1090429.jpg
END:VEVENT
BEGIN:VEVENT
DTSTART;TZID=America/Toronto:20240610T120000
DTEND;TZID=America/Toronto:20240610T130000
DTSTAMP:20260424T085851
CREATED:20240523T193116Z
LAST-MODIFIED:20240523T193116Z
UID:18238-1718020800-1718024400@moebius.cegepmontpetit.ca
SUMMARY:Dîner - Local fermé
DESCRIPTION:
URL:https://moebius.cegepmontpetit.ca/evenement/diner-local-ferme-25/
LOCATION:D2702
ATTACH;FMTTYPE=image/jpeg:https://moebius.cegepmontpetit.ca/wp-content/uploads/sites/166/2019/07/1090639.jpg
END:VEVENT
BEGIN:VEVENT
DTSTART;TZID=America/Toronto:20240611T080000
DTEND;TZID=America/Toronto:20240611T090000
DTSTAMP:20260424T085851
CREATED:20240606T143843Z
LAST-MODIFIED:20240606T143843Z
UID:18441-1718092800-1718096400@moebius.cegepmontpetit.ca
SUMMARY:Placement Local : Assemblée asymétrique + 2e TV + Bimodal
DESCRIPTION:Pour demande TIM et CA de la Fondation.
URL:https://moebius.cegepmontpetit.ca/evenement/placement-local-assemblee-asymetrique-2e-tv-bimodal/
LOCATION:D2702
ATTACH;FMTTYPE=image/png:https://moebius.cegepmontpetit.ca/wp-content/uploads/sites/166/2024/06/Assemblee-Modifiee.png
END:VEVENT
BEGIN:VEVENT
DTSTART;TZID=America/Toronto:20240611T090000
DTEND;TZID=America/Toronto:20240611T160000
DTSTAMP:20260424T085851
CREATED:20240528T135944Z
LAST-MODIFIED:20240528T135944Z
UID:18317-1718096400-1718121600@moebius.cegepmontpetit.ca
SUMMARY:Réservation Espace Moebius - Formation département TIM
DESCRIPTION:Demande #67650
URL:https://moebius.cegepmontpetit.ca/evenement/reservation-espace-moebius-formation-departement-tim/
LOCATION:D2702
CATEGORIES:Imprimante en fonction,Mode exclusif,Réservation - CLAAC,Téléviseur interactif 1x
ATTACH;FMTTYPE=image/jpeg:https://moebius.cegepmontpetit.ca/wp-content/uploads/sites/166/2019/06/Capture.jpg
END:VEVENT
BEGIN:VEVENT
DTSTART;TZID=America/Toronto:20240611T160000
DTEND;TZID=America/Toronto:20240611T210000
DTSTAMP:20260424T085851
CREATED:20240528T174656Z
LAST-MODIFIED:20240528T174801Z
UID:18321-1718121600-1718139600@moebius.cegepmontpetit.ca
SUMMARY:Réservation Espace Moebius - CA Fondation
DESCRIPTION:Demande #67692\nDisposition du local : ONU modifiée\nBesoin de l’ensemble Bimodal et la seconde télévision.
URL:https://moebius.cegepmontpetit.ca/evenement/reservation-espace-moebius-ca-fondation/
CATEGORIES:Mode exclusif,Réservation - CLAAC,Téléviseur interactif 1x,Téléviseur interactif 2x
ATTACH;FMTTYPE=image/png:https://moebius.cegepmontpetit.ca/wp-content/uploads/sites/166/2024/05/ONU-Modifiee.png
END:VEVENT
BEGIN:VEVENT
DTSTART;TZID=America/Toronto:20240612T090000
DTEND;TZID=America/Toronto:20240612T100000
DTSTAMP:20260424T085851
CREATED:20240603T195417Z
LAST-MODIFIED:20240603T195417Z
UID:18424-1718182800-1718186400@moebius.cegepmontpetit.ca
SUMMARY:Placement local: Expo modifié
DESCRIPTION:#67399
URL:https://moebius.cegepmontpetit.ca/evenement/placement-local-expo-modifie/
LOCATION:D2702
ATTACH;FMTTYPE=image/png:https://moebius.cegepmontpetit.ca/wp-content/uploads/sites/166/2024/06/Expo_modifie.png
END:VEVENT
BEGIN:VEVENT
DTSTART;TZID=America/Toronto:20240612T100000
DTEND;TZID=America/Toronto:20240612T140000
DTSTAMP:20260424T085851
CREATED:20240528T135204Z
LAST-MODIFIED:20240606T143648Z
UID:18315-1718186400-1718200800@moebius.cegepmontpetit.ca
SUMMARY:Réservation Espace Moebius - Cours formation continue
DESCRIPTION:Demande #67399\nDisposition Expo modifié
URL:https://moebius.cegepmontpetit.ca/evenement/reservation-espace-moebius-cours-formation-continue/
LOCATION:D2702
CATEGORIES:Mode exclusif,Réservation - CLAAC,Téléviseur interactif 1x
ATTACH;FMTTYPE=image/png:https://moebius.cegepmontpetit.ca/wp-content/uploads/sites/166/2022/12/claac.png
END:VEVENT
BEGIN:VEVENT
DTSTART;TZID=America/Toronto:20240613T090000
DTEND;TZID=America/Toronto:20240613T120000
DTSTAMP:20260424T085851
CREATED:20240529T153454Z
LAST-MODIFIED:20240529T153454Z
UID:18339-1718269200-1718280000@moebius.cegepmontpetit.ca
SUMMARY:Réservation Espace Moebius - Rencontre Disti
DESCRIPTION:#67733 \nPortables: une dizaine
URL:https://moebius.cegepmontpetit.ca/evenement/reservation-espace-moebius-rencontre-disti-5/
LOCATION:D2702
CATEGORIES:Besoin de portables,Imprimante en fonction,Mode exclusif,Téléviseur interactif 1x
ATTACH;FMTTYPE=image/jpeg:https://moebius.cegepmontpetit.ca/wp-content/uploads/sites/166/2019/03/P1090429.jpg
END:VEVENT
BEGIN:VEVENT
DTSTART;TZID=America/Toronto:20240613T120000
DTEND;TZID=America/Toronto:20240613T130000
DTSTAMP:20260424T085851
CREATED:20240523T193304Z
LAST-MODIFIED:20240523T193304Z
UID:18244-1718280000-1718283600@moebius.cegepmontpetit.ca
SUMMARY:Dîner - Local Fermé
DESCRIPTION:
URL:https://moebius.cegepmontpetit.ca/evenement/diner-local-ferme-28/
LOCATION:D2702
ATTACH;FMTTYPE=image/jpeg:https://moebius.cegepmontpetit.ca/wp-content/uploads/sites/166/2019/07/1090633-Modifier-e1562721284853.jpg
END:VEVENT
BEGIN:VEVENT
DTSTART;TZID=America/Toronto:20240613T130000
DTEND;TZID=America/Toronto:20240613T170000
DTSTAMP:20260424T085851
CREATED:20240606T195637Z
LAST-MODIFIED:20240606T195637Z
UID:18444-1718283600-1718298000@moebius.cegepmontpetit.ca
SUMMARY:Réservation Espace Moebius - Rencontre direction des études
DESCRIPTION:Demande #68030
URL:https://moebius.cegepmontpetit.ca/evenement/reservation-espace-moebius-rencontre-direction-des-etudes/
LOCATION:D2702
CATEGORIES:Besoin de portables,Mode exclusif,Réservation - CLAAC,Téléviseur interactif 1x
ATTACH;FMTTYPE=image/jpeg:https://moebius.cegepmontpetit.ca/wp-content/uploads/sites/166/2019/03/P1090434.jpg
END:VEVENT
BEGIN:VEVENT
DTSTART;TZID=America/Toronto:20240614T113000
DTEND;TZID=America/Toronto:20240614T160000
DTSTAMP:20260424T085851
CREATED:20240523T193408Z
LAST-MODIFIED:20240523T193408Z
UID:18246-1718364600-1718380800@moebius.cegepmontpetit.ca
SUMMARY:Dîner et Horaire d'été - Local fermé
DESCRIPTION:
URL:https://moebius.cegepmontpetit.ca/evenement/diner-et-horaire-dete-local-ferme/
LOCATION:D2702
ATTACH;FMTTYPE=image/jpeg:https://moebius.cegepmontpetit.ca/wp-content/uploads/sites/166/2019/07/1090639.jpg
END:VEVENT
BEGIN:VEVENT
DTSTART;TZID=America/Toronto:20240617T090000
DTEND;TZID=America/Toronto:20240617T120000
DTSTAMP:20260424T085851
CREATED:20240529T154123Z
LAST-MODIFIED:20240529T154242Z
UID:18341-1718614800-1718625600@moebius.cegepmontpetit.ca
SUMMARY:Réservation Espace Moebius – Rencontre Disti
DESCRIPTION:#67733 \nPortables: une dizaine
URL:https://moebius.cegepmontpetit.ca/evenement/reservation-espace-moebius-rencontre-disti-6/
LOCATION:D2702
CATEGORIES:Besoin de portables,Imprimante en fonction,Mode exclusif,Téléviseur interactif 1x
ATTACH;FMTTYPE=image/jpeg:https://moebius.cegepmontpetit.ca/wp-content/uploads/sites/166/2019/03/P1090429.jpg
END:VEVENT
BEGIN:VEVENT
DTSTART;TZID=America/Toronto:20240617T120000
DTEND;TZID=America/Toronto:20240617T130000
DTSTAMP:20260424T085851
CREATED:20240523T193444Z
LAST-MODIFIED:20240523T193444Z
UID:18248-1718625600-1718629200@moebius.cegepmontpetit.ca
SUMMARY:Dîner - Local Fermé
DESCRIPTION:
URL:https://moebius.cegepmontpetit.ca/evenement/diner-local-ferme-29/
LOCATION:D2702
ATTACH;FMTTYPE=image/jpeg:https://moebius.cegepmontpetit.ca/wp-content/uploads/sites/166/2019/07/1090633-Modifier-e1562721284853.jpg
END:VEVENT
BEGIN:VEVENT
DTSTART;TZID=America/Toronto:20240618T090000
DTEND;TZID=America/Toronto:20240618T120000
DTSTAMP:20260424T085851
CREATED:20240529T154337Z
LAST-MODIFIED:20240529T154337Z
UID:18343-1718701200-1718712000@moebius.cegepmontpetit.ca
SUMMARY:Réservation Espace Moebius – Rencontre Disti
DESCRIPTION:#67733 \nPortables: une dizaine
URL:https://moebius.cegepmontpetit.ca/evenement/reservation-espace-moebius-rencontre-disti-7/
LOCATION:D2702
CATEGORIES:Besoin de portables,Imprimante en fonction,Mode exclusif,Téléviseur interactif 1x
ATTACH;FMTTYPE=image/jpeg:https://moebius.cegepmontpetit.ca/wp-content/uploads/sites/166/2019/03/P1090429.jpg
END:VEVENT
BEGIN:VEVENT
DTSTART;TZID=America/Toronto:20240618T120000
DTEND;TZID=America/Toronto:20240618T130000
DTSTAMP:20260424T085851
CREATED:20240523T193517Z
LAST-MODIFIED:20240523T193517Z
UID:18250-1718712000-1718715600@moebius.cegepmontpetit.ca
SUMMARY:Dîner - Local Fermé
DESCRIPTION:
URL:https://moebius.cegepmontpetit.ca/evenement/diner-local-ferme-30/
LOCATION:D2702
ATTACH;FMTTYPE=image/jpeg:https://moebius.cegepmontpetit.ca/wp-content/uploads/sites/166/2019/07/1090633-Modifier-e1562721284853.jpg
END:VEVENT
BEGIN:VEVENT
DTSTART;TZID=America/Toronto:20240619T100000
DTEND;TZID=America/Toronto:20240619T110000
DTSTAMP:20260424T085851
CREATED:20240612T194715Z
LAST-MODIFIED:20240612T194715Z
UID:18451-1718791200-1718794800@moebius.cegepmontpetit.ca
SUMMARY:Médialab : Présentation Simulations Soins Infirmiers
DESCRIPTION:Besoins des simulations RV 510-MPOC\, 510-TCC\, 610 Post-OP et 21B-FX-Tibia.\nBesoins des 3 postes Rift + 1 Poste mobile\nDemande #68215
URL:https://moebius.cegepmontpetit.ca/evenement/medialab-presentation-simulations-soins-infirmiers/
LOCATION:D2702
CATEGORIES:Atelier - Réalité virtuelle,Imprimante en fonction,Mode partagé,Réservation - Médialab
ATTACH;FMTTYPE=image/jpeg:https://moebius.cegepmontpetit.ca/wp-content/uploads/sites/166/2019/04/P1090458.jpg
END:VEVENT
BEGIN:VEVENT
DTSTART;TZID=America/Toronto:20240619T120000
DTEND;TZID=America/Toronto:20240619T130000
DTSTAMP:20260424T085851
CREATED:20240523T193554Z
LAST-MODIFIED:20240523T193554Z
UID:18252-1718798400-1718802000@moebius.cegepmontpetit.ca
SUMMARY:Dîner - Local Fermé
DESCRIPTION:
URL:https://moebius.cegepmontpetit.ca/evenement/diner-local-ferme-31/
LOCATION:D2702
ATTACH;FMTTYPE=image/jpeg:https://moebius.cegepmontpetit.ca/wp-content/uploads/sites/166/2019/07/1090639.jpg
END:VEVENT
BEGIN:VEVENT
DTSTART;TZID=America/Toronto:20240620T103000
DTEND;TZID=America/Toronto:20240620T113000
DTSTAMP:20260424T085851
CREATED:20240614T143147Z
LAST-MODIFIED:20240614T143147Z
UID:18455-1718879400-1718883000@moebius.cegepmontpetit.ca
SUMMARY:Placement local: Réunion modifié
DESCRIPTION:#68255 \nDisposition: En rond\, style réunion\, pour 25 personnes
URL:https://moebius.cegepmontpetit.ca/evenement/placement-local-reunion-modifie/
LOCATION:D2702
ATTACH;FMTTYPE=image/png:https://moebius.cegepmontpetit.ca/wp-content/uploads/sites/166/2024/05/02_La_Re-U-nion.png
END:VEVENT
BEGIN:VEVENT
DTSTART;TZID=America/Toronto:20240620T113000
DTEND;TZID=America/Toronto:20240620T140000
DTSTAMP:20260424T085851
CREATED:20240614T143010Z
LAST-MODIFIED:20240614T143010Z
UID:18453-1718883000-1718892000@moebius.cegepmontpetit.ca
SUMMARY:Réservation Espace Moebius - Rencontre administratif
DESCRIPTION:#68255 \nDisposition: En rond\, style réunion\, pour 25 personnes
URL:https://moebius.cegepmontpetit.ca/evenement/reservation-espace-moebius-rencontre-administratif/
LOCATION:D2702
CATEGORIES:Mode exclusif
ATTACH;FMTTYPE=image/png:https://moebius.cegepmontpetit.ca/wp-content/uploads/sites/166/2024/05/02_La_Re-U-nion.png
END:VEVENT
BEGIN:VEVENT
DTSTART;TZID=America/Toronto:20240620T120000
DTEND;TZID=America/Toronto:20240620T130000
DTSTAMP:20260424T085851
CREATED:20240523T193625Z
LAST-MODIFIED:20240523T193625Z
UID:18254-1718884800-1718888400@moebius.cegepmontpetit.ca
SUMMARY:Dîner - Local Fermé
DESCRIPTION:
URL:https://moebius.cegepmontpetit.ca/evenement/diner-local-ferme-32/
LOCATION:D2702
ATTACH;FMTTYPE=image/jpeg:https://moebius.cegepmontpetit.ca/wp-content/uploads/sites/166/2019/07/1090633-Modifier-e1562721284853.jpg
END:VEVENT
BEGIN:VEVENT
DTSTART;TZID=America/Toronto:20240621T090000
DTEND;TZID=America/Toronto:20240621T120000
DTSTAMP:20260424T085851
CREATED:20240529T154504Z
LAST-MODIFIED:20240529T154504Z
UID:18345-1718960400-1718971200@moebius.cegepmontpetit.ca
SUMMARY:Réservation Espace Moebius – Rencontre Disti
DESCRIPTION:#67733 \nPortables: une dizaine
URL:https://moebius.cegepmontpetit.ca/evenement/reservation-espace-moebius-rencontre-disti-8/
LOCATION:D2702
CATEGORIES:Besoin de portables,Imprimante en fonction,Mode exclusif,Téléviseur interactif 1x
ATTACH;FMTTYPE=image/jpeg:https://moebius.cegepmontpetit.ca/wp-content/uploads/sites/166/2019/03/P1090429.jpg
END:VEVENT
BEGIN:VEVENT
DTSTART;TZID=America/Toronto:20240621T113000
DTEND;TZID=America/Toronto:20240621T160000
DTSTAMP:20260424T085851
CREATED:20240523T193711Z
LAST-MODIFIED:20240523T193711Z
UID:18256-1718969400-1718985600@moebius.cegepmontpetit.ca
SUMMARY:Dîner et Horaire d'été - Local Fermé
DESCRIPTION:
URL:https://moebius.cegepmontpetit.ca/evenement/diner-et-horaire-dete-local-ferme-2/
LOCATION:D2702
ATTACH;FMTTYPE=image/jpeg:https://moebius.cegepmontpetit.ca/wp-content/uploads/sites/166/2019/07/1090639.jpg
END:VEVENT
BEGIN:VEVENT
DTSTART;TZID=America/Toronto:20240624T080000
DTEND;TZID=America/Toronto:20240624T160000
DTSTAMP:20260424T085851
CREATED:20240523T193910Z
LAST-MODIFIED:20240523T193910Z
UID:18259-1719216000-1719244800@moebius.cegepmontpetit.ca
SUMMARY:Férié - Fête nationale du Québec
DESCRIPTION:
URL:https://moebius.cegepmontpetit.ca/evenement/ferie-fete-nationale-du-quebec-3/
LOCATION:D2702
ATTACH;FMTTYPE=image/jpeg:https://moebius.cegepmontpetit.ca/wp-content/uploads/sites/166/2019/07/1090639.jpg
END:VEVENT
BEGIN:VEVENT
DTSTART;TZID=America/Toronto:20240625T120000
DTEND;TZID=America/Toronto:20240625T130000
DTSTAMP:20260424T085851
CREATED:20240523T193833Z
LAST-MODIFIED:20240523T193833Z
UID:18237-1719316800-1719320400@moebius.cegepmontpetit.ca
SUMMARY:Dîner - Local Fermé
DESCRIPTION:
URL:https://moebius.cegepmontpetit.ca/evenement/diner-local-ferme-33/
LOCATION:D2702
ATTACH;FMTTYPE=image/jpeg:https://moebius.cegepmontpetit.ca/wp-content/uploads/sites/166/2019/07/1090633-Modifier-e1562721284853.jpg
END:VEVENT
END:VCALENDAR