BEGIN:VCALENDAR
VERSION:2.0
PRODID:-//Espace Moebius - ECPv6.0.12//NONSGML v1.0//EN
CALSCALE:GREGORIAN
METHOD:PUBLISH
X-WR-CALNAME:Espace Moebius
X-ORIGINAL-URL:https://moebius.cegepmontpetit.ca
X-WR-CALDESC:évènements pour Espace Moebius
REFRESH-INTERVAL;VALUE=DURATION:PT1H
X-Robots-Tag:noindex
X-PUBLISHED-TTL:PT1H
BEGIN:VTIMEZONE
TZID:America/Toronto
BEGIN:DAYLIGHT
TZOFFSETFROM:-0500
TZOFFSETTO:-0400
TZNAME:EDT
DTSTART:20240310T070000
END:DAYLIGHT
BEGIN:STANDARD
TZOFFSETFROM:-0400
TZOFFSETTO:-0500
TZNAME:EST
DTSTART:20241103T060000
END:STANDARD
END:VTIMEZONE
BEGIN:VEVENT
DTSTART;VALUE=DATE:20241001
DTEND;VALUE=DATE:20241003
DTSTAMP:20260424T044917
CREATED:20240913T122426Z
LAST-MODIFIED:20240925T173852Z
UID:19253-1727762400-1727848799@moebius.cegepmontpetit.ca
SUMMARY:Prêt de 1 casques Quest 3 + 1 laptop
DESCRIPTION:Prêt de 1 casques Quest 3 + 1 laptop (station fixe) \nTemp du prêt: 12h30 à 14h30 \nEnseignant: Jonathan Gordon
URL:https://moebius.cegepmontpetit.ca/evenement/pret-de-3-casques-quest-2-3-3-laptop/
LOCATION:D2702
ATTACH;FMTTYPE=image/jpeg:https://moebius.cegepmontpetit.ca/wp-content/uploads/sites/166/2024/02/Quest_3_1_Choix-scaled.jpg
END:VEVENT
BEGIN:VEVENT
DTSTART;TZID=America/Toronto:20241001T080000
DTEND;TZID=America/Toronto:20241001T120000
DTSTAMP:20260424T044917
CREATED:20240815T173117Z
LAST-MODIFIED:20240815T174226Z
UID:18675-1727769600-1727784000@moebius.cegepmontpetit.ca
SUMMARY:Réservation - RV Soins Infirmiers
DESCRIPTION:Simulation 510-TCC et 510-MPOC\nBesoins de 6 postes de RV \nDemande # 69332
URL:https://moebius.cegepmontpetit.ca/evenement/reservation-rv-soins-infirmiers-5/
LOCATION:D2702
CATEGORIES:Atelier - Réalité virtuelle,Mode exclusif,Réservation - CLAAC,Téléviseur interactif 1x
ATTACH;FMTTYPE=image/jpeg:https://moebius.cegepmontpetit.ca/wp-content/uploads/sites/166/2019/04/P1090458.jpg
END:VEVENT
BEGIN:VEVENT
DTSTART;TZID=America/Toronto:20241001T120000
DTEND;TZID=America/Toronto:20241001T150000
DTSTAMP:20260424T044917
CREATED:20240815T173451Z
LAST-MODIFIED:20240815T174234Z
UID:18677-1727784000-1727794800@moebius.cegepmontpetit.ca
SUMMARY:Réservation - RV Soins Infirmiers
DESCRIPTION:Simulation 419-PED\nDemande # 69332
URL:https://moebius.cegepmontpetit.ca/evenement/reservation-rv-soins-infirmiers-6/
LOCATION:D2702
CATEGORIES:Atelier - Réalité virtuelle,Imprimante en fonction,Mode exclusif,Réservation - CLAAC,Téléviseur interactif 1x
ATTACH;FMTTYPE=image/jpeg:https://moebius.cegepmontpetit.ca/wp-content/uploads/sites/166/2019/04/P1090458.jpg
END:VEVENT
BEGIN:VEVENT
DTSTART;TZID=America/Toronto:20241002T100000
DTEND;TZID=America/Toronto:20241002T120000
DTSTAMP:20260424T044917
CREATED:20240816T193936Z
LAST-MODIFIED:20240930T122251Z
UID:18864-1727863200-1727870400@moebius.cegepmontpetit.ca
SUMMARY:Réservation - Cours Informatique
DESCRIPTION:Disposition : Le CLAAC-ssique ou Le premier-ministre ou l’ONU\, peu importe selon le plus simple qui sera déjà en place pour accueillir 46 étudiants \nMatériel: 2 kit bimodale \nDemande #69348
URL:https://moebius.cegepmontpetit.ca/evenement/reservation-cours-informatique/
LOCATION:D2702
CATEGORIES:Imprimante en fonction,Mode exclusif,Réservation - CLAAC,Téléviseur interactif 1x
ATTACH;FMTTYPE=image/jpeg:https://moebius.cegepmontpetit.ca/wp-content/uploads/sites/166/2019/06/Moébius-ordinateur-HP-13-06-2019-1-e1568646589397.jpg
END:VEVENT
BEGIN:VEVENT
DTSTART;TZID=America/Toronto:20241002T120000
DTEND;TZID=America/Toronto:20241002T150000
DTSTAMP:20260424T044917
CREATED:20240815T174644Z
LAST-MODIFIED:20240815T174644Z
UID:18692-1727870400-1727881200@moebius.cegepmontpetit.ca
SUMMARY:Réservation - RV Soins Infirmiers
DESCRIPTION:Simulation 419-PED\nDemande # 69332
URL:https://moebius.cegepmontpetit.ca/evenement/reservation-rv-soins-infirmiers-7/
LOCATION:D2702
CATEGORIES:Atelier - Réalité virtuelle,Imprimante en fonction,Mode exclusif,Réservation - CLAAC,Téléviseur interactif 1x
ATTACH;FMTTYPE=image/jpeg:https://moebius.cegepmontpetit.ca/wp-content/uploads/sites/166/2019/04/P1090458.jpg
END:VEVENT
BEGIN:VEVENT
DTSTART;TZID=America/Toronto:20241003T080000
DTEND;TZID=America/Toronto:20241003T110000
DTSTAMP:20260424T044917
CREATED:20240816T122530Z
LAST-MODIFIED:20240816T123142Z
UID:18762-1727942400-1727953200@moebius.cegepmontpetit.ca
SUMMARY:Réservation - RV Soins Infirmiers
DESCRIPTION:Simulation 410-Post-Op\nDemande #69332
URL:https://moebius.cegepmontpetit.ca/evenement/reservation-rv-soins-infirmiers-29/
LOCATION:D2702
CATEGORIES:Atelier - Réalité virtuelle,Besoin de portables,Mode exclusif,Réservation - CLAAC,Téléviseur interactif 1x
ATTACH;FMTTYPE=image/jpeg:https://moebius.cegepmontpetit.ca/wp-content/uploads/sites/166/2019/04/P1090458.jpg
END:VEVENT
BEGIN:VEVENT
DTSTART;TZID=America/Toronto:20241003T120000
DTEND;TZID=America/Toronto:20241003T160000
DTSTAMP:20260424T044917
CREATED:20240815T174814Z
LAST-MODIFIED:20241025T180537Z
UID:18694-1727956800-1727971200@moebius.cegepmontpetit.ca
SUMMARY:Réservation - RV Soins Infirmiers
DESCRIPTION:Simulation 309\nDemande # 69332
URL:https://moebius.cegepmontpetit.ca/evenement/reservation-rv-soins-infirmiers-8/
LOCATION:D2702
CATEGORIES:Atelier - impression 3D,Imprimante en fonction,Mode partagé,Réservation - CLAAC,Téléviseur interactif 1x
ATTACH;FMTTYPE=image/jpeg:https://moebius.cegepmontpetit.ca/wp-content/uploads/sites/166/2019/04/P1090458.jpg
END:VEVENT
BEGIN:VEVENT
DTSTART;TZID=America/Toronto:20241004T080000
DTEND;TZID=America/Toronto:20241004T110000
DTSTAMP:20260424T044917
CREATED:20240816T122713Z
LAST-MODIFIED:20240816T123102Z
UID:18764-1728028800-1728039600@moebius.cegepmontpetit.ca
SUMMARY:Réservation - RV Soins Infirmiers
DESCRIPTION:Simulation 410-Post-Op\nDemande #69332
URL:https://moebius.cegepmontpetit.ca/evenement/reservation-rv-soins-infirmiers-30/
LOCATION:D2702
CATEGORIES:Atelier - Réalité virtuelle,Besoin de portables,Mode exclusif,Réservation - CLAAC,Téléviseur interactif 1x
ATTACH;FMTTYPE=image/jpeg:https://moebius.cegepmontpetit.ca/wp-content/uploads/sites/166/2019/04/P1090458.jpg
END:VEVENT
BEGIN:VEVENT
DTSTART;TZID=America/Toronto:20241004T130000
DTEND;TZID=America/Toronto:20241004T160000
DTSTAMP:20260424T044917
CREATED:20240815T175224Z
LAST-MODIFIED:20240815T175224Z
UID:18696-1728046800-1728057600@moebius.cegepmontpetit.ca
SUMMARY:Réservation - RV Soins Infirmiers
DESCRIPTION:Simulation 419-PED\nDemande # 69332
URL:https://moebius.cegepmontpetit.ca/evenement/reservation-rv-soins-infirmiers-9/
LOCATION:D2702
CATEGORIES:Atelier - Réalité virtuelle,Imprimante en fonction,Mode exclusif,Réservation - CLAAC,Téléviseur interactif 1x
ATTACH;FMTTYPE=image/jpeg:https://moebius.cegepmontpetit.ca/wp-content/uploads/sites/166/2019/04/OculusRift.jpg
END:VEVENT
BEGIN:VEVENT
DTSTART;TZID=America/Toronto:20241007T090000
DTEND;TZID=America/Toronto:20241007T113000
DTSTAMP:20260424T044917
CREATED:20240823T124435Z
LAST-MODIFIED:20240823T124435Z
UID:19031-1728291600-1728300600@moebius.cegepmontpetit.ca
SUMMARY:Réservation - Cours Administration
DESCRIPTION:Disposition : Classique\n** Silence complet – Aucune impression 3D **\nDemande #69871
URL:https://moebius.cegepmontpetit.ca/evenement/reservation-cours-administration-6/
LOCATION:D2702
CATEGORIES:Besoin de portables,Mode exclusif,Réservation - CLAAC,Téléviseur interactif 1x
ATTACH;FMTTYPE=image/jpeg:https://moebius.cegepmontpetit.ca/wp-content/uploads/sites/166/2019/05/administration.jpg
END:VEVENT
BEGIN:VEVENT
DTSTART;TZID=America/Toronto:20241008T080000
DTEND;TZID=America/Toronto:20241008T110000
DTSTAMP:20260424T044917
CREATED:20240816T122933Z
LAST-MODIFIED:20240816T122933Z
UID:18766-1728374400-1728385200@moebius.cegepmontpetit.ca
SUMMARY:Réservation - RV Soins Infirmiers
DESCRIPTION:Simulation 410-Post-Op\nDemande #69332
URL:https://moebius.cegepmontpetit.ca/evenement/reservation-rv-soins-infirmiers-31/
LOCATION:D2702
CATEGORIES:Atelier - Réalité virtuelle,Besoin de portables,Imprimante en fonction,Mode exclusif,Réservation - CLAAC,Téléviseur interactif 1x
ATTACH;FMTTYPE=image/jpeg:https://moebius.cegepmontpetit.ca/wp-content/uploads/sites/166/2019/04/P1090458.jpg
END:VEVENT
BEGIN:VEVENT
DTSTART;TZID=America/Toronto:20241008T123000
DTEND;TZID=America/Toronto:20241008T130000
DTSTAMP:20260424T044917
CREATED:20240816T140241Z
LAST-MODIFIED:20240816T140241Z
UID:18805-1728390600-1728392400@moebius.cegepmontpetit.ca
SUMMARY:Placement Local : 6 équipes (îlots) de 5
DESCRIPTION:Disposition : 6 équipes (îlots) de 5 avec grands tableaux blancs mobiles et les petits tableaux blancs\nAccessoires : Verres de couleur pour chaque îlot.
URL:https://moebius.cegepmontpetit.ca/evenement/placement-local-6-equipes-ilots-de-5/
LOCATION:D2702
ATTACH;FMTTYPE=image/png:https://moebius.cegepmontpetit.ca/wp-content/uploads/sites/166/2024/08/PLacement_Melanie_THD.png
END:VEVENT
BEGIN:VEVENT
DTSTART;TZID=America/Toronto:20241008T130000
DTEND;TZID=America/Toronto:20241008T160000
DTSTAMP:20260424T044917
CREATED:20240815T175553Z
LAST-MODIFIED:20240815T175553Z
UID:18698-1728392400-1728403200@moebius.cegepmontpetit.ca
SUMMARY:Réservation - RV Soins Infirmiers
DESCRIPTION:Simulation 419-PED\nDemande # 69332
URL:https://moebius.cegepmontpetit.ca/evenement/reservation-rv-soins-infirmiers-10/
LOCATION:D2702
CATEGORIES:Atelier - Réalité virtuelle,Imprimante en fonction,Mode exclusif,Réservation - CLAAC,Téléviseur interactif 1x
ATTACH;FMTTYPE=image/jpeg:https://moebius.cegepmontpetit.ca/wp-content/uploads/sites/166/2019/04/OculusRift.jpg
END:VEVENT
BEGIN:VEVENT
DTSTART;TZID=America/Toronto:20241008T160000
DTEND;TZID=America/Toronto:20241008T180000
DTSTAMP:20260424T044917
CREATED:20240816T134302Z
LAST-MODIFIED:20240816T134302Z
UID:18798-1728403200-1728410400@moebius.cegepmontpetit.ca
SUMMARY:Réservation - Cours THD
DESCRIPTION:Disposition : 6 équipes (îlots) de 5 avec  grands tableaux blancs mobiles et les petits tableaux blancs\nAccessoires : Verres de couleur pour chaque îlot.\nDemande #69322
URL:https://moebius.cegepmontpetit.ca/evenement/reservation-cours-thd-11/
LOCATION:D2702
CATEGORIES:Mode exclusif,Réservation - CLAAC,Téléviseur interactif 1x
ATTACH;FMTTYPE=image/jpeg:https://moebius.cegepmontpetit.ca/wp-content/uploads/sites/166/2019/03/dental-hygiene-600x375.jpg
END:VEVENT
BEGIN:VEVENT
DTSTART;TZID=America/Toronto:20241009T100000
DTEND;TZID=America/Toronto:20241009T120000
DTSTAMP:20260424T044917
CREATED:20241007T133109Z
LAST-MODIFIED:20241007T133109Z
UID:19421-1728468000-1728475200@moebius.cegepmontpetit.ca
SUMMARY:Réservation - Cours Français
DESCRIPTION:#72359 \nPortable: 18
URL:https://moebius.cegepmontpetit.ca/evenement/reservation-cours-francais-5/
LOCATION:D2702
CATEGORIES:Besoin de portables,Imprimante en fonction,Mode exclusif
ATTACH;FMTTYPE=image/jpeg:https://moebius.cegepmontpetit.ca/wp-content/uploads/sites/166/2019/10/panoramaEspaceMedialab.jpg
END:VEVENT
BEGIN:VEVENT
DTSTART;TZID=America/Toronto:20241009T133000
DTEND;TZID=America/Toronto:20241009T140000
DTSTAMP:20260424T044917
CREATED:20240826T172645Z
LAST-MODIFIED:20240826T172645Z
UID:19052-1728480600-1728482400@moebius.cegepmontpetit.ca
SUMMARY:Placement Local: Disposition particulière
DESCRIPTION:
URL:https://moebius.cegepmontpetit.ca/evenement/placement-local-disposition-particuliere-3/
LOCATION:D2702
ATTACH;FMTTYPE=image/png:https://moebius.cegepmontpetit.ca/wp-content/uploads/sites/166/2024/08/Placement_9_oct_69736.png
END:VEVENT
BEGIN:VEVENT
DTSTART;TZID=America/Toronto:20241009T140000
DTEND;TZID=America/Toronto:20241009T160000
DTSTAMP:20260424T044917
CREATED:20240816T130408Z
LAST-MODIFIED:20240826T172704Z
UID:18777-1728482400-1728489600@moebius.cegepmontpetit.ca
SUMMARY:Réservation - Cours THD
DESCRIPTION:#69319 \nDisposition: Regarde disposition \nBouton sonores\, verres de couleur et cartes aimantées
URL:https://moebius.cegepmontpetit.ca/evenement/reservation-cours-thd-4/
LOCATION:D2702
CATEGORIES:Imprimante en fonction,Mode exclusif,Téléviseur interactif 1x
ATTACH;FMTTYPE=image/jpeg:https://moebius.cegepmontpetit.ca/wp-content/uploads/sites/166/2019/10/panorama-espace-CLAAC.jpg
END:VEVENT
BEGIN:VEVENT
DTSTART;TZID=America/Toronto:20241011T133000
DTEND;TZID=America/Toronto:20241011T140000
DTSTAMP:20260424T044917
CREATED:20241010T152845Z
LAST-MODIFIED:20241010T152845Z
UID:19429-1728653400-1728655200@moebius.cegepmontpetit.ca
SUMMARY:Placement Local: RV 3 Rift + 2 Station fixes
DESCRIPTION:#72557 \nRV: 3 casque Rift et 2 casque Quest fixe \nApplication: Keep Talking no body explodes
URL:https://moebius.cegepmontpetit.ca/evenement/placement-local-rv-3-rift-2-station-fixes/
LOCATION:D2702
ATTACH;FMTTYPE=image/jpeg:https://moebius.cegepmontpetit.ca/wp-content/uploads/sites/166/2024/02/Quest_3_1_Choix-scaled.jpg
END:VEVENT
BEGIN:VEVENT
DTSTART;TZID=America/Toronto:20241011T140000
DTEND;TZID=America/Toronto:20241011T150000
DTSTAMP:20260424T044917
CREATED:20241010T152729Z
LAST-MODIFIED:20241010T152729Z
UID:19427-1728655200-1728658800@moebius.cegepmontpetit.ca
SUMMARY:Réservation - RV Cours Psychologie
DESCRIPTION:#72557 \nRV: 3 casque Rift et 2 casque Quest fixe \nApplication: Keep Talking no body explodes
URL:https://moebius.cegepmontpetit.ca/evenement/reservation-rv-cours-psychologie-6/
LOCATION:D2702
CATEGORIES:Atelier - Réalité virtuelle,Imprimante en fonction,Mode exclusif
ATTACH;FMTTYPE=image/jpeg:https://moebius.cegepmontpetit.ca/wp-content/uploads/sites/166/2024/02/Quest_3_1_Choix-scaled.jpg
END:VEVENT
BEGIN:VEVENT
DTSTART;TZID=America/Toronto:20241014T080000
DTEND;TZID=America/Toronto:20241014T170000
DTSTAMP:20260424T044917
CREATED:20240522T141354Z
LAST-MODIFIED:20240522T141354Z
UID:18141-1728892800-1728925200@moebius.cegepmontpetit.ca
SUMMARY:Férié - Action de grâces
DESCRIPTION:
URL:https://moebius.cegepmontpetit.ca/evenement/ferie-action-de-graces/
LOCATION:D2702
ATTACH;FMTTYPE=image/jpeg:https://moebius.cegepmontpetit.ca/wp-content/uploads/sites/166/2019/07/1090635-Modifier.jpg
END:VEVENT
BEGIN:VEVENT
DTSTART;VALUE=DATE:20241015
DTEND;VALUE=DATE:20241017
DTSTAMP:20260424T044917
CREATED:20240522T170626Z
LAST-MODIFIED:20240522T170626Z
UID:18153-1728972000-1729058399@moebius.cegepmontpetit.ca
SUMMARY:Journée pédagogique (JP)
DESCRIPTION:
URL:https://moebius.cegepmontpetit.ca/evenement/journee-pedagogique-jp-2/
LOCATION:D2702
END:VEVENT
BEGIN:VEVENT
DTSTART;TZID=America/Toronto:20241015T080000
DTEND;TZID=America/Toronto:20241015T160000
DTSTAMP:20260424T044917
CREATED:20240923T135246Z
LAST-MODIFIED:20240923T135246Z
UID:19323-1728979200-1729008000@moebius.cegepmontpetit.ca
SUMMARY:Réservation - Formation CPN
DESCRIPTION:#71690 \n2 Téléviseurs
URL:https://moebius.cegepmontpetit.ca/evenement/reservation-formation-cpn/
LOCATION:D2702
CATEGORIES:Réservation - CLAAC,Téléviseur interactif 1x
ATTACH;FMTTYPE=image/jpeg:https://moebius.cegepmontpetit.ca/wp-content/uploads/sites/166/2019/10/panoramaEspaceMedialab.jpg
END:VEVENT
BEGIN:VEVENT
DTSTART;VALUE=DATE:20241016
DTEND;VALUE=DATE:20241019
DTSTAMP:20260424T044917
CREATED:20240522T170709Z
LAST-MODIFIED:20240522T170709Z
UID:18156-1729058400-1729231199@moebius.cegepmontpetit.ca
SUMMARY:Journée de mise à jour (JM)
DESCRIPTION:
URL:https://moebius.cegepmontpetit.ca/evenement/journee-de-mise-a-jour-jm-3/
LOCATION:D2702
END:VEVENT
BEGIN:VEVENT
DTSTART;TZID=America/Toronto:20241016T083000
DTEND;TZID=America/Toronto:20241016T120000
DTSTAMP:20260424T044917
CREATED:20240927T124638Z
LAST-MODIFIED:20240927T124638Z
UID:19383-1729067400-1729080000@moebius.cegepmontpetit.ca
SUMMARY:Réservation - Formation enseignants
DESCRIPTION:#71956 \n– Téléviseur interactif : 2\n– Projecteur interactif : 1
URL:https://moebius.cegepmontpetit.ca/evenement/reservation-formation-enseignants/
LOCATION:D2702
CATEGORIES:Mode exclusif,Réservation - CLAAC,Téléviseur interactif 2x
ATTACH;FMTTYPE=image/jpeg:https://moebius.cegepmontpetit.ca/wp-content/uploads/sites/166/2019/10/panoramaEspaceMedialab.jpg
END:VEVENT
BEGIN:VEVENT
DTSTART;TZID=America/Toronto:20241017T080000
DTEND;TZID=America/Toronto:20241017T083000
DTSTAMP:20260424T044917
CREATED:20240906T121614Z
LAST-MODIFIED:20240906T145812Z
UID:19185-1729152000-1729153800@moebius.cegepmontpetit.ca
SUMMARY:Placement Local: Expo modifié
DESCRIPTION:#70027\nAvoir la clé de la porte sécurisé\n1 laptop
URL:https://moebius.cegepmontpetit.ca/evenement/placement-local-a-definir/
LOCATION:D2702
ATTACH;FMTTYPE=image/png:https://moebius.cegepmontpetit.ca/wp-content/uploads/sites/166/2024/06/Expo_modifie.png
END:VEVENT
BEGIN:VEVENT
DTSTART;TZID=America/Toronto:20241017T083000
DTEND;TZID=America/Toronto:20241017T103000
DTSTAMP:20260424T044917
CREATED:20240827T123917Z
LAST-MODIFIED:20240906T145859Z
UID:19079-1729153800-1729161000@moebius.cegepmontpetit.ca
SUMMARY:Réservation - Cours Français
DESCRIPTION:#70027 \nDispostion du local: Expo modifié \nAvoir clé de la porte sécurité\n1 laptop
URL:https://moebius.cegepmontpetit.ca/evenement/reservation-cours-francais-4/
LOCATION:D2702
END:VEVENT
BEGIN:VEVENT
DTSTART;VALUE=DATE:20241018
DTEND;VALUE=DATE:20241020
DTSTAMP:20260424T044917
CREATED:20240522T170738Z
LAST-MODIFIED:20240522T170738Z
UID:18159-1729231200-1729317599@moebius.cegepmontpetit.ca
SUMMARY:Journée d'encadrement (JE)
DESCRIPTION:
URL:https://moebius.cegepmontpetit.ca/evenement/journee-dencadrement-je-3/
LOCATION:D2702
END:VEVENT
BEGIN:VEVENT
DTSTART;TZID=America/Toronto:20241018T123000
DTEND;TZID=America/Toronto:20241018T130000
DTSTAMP:20260424T044917
CREATED:20240904T143150Z
LAST-MODIFIED:20240904T143150Z
UID:19168-1729254600-1729256400@moebius.cegepmontpetit.ca
SUMMARY:Placement Local: 6 postes RV
DESCRIPTION:3 Rift + 3 Quest avec laptop \nVérifier les liens des musées dans les ordinateurs
URL:https://moebius.cegepmontpetit.ca/evenement/placement-local-6-postes-rv-2/
LOCATION:D2702
END:VEVENT
BEGIN:VEVENT
DTSTART;TZID=America/Toronto:20241018T130000
DTEND;TZID=America/Toronto:20241018T150000
DTSTAMP:20260424T044917
CREATED:20240904T143038Z
LAST-MODIFIED:20240904T143038Z
UID:19166-1729256400-1729263600@moebius.cegepmontpetit.ca
SUMMARY:Réservation – RV Musée
DESCRIPTION:#70354 \nIls peuvent choisir leur musée \nJuste les étudiants\npar groupe de 5-6
URL:https://moebius.cegepmontpetit.ca/evenement/reservation-rv-musee-2/
LOCATION:D2702
CATEGORIES:Atelier - Réalité virtuelle,Imprimante en fonction,Mode exclusif
ATTACH;FMTTYPE=image/jpeg:https://moebius.cegepmontpetit.ca/wp-content/uploads/sites/166/2019/04/P1090458.jpg
END:VEVENT
BEGIN:VEVENT
DTSTART;TZID=America/Toronto:20241022T093000
DTEND;TZID=America/Toronto:20241022T100000
DTSTAMP:20260424T044917
CREATED:20240819T190403Z
LAST-MODIFIED:20240819T190403Z
UID:18906-1729589400-1729591200@moebius.cegepmontpetit.ca
SUMMARY:Placement local : L'Assemblée asymétrique
DESCRIPTION:
URL:https://moebius.cegepmontpetit.ca/evenement/placement-local-lassemblee-asymetrique/
LOCATION:D2702
ATTACH;FMTTYPE=image/png:https://moebius.cegepmontpetit.ca/wp-content/uploads/sites/166/2024/05/09_LAssemblee_Asymetrique.png
END:VEVENT
END:VCALENDAR