BEGIN:VCALENDAR
VERSION:2.0
PRODID:-//Espace Moebius - ECPv6.0.12//NONSGML v1.0//EN
CALSCALE:GREGORIAN
METHOD:PUBLISH
X-ORIGINAL-URL:https://moebius.cegepmontpetit.ca
X-WR-CALDESC:évènements pour Espace Moebius
REFRESH-INTERVAL;VALUE=DURATION:PT1H
X-Robots-Tag:noindex
X-PUBLISHED-TTL:PT1H
BEGIN:VTIMEZONE
TZID:America/Toronto
BEGIN:DAYLIGHT
TZOFFSETFROM:-0500
TZOFFSETTO:-0400
TZNAME:EDT
DTSTART:20240310T070000
END:DAYLIGHT
BEGIN:STANDARD
TZOFFSETFROM:-0400
TZOFFSETTO:-0500
TZNAME:EST
DTSTART:20241103T060000
END:STANDARD
END:VTIMEZONE
BEGIN:VEVENT
DTSTART;TZID=America/Toronto:20241101T084500
DTEND;TZID=America/Toronto:20241101T100000
DTSTAMP:20260424T032920
CREATED:20241002T122958Z
LAST-MODIFIED:20241025T131028Z
UID:19409-1730450700-1730455200@moebius.cegepmontpetit.ca
SUMMARY:Réservation - Formation étudiantes
DESCRIPTION:#72156 \nDisposition: Classique mais moins 2 table de 4 \nLaptop: 8
URL:https://moebius.cegepmontpetit.ca/evenement/reservation-formation-etudiantes/
LOCATION:D2702
CATEGORIES:Besoin de portables,Imprimante en fonction,Mode partagé,Réservation - CLAAC,Téléviseur interactif 1x
ATTACH;FMTTYPE=image/png:https://moebius.cegepmontpetit.ca/wp-content/uploads/sites/166/2024/10/Disposition_Genevieve_Dion_1nov8h45-10h.png
END:VEVENT
BEGIN:VEVENT
DTSTART;TZID=America/Toronto:20241101T103000
DTEND;TZID=America/Toronto:20241101T110000
DTSTAMP:20260424T032920
CREATED:20240916T133347Z
LAST-MODIFIED:20240920T143225Z
UID:19263-1730457000-1730458800@moebius.cegepmontpetit.ca
SUMMARY:Placement local: Disposition personnelle
DESCRIPTION:1 IPAD + 1 TREPIED
URL:https://moebius.cegepmontpetit.ca/evenement/placement-local-disposition-personnelle-5/
LOCATION:D2702
ATTACH;FMTTYPE=image/png:https://moebius.cegepmontpetit.ca/wp-content/uploads/sites/166/2024/09/Dispostion_1nov.png
END:VEVENT
BEGIN:VEVENT
DTSTART;TZID=America/Toronto:20241101T110000
DTEND;TZID=America/Toronto:20241101T133000
DTSTAMP:20260424T032920
CREATED:20240916T133304Z
LAST-MODIFIED:20240920T143309Z
UID:19261-1730458800-1730467800@moebius.cegepmontpetit.ca
SUMMARY:Réservation - Cours THD
DESCRIPTION:#71319 \nDisposition: Regarder placement\n1 IPAD + 1 TRPIED\nLaptop: 21
URL:https://moebius.cegepmontpetit.ca/evenement/reservation-cours-thd-22/
LOCATION:D2702
CATEGORIES:Besoin de portables,Imprimante en fonction,Mode exclusif,Réservation - CLAAC,Téléviseur interactif 1x
ATTACH;FMTTYPE=image/jpeg:https://moebius.cegepmontpetit.ca/wp-content/uploads/sites/166/2019/10/panoramaEspaceMedialab.jpg
END:VEVENT
BEGIN:VEVENT
DTSTART;TZID=America/Toronto:20241104T083000
DTEND;TZID=America/Toronto:20241104T090000
DTSTAMP:20260424T032920
CREATED:20240816T173143Z
LAST-MODIFIED:20240816T173143Z
UID:18846-1730709000-1730710800@moebius.cegepmontpetit.ca
SUMMARY:Placement local : 10-4
DESCRIPTION:
URL:https://moebius.cegepmontpetit.ca/evenement/placement-local-10-4/
LOCATION:D2702
ATTACH;FMTTYPE=image/png:https://moebius.cegepmontpetit.ca/wp-content/uploads/sites/166/2024/05/07_Le_10-4.png
END:VEVENT
BEGIN:VEVENT
DTSTART;TZID=America/Toronto:20241104T090000
DTEND;TZID=America/Toronto:20241104T120000
DTSTAMP:20260424T032920
CREATED:20240816T173002Z
LAST-MODIFIED:20240816T173002Z
UID:18844-1730710800-1730721600@moebius.cegepmontpetit.ca
SUMMARY:Réservation - Cours Administration
DESCRIPTION:Disposition : 10-4 pour débat 5 contre 5\nDemande #69327
URL:https://moebius.cegepmontpetit.ca/evenement/reservation-cours-administration-2/
LOCATION:D2702
CATEGORIES:Mode exclusif,Réservation - CLAAC,Téléviseur interactif 1x
ATTACH;FMTTYPE=image/jpeg:https://moebius.cegepmontpetit.ca/wp-content/uploads/sites/166/2019/04/P1090498-e1570135533487.jpg
END:VEVENT
BEGIN:VEVENT
DTSTART;TZID=America/Toronto:20241105T110000
DTEND;TZID=America/Toronto:20241105T113000
DTSTAMP:20260424T032920
CREATED:20240816T140525Z
LAST-MODIFIED:20240923T192651Z
UID:18818-1730804400-1730806200@moebius.cegepmontpetit.ca
SUMMARY:Placement Local : 6 équipes (îlots) de 5
DESCRIPTION:Disposition : 6 équipes (îlots) de 5 avec grands tableaux blancs mobiles et les petits tableaux blancs\nAccessoires : Verres de couleur pour chaque îlot.
URL:https://moebius.cegepmontpetit.ca/evenement/placement-local-6-equipes-ilots-de-5-3/
LOCATION:D2702
ATTACH;FMTTYPE=image/png:https://moebius.cegepmontpetit.ca/wp-content/uploads/sites/166/2024/08/PLacement_Melanie_THD.png
END:VEVENT
BEGIN:VEVENT
DTSTART;TZID=America/Toronto:20241105T120000
DTEND;TZID=America/Toronto:20241105T160000
DTSTAMP:20260424T032920
CREATED:20240815T180405Z
LAST-MODIFIED:20240815T180405Z
UID:18707-1730808000-1730822400@moebius.cegepmontpetit.ca
SUMMARY:Réservation - RV Soins Infirmiers
DESCRIPTION:Simulation 309\nDemande # 69332
URL:https://moebius.cegepmontpetit.ca/evenement/reservation-rv-soins-infirmiers-13/
LOCATION:D2702
CATEGORIES:Atelier - téléviseur interactif,Imprimante en fonction,Mode exclusif,Réservation - CLAAC,Téléviseur interactif 1x
ATTACH;FMTTYPE=image/jpeg:https://moebius.cegepmontpetit.ca/wp-content/uploads/sites/166/2019/04/P1090458.jpg
END:VEVENT
BEGIN:VEVENT
DTSTART;TZID=America/Toronto:20241105T160000
DTEND;TZID=America/Toronto:20241105T180000
DTSTAMP:20260424T032920
CREATED:20240816T135100Z
LAST-MODIFIED:20240816T135100Z
UID:18802-1730822400-1730829600@moebius.cegepmontpetit.ca
SUMMARY:Réservation - Cours THD
DESCRIPTION:Disposition : 6 équipes (îlots) de 5 avec  grands tableaux blancs mobiles et les petits tableaux blancs\nAccessoires : Verres de couleur pour chaque îlot.\nDemande #69322
URL:https://moebius.cegepmontpetit.ca/evenement/reservation-cours-thd-13/
LOCATION:D2702
CATEGORIES:Mode exclusif,Réservation - CLAAC,Téléviseur interactif 1x
ATTACH;FMTTYPE=image/jpeg:https://moebius.cegepmontpetit.ca/wp-content/uploads/sites/166/2019/03/dental-hygiene-600x375.jpg
END:VEVENT
BEGIN:VEVENT
DTSTART;VALUE=DATE:20241106
DTEND;VALUE=DATE:20241108
DTSTAMP:20260424T032920
CREATED:20241028T194311Z
LAST-MODIFIED:20241028T194410Z
UID:19527-1730872800-1730959199@moebius.cegepmontpetit.ca
SUMMARY:Prêt - 2 casque Quest 3 et 2 + 2 laptop
DESCRIPTION:#73126\nÀ partir de 16h30 \nJonathan Gordon
URL:https://moebius.cegepmontpetit.ca/evenement/pret-2-casque-quest-3-et-2-2-laptop/
LOCATION:D2702
END:VEVENT
BEGIN:VEVENT
DTSTART;TZID=America/Toronto:20241106T133000
DTEND;TZID=America/Toronto:20241106T140000
DTSTAMP:20260424T032920
CREATED:20240826T172507Z
LAST-MODIFIED:20240826T172507Z
UID:19048-1730899800-1730901600@moebius.cegepmontpetit.ca
SUMMARY:Placement Local: Disposition particulière
DESCRIPTION:
URL:https://moebius.cegepmontpetit.ca/evenement/placement-local-disposition-particuliere-2/
LOCATION:D2702
ATTACH;FMTTYPE=image/png:https://moebius.cegepmontpetit.ca/wp-content/uploads/sites/166/2024/08/Placement_6_nov_69736.png
END:VEVENT
BEGIN:VEVENT
DTSTART;TZID=America/Toronto:20241106T140000
DTEND;TZID=America/Toronto:20241106T160000
DTSTAMP:20260424T032920
CREATED:20240816T131415Z
LAST-MODIFIED:20240826T172540Z
UID:18786-1730901600-1730908800@moebius.cegepmontpetit.ca
SUMMARY:Réservation - Cours THD
DESCRIPTION:#69319 \nDisposition: Regarder le placement \nBouton sonores\, verres de couleur et cartes aimantées
URL:https://moebius.cegepmontpetit.ca/evenement/reservation-cours-thd-7/
LOCATION:D2702
CATEGORIES:Imprimante en fonction,Mode exclusif,Téléviseur interactif 1x
ATTACH;FMTTYPE=image/jpeg:https://moebius.cegepmontpetit.ca/wp-content/uploads/sites/166/2019/10/panorama-espace-CLAAC.jpg
END:VEVENT
BEGIN:VEVENT
DTSTART;TZID=America/Toronto:20241106T160000
DTEND;TZID=America/Toronto:20241106T210000
DTSTAMP:20260424T032920
CREATED:20240311T132057Z
LAST-MODIFIED:20240913T123033Z
UID:17615-1730908800-1730926800@moebius.cegepmontpetit.ca
SUMMARY:Événement - Portes Ouvertes
DESCRIPTION:Portes Ouvertes du Cégep Édouard Montpetit \n** Possibilité d’avoir un cours jusqu’à 18h00. ** \n16h00 à 17h30 : Placement du local\, départ d’impressions 3D \n\nDispositions de la CLAAC de deux manières\nPrêt BenQ 75 pouces à la biblio (à l’entrée)\nOuverture de la télévision BenQ avec un PPT\nAjout des boutons sonores aux tables\, cartons aimantés des cartes mentales\nOuverture des simulations en RV faite par le Cégep\nInstallation d’un casque Quest 2 aux chaises de réalité virtuelle.\nDépart des imprimantes 3D\nToutes autres idées 😉\n\n17h30 à 18h30 : Souper \n18h30 à 21h00 : Événements Portes Ouvertes \n21h00 à 21h15 : Fermeture du local \nDemande #70558
URL:https://moebius.cegepmontpetit.ca/evenement/evenement-portes-ouvertes-3/
LOCATION:D2702
CATEGORIES:Événement spécial,Imprimante en fonction,Mode exclusif,Téléviseur interactif 1x
ATTACH;FMTTYPE=image/png:https://moebius.cegepmontpetit.ca/wp-content/uploads/sites/166/2022/05/portes-ouvertes.png
END:VEVENT
BEGIN:VEVENT
DTSTART;TZID=America/Toronto:20241107T080000
DTEND;TZID=America/Toronto:20241107T120000
DTSTAMP:20260424T032920
CREATED:20240827T134926Z
LAST-MODIFIED:20241024T140315Z
UID:19081-1730966400-1730980800@moebius.cegepmontpetit.ca
SUMMARY:Réservation - Évènement Forum des coordonateurs
DESCRIPTION:#70037 \nBesoin d’un portable
URL:https://moebius.cegepmontpetit.ca/evenement/reservation-evenement-forum-des-coordonateurs/
LOCATION:D2702
CATEGORIES:Besoin de portables,Imprimante en fonction
ATTACH;FMTTYPE=image/jpeg:https://moebius.cegepmontpetit.ca/wp-content/uploads/sites/166/2019/07/1090639.jpg
END:VEVENT
BEGIN:VEVENT
DTSTART;TZID=America/Toronto:20241107T153000
DTEND;TZID=America/Toronto:20241107T160000
DTSTAMP:20260424T032920
CREATED:20240822T164120Z
LAST-MODIFIED:20240916T175922Z
UID:18991-1730993400-1730995200@moebius.cegepmontpetit.ca
SUMMARY:Placement local – Disposition personnelle
DESCRIPTION:4 Ipad\, 4 trepied
URL:https://moebius.cegepmontpetit.ca/evenement/placement-local-rv-5-postes-mobiles-6/
LOCATION:D2702
ATTACH;FMTTYPE=image/png:https://moebius.cegepmontpetit.ca/wp-content/uploads/sites/166/2024/08/Disposition_personnalise_psychologie_69417_7nov.png
END:VEVENT
BEGIN:VEVENT
DTSTART;TZID=America/Toronto:20241107T160000
DTEND;TZID=America/Toronto:20241107T180000
DTSTAMP:20260424T032920
CREATED:20240822T163043Z
LAST-MODIFIED:20240916T180513Z
UID:18980-1730995200-1731002400@moebius.cegepmontpetit.ca
SUMMARY:Réservation – Cours Psychologie
DESCRIPTION:#69417 \n4 ipad\, 4 trepied
URL:https://moebius.cegepmontpetit.ca/evenement/reservation-rv-cours-psychologie-8/
LOCATION:D2702
CATEGORIES:Atelier - Réalité virtuelle,Mode exclusif
ATTACH;FMTTYPE=image/png:https://moebius.cegepmontpetit.ca/wp-content/uploads/sites/166/2024/08/Disposition_personnalise_psychologie_69417_7nov.png
END:VEVENT
BEGIN:VEVENT
DTSTART;VALUE=DATE:20241108
DTEND;VALUE=DATE:20241110
DTSTAMP:20260424T032920
CREATED:20240522T170844Z
LAST-MODIFIED:20240522T170844Z
UID:18162-1731045600-1731131999@moebius.cegepmontpetit.ca
SUMMARY:Journée particulière d'enseignement (JR)
DESCRIPTION:
URL:https://moebius.cegepmontpetit.ca/evenement/journee-particuliere-denseignement-jr-6/
LOCATION:D2702
END:VEVENT
BEGIN:VEVENT
DTSTART;TZID=America/Toronto:20241108T090000
DTEND;TZID=America/Toronto:20241108T093000
DTSTAMP:20260424T032920
CREATED:20240926T134256Z
LAST-MODIFIED:20241105T184856Z
UID:19377-1731056400-1731058200@moebius.cegepmontpetit.ca
SUMMARY:Placement Local: Personnalisé
DESCRIPTION:#71915 \nDisposition: Personnalisé \n– Téléviseur interactif : 2\n– Projecteur interactif : 1 \nVerre de couleur
URL:https://moebius.cegepmontpetit.ca/evenement/placement-local-triangle-ou-10-4/
LOCATION:D2702
ATTACH;FMTTYPE=image/png:https://moebius.cegepmontpetit.ca/wp-content/uploads/sites/166/2024/09/Capture.png
END:VEVENT
BEGIN:VEVENT
DTSTART;TZID=America/Toronto:20241108T090000
DTEND;TZID=America/Toronto:20241108T123000
DTSTAMP:20260424T032920
CREATED:20240926T133718Z
LAST-MODIFIED:20241105T184922Z
UID:19375-1731056400-1731069000@moebius.cegepmontpetit.ca
SUMMARY:Réservation - Formation CPN
DESCRIPTION:#71915 \nDisposition: Regarde la disposition \n– Téléviseur interactif : 2\n– Projecteur interactif : 1 \nVerre de couleur
URL:https://moebius.cegepmontpetit.ca/evenement/reservation-formation-cpn-2/
LOCATION:D2702
CATEGORIES:Besoin de portables,Imprimante en fonction,Mode exclusif,Téléviseur interactif 2x
ATTACH;FMTTYPE=image/jpeg:https://moebius.cegepmontpetit.ca/wp-content/uploads/sites/166/2019/10/panorama-espace-CLAAC.jpg
END:VEVENT
BEGIN:VEVENT
DTSTART;TZID=America/Toronto:20241108T133000
DTEND;TZID=America/Toronto:20241108T143000
DTSTAMP:20260424T032920
CREATED:20241104T132003Z
LAST-MODIFIED:20241105T154325Z
UID:19588-1731072600-1731076200@moebius.cegepmontpetit.ca
SUMMARY:Mode partagé - Présentation simulation RV
DESCRIPTION:#73334 \nCasque Rift: 2 \n21FX tibia et 510-TCC
URL:https://moebius.cegepmontpetit.ca/evenement/mode-partage-presentation-simulation-rv/
LOCATION:D2702
CATEGORIES:Atelier - Réalité virtuelle,Imprimante en fonction,Réservation - Médialab
ATTACH;FMTTYPE=image/jpeg:https://moebius.cegepmontpetit.ca/wp-content/uploads/sites/166/2019/03/P1090476.jpg
END:VEVENT
BEGIN:VEVENT
DTSTART;TZID=America/Toronto:20241111T083000
DTEND;TZID=America/Toronto:20241111T090000
DTSTAMP:20260424T032920
CREATED:20240816T173601Z
LAST-MODIFIED:20241023T172207Z
UID:18850-1731313800-1731315600@moebius.cegepmontpetit.ca
SUMMARY:Placement local : La Ronde modifié
DESCRIPTION:
URL:https://moebius.cegepmontpetit.ca/evenement/placement-local-10-4-2/
LOCATION:D2702
ATTACH;FMTTYPE=image/png:https://moebius.cegepmontpetit.ca/wp-content/uploads/sites/166/2024/08/Disposition_Myriam_Laberge_11nov9h-12h.png
END:VEVENT
BEGIN:VEVENT
DTSTART;TZID=America/Toronto:20241111T090000
DTEND;TZID=America/Toronto:20241111T120000
DTSTAMP:20260424T032920
CREATED:20240816T173412Z
LAST-MODIFIED:20241023T172240Z
UID:18848-1731315600-1731326400@moebius.cegepmontpetit.ca
SUMMARY:Réservation - Cours Administration
DESCRIPTION:Disposition : La Ronde modifié\nDemande #69327
URL:https://moebius.cegepmontpetit.ca/evenement/reservation-cours-administration-3/
LOCATION:D2702
CATEGORIES:Mode exclusif,Réservation - CLAAC,Téléviseur interactif 1x
ATTACH;FMTTYPE=image/png:https://moebius.cegepmontpetit.ca/wp-content/uploads/sites/166/2024/08/Disposition_Myriam_Laberge_11nov9h-12h.png
END:VEVENT
BEGIN:VEVENT
DTSTART;TZID=America/Toronto:20241111T120000
DTEND;TZID=America/Toronto:20241111T150000
DTSTAMP:20260424T032920
CREATED:20241106T152255Z
LAST-MODIFIED:20241106T152255Z
UID:19669-1731326400-1731337200@moebius.cegepmontpetit.ca
SUMMARY:Réservation - Cours Sociologie
DESCRIPTION:#73461 \nDisposition: Classique \nPortable: 31
URL:https://moebius.cegepmontpetit.ca/evenement/reservation-cours-sociologie/
LOCATION:D2702
CATEGORIES:Mode exclusif,Réservation - CLAAC,Téléviseur interactif 1x
ATTACH;FMTTYPE=image/jpeg:https://moebius.cegepmontpetit.ca/wp-content/uploads/sites/166/2019/10/panoramaEspaceMedialab.jpg
END:VEVENT
BEGIN:VEVENT
DTSTART;TZID=America/Toronto:20241111T153000
DTEND;TZID=America/Toronto:20241111T160000
DTSTAMP:20260424T032920
CREATED:20240815T181009Z
LAST-MODIFIED:20240819T172117Z
UID:18714-1731339000-1731340800@moebius.cegepmontpetit.ca
SUMMARY:Placement local - RV 6 postes
DESCRIPTION:
URL:https://moebius.cegepmontpetit.ca/evenement/placement-local-rv-6-postes-3/
LOCATION:D2702
CATEGORIES:Atelier - Réalité virtuelle
ATTACH;FMTTYPE=image/jpeg:https://moebius.cegepmontpetit.ca/wp-content/uploads/sites/166/2023/05/Quest_2_07-scaled.jpg
END:VEVENT
BEGIN:VEVENT
DTSTART;TZID=America/Toronto:20241111T160000
DTEND;TZID=America/Toronto:20241111T180000
DTSTAMP:20260424T032920
CREATED:20240923T194628Z
LAST-MODIFIED:20240930T171443Z
UID:19334-1731340800-1731348000@moebius.cegepmontpetit.ca
SUMMARY:Réservation – Cours Anglais
DESCRIPTION:#71730 \nDisposition: Classique \nPortable: 28
URL:https://moebius.cegepmontpetit.ca/evenement/reservation-cours-anglais-4/
LOCATION:D2702
CATEGORIES:Besoin de portables,Imprimante en fonction,Mode exclusif,Réservation - CLAAC,Téléviseur interactif 1x
ATTACH;FMTTYPE=image/jpeg:https://moebius.cegepmontpetit.ca/wp-content/uploads/sites/166/2019/10/panoramaEspaceMedialab.jpg
END:VEVENT
BEGIN:VEVENT
DTSTART;TZID=America/Toronto:20241112T080000
DTEND;TZID=America/Toronto:20241112T120000
DTSTAMP:20260424T032920
CREATED:20240815T180903Z
LAST-MODIFIED:20240819T172133Z
UID:18711-1731398400-1731412800@moebius.cegepmontpetit.ca
SUMMARY:Réservation - RV Soins Infirmiers
DESCRIPTION:Simulation 510-AVC\nBesoins des 6 postes RV\nDemande # 69332
URL:https://moebius.cegepmontpetit.ca/evenement/reservation-rv-soins-infirmiers-15/
LOCATION:D2702
CATEGORIES:Atelier - Réalité virtuelle,Imprimante en fonction,Mode exclusif,Réservation - CLAAC,Téléviseur interactif 1x
ATTACH;FMTTYPE=image/jpeg:https://moebius.cegepmontpetit.ca/wp-content/uploads/sites/166/2019/04/OculusRift.jpg
END:VEVENT
BEGIN:VEVENT
DTSTART;TZID=America/Toronto:20241112T130000
DTEND;TZID=America/Toronto:20241112T160000
DTSTAMP:20260424T032920
CREATED:20240816T123342Z
LAST-MODIFIED:20240816T123342Z
UID:18768-1731416400-1731427200@moebius.cegepmontpetit.ca
SUMMARY:Réservation - RV Soins Infirmiers
DESCRIPTION:Simulation 410-Post-Op\nDemande #69332
URL:https://moebius.cegepmontpetit.ca/evenement/reservation-rv-soins-infirmiers-32/
LOCATION:D2702
CATEGORIES:Atelier - Réalité virtuelle,Besoin de portables,Imprimante en fonction,Mode exclusif,Réservation - CLAAC,Téléviseur interactif 1x
ATTACH;FMTTYPE=image/jpeg:https://moebius.cegepmontpetit.ca/wp-content/uploads/sites/166/2019/04/OculusRift.jpg
END:VEVENT
BEGIN:VEVENT
DTSTART;TZID=America/Toronto:20241113T100000
DTEND;TZID=America/Toronto:20241113T120000
DTSTAMP:20260424T032920
CREATED:20241105T200748Z
LAST-MODIFIED:20241105T200748Z
UID:19664-1731492000-1731499200@moebius.cegepmontpetit.ca
SUMMARY:Réservation - Cours Français
DESCRIPTION:#73441 \nPortable: 18
URL:https://moebius.cegepmontpetit.ca/evenement/reservation-cours-francais-6/
LOCATION:D2702
CATEGORIES:Imprimante en fonction,Mode exclusif,Réservation - CLAAC
ATTACH;FMTTYPE=image/jpeg:https://moebius.cegepmontpetit.ca/wp-content/uploads/sites/166/2019/10/panorama-espace-CLAAC.jpg
END:VEVENT
BEGIN:VEVENT
DTSTART;TZID=America/Toronto:20241113T133000
DTEND;TZID=America/Toronto:20241113T140000
DTSTAMP:20260424T032920
CREATED:20240826T172800Z
LAST-MODIFIED:20240826T172800Z
UID:19056-1731504600-1731506400@moebius.cegepmontpetit.ca
SUMMARY:Placement Local: Disposition particulière
DESCRIPTION:
URL:https://moebius.cegepmontpetit.ca/evenement/placement-local-disposition-particuliere-4/
LOCATION:D2702
ATTACH;FMTTYPE=image/png:https://moebius.cegepmontpetit.ca/wp-content/uploads/sites/166/2024/08/Placement_13_nov_69736.png
END:VEVENT
BEGIN:VEVENT
DTSTART;TZID=America/Toronto:20241113T140000
DTEND;TZID=America/Toronto:20241113T160000
DTSTAMP:20260424T032920
CREATED:20240816T131716Z
LAST-MODIFIED:20240826T172817Z
UID:18790-1731506400-1731513600@moebius.cegepmontpetit.ca
SUMMARY:Réservation - Cours THD
DESCRIPTION:#69319 \nDisposition: Regarde la disposition \nBouton sonores\, verres de couleur et cartes aimantées
URL:https://moebius.cegepmontpetit.ca/evenement/reservation-cours-thd-8/
LOCATION:D2702
CATEGORIES:Imprimante en fonction,Mode exclusif,Téléviseur interactif 1x
ATTACH;FMTTYPE=image/jpeg:https://moebius.cegepmontpetit.ca/wp-content/uploads/sites/166/2019/10/panorama-espace-CLAAC.jpg
END:VEVENT
BEGIN:VEVENT
DTSTART;TZID=America/Toronto:20241114T100000
DTEND;TZID=America/Toronto:20241114T120000
DTSTAMP:20260424T032920
CREATED:20241030T122125Z
LAST-MODIFIED:20241030T122125Z
UID:19531-1731578400-1731585600@moebius.cegepmontpetit.ca
SUMMARY:Mode Partagé – RV Tests techniques simulations Soins Infirmiers
DESCRIPTION:Tests des nouvelles simulations réalisées en soins infirmiers.\nDemande #70048
URL:https://moebius.cegepmontpetit.ca/evenement/mode-partage-rv-tests-techniques-simulations-soins-infirmiers/
LOCATION:D2702
CATEGORIES:Atelier - Réalité virtuelle,Mode partagé
ATTACH;FMTTYPE=image/jpeg:https://moebius.cegepmontpetit.ca/wp-content/uploads/sites/166/2024/02/Quest_3_1_Choix-scaled.jpg
END:VEVENT
END:VCALENDAR