BEGIN:VCALENDAR
VERSION:2.0
PRODID:-//Espace Moebius - ECPv6.0.12//NONSGML v1.0//EN
CALSCALE:GREGORIAN
METHOD:PUBLISH
X-ORIGINAL-URL:https://moebius.cegepmontpetit.ca
X-WR-CALDESC:évènements pour Espace Moebius
REFRESH-INTERVAL;VALUE=DURATION:PT1H
X-Robots-Tag:noindex
X-PUBLISHED-TTL:PT1H
BEGIN:VTIMEZONE
TZID:America/Toronto
BEGIN:DAYLIGHT
TZOFFSETFROM:-0500
TZOFFSETTO:-0400
TZNAME:EDT
DTSTART:20250309T070000
END:DAYLIGHT
BEGIN:STANDARD
TZOFFSETFROM:-0400
TZOFFSETTO:-0500
TZNAME:EST
DTSTART:20251102T060000
END:STANDARD
END:VTIMEZONE
BEGIN:VEVENT
DTSTART;TZID=America/Toronto:20250501T080000
DTEND;TZID=America/Toronto:20250501T100000
DTSTAMP:20260423T132231
CREATED:20250120T133154Z
LAST-MODIFIED:20250120T133154Z
UID:20211-1746086400-1746093600@moebius.cegepmontpetit.ca
SUMMARY:Réservation – Cours Psychologie
DESCRIPTION:#75625 \nBesoin: trousse-bimodale
URL:https://moebius.cegepmontpetit.ca/evenement/reservation-cours-psychologie-14/
LOCATION:D2702
CATEGORIES:Imprimante en fonction,Mode exclusif
ATTACH;FMTTYPE=image/jpeg:https://moebius.cegepmontpetit.ca/wp-content/uploads/sites/166/2019/10/panoramaEspaceMedialab.jpg
END:VEVENT
BEGIN:VEVENT
DTSTART;TZID=America/Toronto:20250501T150000
DTEND;TZID=America/Toronto:20250501T180000
DTSTAMP:20260423T132231
CREATED:20250327T183413Z
LAST-MODIFIED:20250327T183413Z
UID:20497-1746111600-1746122400@moebius.cegepmontpetit.ca
SUMMARY:Réservation – Cours Techniques dentaires (Denturologie)
DESCRIPTION:#75663 \n– Aimants : Oui \nPortable: 30
URL:https://moebius.cegepmontpetit.ca/evenement/reservation-cours-techniques-dentaires-denturologie-6/
LOCATION:D2702
CATEGORIES:Besoin de portables,Mode exclusif,Réservation - CLAAC,Téléviseur interactif 1x
ATTACH;FMTTYPE=image/jpeg:https://moebius.cegepmontpetit.ca/wp-content/uploads/sites/166/2019/10/panoramaEspaceMedialab.jpg
END:VEVENT
BEGIN:VEVENT
DTSTART;TZID=America/Toronto:20250502T123000
DTEND;TZID=America/Toronto:20250502T130000
DTSTAMP:20260423T132232
CREATED:20250120T195146Z
LAST-MODIFIED:20250120T195407Z
UID:20319-1746189000-1746190800@moebius.cegepmontpetit.ca
SUMMARY:Placement Local: ONU (Les chaises des étudiants doivent être placées en avant des projecteurs pour une présentation.)
DESCRIPTION:
URL:https://moebius.cegepmontpetit.ca/evenement/placement-local-onu-les-chaises-des-etudiants-doivent-etre-placees-en-avant-des-projecteurs-pour-une-presentation/
LOCATION:D2702
ATTACH;FMTTYPE=image/png:https://moebius.cegepmontpetit.ca/wp-content/uploads/sites/166/2024/05/ONU-Modifiee.png
END:VEVENT
BEGIN:VEVENT
DTSTART;TZID=America/Toronto:20250502T130000
DTEND;TZID=America/Toronto:20250502T170000
DTSTAMP:20260423T132232
CREATED:20250120T145044Z
LAST-MODIFIED:20250120T145140Z
UID:20239-1746190800-1746205200@moebius.cegepmontpetit.ca
SUMMARY:Réservation - Cours Techniques de l'informatique
DESCRIPTION:#75659 \nDisposition proposé: ONU (Les chaises des étudiants doivent être placées en avant des projecteurs pour une présentation.) \nPortable: 1
URL:https://moebius.cegepmontpetit.ca/evenement/reservation-cours-techniques-de-linformatique/
LOCATION:D2702
CATEGORIES:Besoin de portables,Mode exclusif,Réservation - CLAAC,Téléviseur interactif 1x
ATTACH;FMTTYPE=image/jpeg:https://moebius.cegepmontpetit.ca/wp-content/uploads/sites/166/2019/10/panoramaEspaceMedialab.jpg
END:VEVENT
BEGIN:VEVENT
DTSTART;TZID=America/Toronto:20250505T143000
DTEND;TZID=America/Toronto:20250505T150000
DTSTAMP:20260423T132232
CREATED:20250422T132134Z
LAST-MODIFIED:20250422T133219Z
UID:20556-1746455400-1746457200@moebius.cegepmontpetit.ca
SUMMARY:Placement local: Le Duel
DESCRIPTION:#75666
URL:https://moebius.cegepmontpetit.ca/evenement/placement-local-le-duel/
LOCATION:D2702
ATTACH;FMTTYPE=image/png:https://moebius.cegepmontpetit.ca/wp-content/uploads/sites/166/2024/05/11_Le_Duel.png
END:VEVENT
BEGIN:VEVENT
DTSTART;TZID=America/Toronto:20250505T150000
DTEND;TZID=America/Toronto:20250505T170000
DTSTAMP:20260423T132232
CREATED:20250120T161431Z
LAST-MODIFIED:20250120T161431Z
UID:20255-1746457200-1746464400@moebius.cegepmontpetit.ca
SUMMARY:Réservation - Cours Techniques d'hygiène dentaire
DESCRIPTION:#75666 \nDispostion: Le duel\n– Cartes aimantées de couleur variées : Oui \nPortable: 29
URL:https://moebius.cegepmontpetit.ca/evenement/reservation-cours-techniques-dhygiene-dentaire-15/
LOCATION:D2702
CATEGORIES:Besoin de portables,Imprimante en fonction,Mode exclusif,Réservation - CLAAC,Téléviseur interactif 1x
ATTACH;FMTTYPE=image/jpeg:https://moebius.cegepmontpetit.ca/wp-content/uploads/sites/166/2019/10/panoramaEspaceMedialab.jpg
END:VEVENT
BEGIN:VEVENT
DTSTART;TZID=America/Toronto:20250506T110000
DTEND;TZID=America/Toronto:20250506T130000
DTSTAMP:20260423T132232
CREATED:20250221T134046Z
LAST-MODIFIED:20250221T134046Z
UID:20436-1746529200-1746536400@moebius.cegepmontpetit.ca
SUMMARY:Réservation - Cours Psychologie
DESCRIPTION:#77190 \nKit bimodale
URL:https://moebius.cegepmontpetit.ca/evenement/reservation-cours-psychologie-11/
LOCATION:D2702
CATEGORIES:Mode exclusif,Réservation - CLAAC,Téléviseur interactif 1x
ATTACH;FMTTYPE=image/jpeg:https://moebius.cegepmontpetit.ca/wp-content/uploads/sites/166/2019/10/panoramaEspaceMedialab.jpg
END:VEVENT
BEGIN:VEVENT
DTSTART;VALUE=DATE:20250507
DTEND;VALUE=DATE:20250509
DTSTAMP:20260423T132232
CREATED:20250502T145755Z
LAST-MODIFIED:20250502T145803Z
UID:20667-1746597600-1746683999@moebius.cegepmontpetit.ca
SUMMARY:Réservation bouton sonore
DESCRIPTION:Retour le 9 mai \n#Lise Bédard
URL:https://moebius.cegepmontpetit.ca/evenement/reservation-bouton-sonore/
LOCATION:D2702
ATTACH;FMTTYPE=image/jpeg:https://moebius.cegepmontpetit.ca/wp-content/uploads/sites/166/2019/06/Moebius_2019_05_16_0017-e1568646956205.jpg
END:VEVENT
BEGIN:VEVENT
DTSTART;TZID=America/Toronto:20250507T080000
DTEND;TZID=America/Toronto:20250507T090000
DTSTAMP:20260423T132232
CREATED:20250505T151559Z
LAST-MODIFIED:20250505T151559Z
UID:20674-1746604800-1746608400@moebius.cegepmontpetit.ca
SUMMARY:Placement Local - 6 Postes RV
DESCRIPTION:6 station\nSIM 21-B : Le syndrome de compartiment et La chambre des erreurs
URL:https://moebius.cegepmontpetit.ca/evenement/placement-local-6-postes-rv-3/
LOCATION:D2702
CATEGORIES:Atelier - Réalité virtuelle,Besoin de portables,Imprimante en fonction,Mode partagé
ATTACH;FMTTYPE=image/png:https://moebius.cegepmontpetit.ca/wp-content/uploads/sites/166/2024/03/Quest_3_4x4_Final.png
END:VEVENT
BEGIN:VEVENT
DTSTART;TZID=America/Toronto:20250507T090000
DTEND;TZID=America/Toronto:20250507T120000
DTSTAMP:20260423T132232
CREATED:20250115T144236Z
LAST-MODIFIED:20250115T144312Z
UID:20086-1746608400-1746619200@moebius.cegepmontpetit.ca
SUMMARY:Réservation – RV Soins Infirmiers
DESCRIPTION:Sim: 1-Le syndrome de compartiment (réalité virtuelle Maurice Roy) et 2-La chambre des erreurs (réalité virtuelle Pierrette Tremblay) \n*Confirmer les numéros de simulation* \n6 station
URL:https://moebius.cegepmontpetit.ca/evenement/reservation-rv-soins-infirmiers-39/
LOCATION:D2702
CATEGORIES:Atelier - Réalité virtuelle,Imprimante en fonction,Mode exclusif
ATTACH;FMTTYPE=image/jpeg:https://moebius.cegepmontpetit.ca/wp-content/uploads/sites/166/2024/02/Quest_3_1_Choix-scaled.jpg
END:VEVENT
BEGIN:VEVENT
DTSTART;VALUE=DATE:20250508
DTEND;VALUE=DATE:20250510
DTSTAMP:20260423T132232
CREATED:20250109T150333Z
LAST-MODIFIED:20250109T150333Z
UID:20063-1746684000-1746770399@moebius.cegepmontpetit.ca
SUMMARY:Réservation matériels: 4 fauteuils et 4 petites tables blanches
DESCRIPTION:Ariane Bouley-Prévost
URL:https://moebius.cegepmontpetit.ca/evenement/reservation-materiels-4-fauteuils-et-4-petites-tables-blanches/
LOCATION:D2702
ATTACH;FMTTYPE=image/jpeg:https://moebius.cegepmontpetit.ca/wp-content/uploads/sites/166/2019/10/panorama-espace-CLAAC.jpg
END:VEVENT
BEGIN:VEVENT
DTSTART;TZID=America/Toronto:20250508T080000
DTEND;TZID=America/Toronto:20250508T100000
DTSTAMP:20260423T132232
CREATED:20250120T133347Z
LAST-MODIFIED:20250507T191424Z
UID:20213-1746691200-1746698400@moebius.cegepmontpetit.ca
SUMMARY:Réservation – Cours Psychologie
DESCRIPTION:#75625 \nBesoin dans le coin discussion :\nTrousse-bimodale pour enregistrement\nTV BenQ pour chrono\nCâble réseau pour ordinateur\nInstallation type ‘clinique’
URL:https://moebius.cegepmontpetit.ca/evenement/reservation-cours-psychologie-15/
LOCATION:D2702
CATEGORIES:Imprimante en fonction,Mode exclusif
ATTACH;FMTTYPE=image/jpeg:https://moebius.cegepmontpetit.ca/wp-content/uploads/sites/166/2025/01/Installation_Cours_Psychologie_Enregistrements_Finaux-scaled.jpg
END:VEVENT
BEGIN:VEVENT
DTSTART;TZID=America/Toronto:20250508T133000
DTEND;TZID=America/Toronto:20250508T140000
DTSTAMP:20260423T132232
CREATED:20250422T133438Z
LAST-MODIFIED:20250422T133504Z
UID:20560-1746711000-1746712800@moebius.cegepmontpetit.ca
SUMMARY:Placement local: Disposition personnel
DESCRIPTION:
URL:https://moebius.cegepmontpetit.ca/evenement/placement-local-disposition-personnel/
LOCATION:D2702
ATTACH;FMTTYPE=image/png:https://moebius.cegepmontpetit.ca/wp-content/uploads/sites/166/2024/08/Disposition_personnalise_psychologie_69417_7nov.png
END:VEVENT
BEGIN:VEVENT
DTSTART;TZID=America/Toronto:20250508T140000
DTEND;TZID=America/Toronto:20250508T160000
DTSTAMP:20260423T132232
CREATED:20250117T194526Z
LAST-MODIFIED:20250422T133348Z
UID:20192-1746712800-1746720000@moebius.cegepmontpetit.ca
SUMMARY:Réservation – Cours Psychologie
DESCRIPTION:#75616 \nActivité captation avec Ipad \n2 – 4 iPad (à vérifier) \n2 – 4 trépied
URL:https://moebius.cegepmontpetit.ca/evenement/reservation-cours-psychologie-10/
LOCATION:D2702
CATEGORIES:Mode exclusif,Réservation - CLAAC,Téléviseur interactif 1x
ATTACH;FMTTYPE=image/png:https://moebius.cegepmontpetit.ca/wp-content/uploads/sites/166/2024/08/Disposition_personnalise_psychologie_69417_7nov.png
END:VEVENT
BEGIN:VEVENT
DTSTART;TZID=America/Toronto:20250509T110000
DTEND;TZID=America/Toronto:20250509T120000
DTSTAMP:20260423T132232
CREATED:20250505T151741Z
LAST-MODIFIED:20250505T151741Z
UID:20677-1746788400-1746792000@moebius.cegepmontpetit.ca
SUMMARY:Placement Local - 6 Postes RV
DESCRIPTION:6 station\nSIM 21-B : Le syndrome de compartiment et La chambre des erreurs
URL:https://moebius.cegepmontpetit.ca/evenement/placement-local-6-postes-rv-4/
LOCATION:D2702
CATEGORIES:Atelier - Réalité virtuelle,Mode partagé
ATTACH;FMTTYPE=image/png:https://moebius.cegepmontpetit.ca/wp-content/uploads/sites/166/2024/03/Quest_3_4x4_Final.png
END:VEVENT
BEGIN:VEVENT
DTSTART;TZID=America/Toronto:20250509T130000
DTEND;TZID=America/Toronto:20250509T160000
DTSTAMP:20260423T132232
CREATED:20250115T144645Z
LAST-MODIFIED:20250115T144645Z
UID:20091-1746795600-1746806400@moebius.cegepmontpetit.ca
SUMMARY:Réservation – RV Soins Infirmiers
DESCRIPTION:Sim: 180-21B : 1-Le syndrome de compartiment (réalité virtuelle Maurice Roy) et 2-La chambre des erreurs (réalité virtuelle Pierrette Tremblay) \n6 station
URL:https://moebius.cegepmontpetit.ca/evenement/reservation-rv-soins-infirmiers-41/
LOCATION:D2702
CATEGORIES:Atelier - Réalité virtuelle,Imprimante en fonction,Mode exclusif
ATTACH;FMTTYPE=image/jpeg:https://moebius.cegepmontpetit.ca/wp-content/uploads/sites/166/2024/02/Quest_3_1_Choix-scaled.jpg
END:VEVENT
BEGIN:VEVENT
DTSTART;VALUE=DATE:20250513
DTEND;VALUE=DATE:20250515
DTSTAMP:20260423T132232
CREATED:20240523T135142Z
LAST-MODIFIED:20240523T135142Z
UID:18198-1747116000-1747202399@moebius.cegepmontpetit.ca
SUMMARY:Journée particulière d'enseignement (JR)
DESCRIPTION:
URL:https://moebius.cegepmontpetit.ca/evenement/journee-particuliere-denseignement-jr-10/
LOCATION:D2702
END:VEVENT
BEGIN:VEVENT
DTSTART;TZID=America/Toronto:20250513T090000
DTEND;TZID=America/Toronto:20250513T100000
DTSTAMP:20260423T132232
CREATED:20250506T193246Z
LAST-MODIFIED:20250508T195616Z
UID:20723-1747126800-1747130400@moebius.cegepmontpetit.ca
SUMMARY:Placement local : Cours psychologie + RV pour soins (6 stations)
DESCRIPTION:Coin discussion psychologie :  \nTrousse-bimodale pour enregistrement\nIPAD pour enregistrement backup.\nTV BenQ pour chrono\nInstallation type ‘clinique’ : Acceuil + deux chaises \n————————- \nRéalité virtuelle :  \nInstallation des 6 casques
URL:https://moebius.cegepmontpetit.ca/evenement/placement-local-cours-psychologie-rv-pour-soins-6-stations/
LOCATION:D2702
CATEGORIES:Mode partagé
ATTACH;FMTTYPE=image/jpeg:https://moebius.cegepmontpetit.ca/wp-content/uploads/sites/166/2024/02/Quest_3_1_Choix-scaled.jpg
END:VEVENT
BEGIN:VEVENT
DTSTART;TZID=America/Toronto:20250513T100000
DTEND;TZID=America/Toronto:20250513T120000
DTSTAMP:20260423T132232
CREATED:20250117T194217Z
LAST-MODIFIED:20250508T200028Z
UID:20190-1747130400-1747137600@moebius.cegepmontpetit.ca
SUMMARY:Réservation – Cours Psychologie
DESCRIPTION:#75616 \nCoin discussion psychologie :  \nTrousse-bimodale pour enregistrement\nIPAD pour enregistrement backup.\nTV BenQ pour chrono : Le placer à la place d’un tableau blanc.\nInstallation type ‘clinique’ : Acceuil + deux chaises
URL:https://moebius.cegepmontpetit.ca/evenement/reservation-cours-psychologie-9/
LOCATION:D2702
CATEGORIES:Mode exclusif,Réservation - CLAAC,Téléviseur interactif 1x
ATTACH;FMTTYPE=image/jpeg:https://moebius.cegepmontpetit.ca/wp-content/uploads/sites/166/2025/01/Installation_Cours_Psychologie_Enregistrements_Finaux-scaled.jpg
END:VEVENT
BEGIN:VEVENT
DTSTART;TZID=America/Toronto:20250513T130000
DTEND;TZID=America/Toronto:20250513T160000
DTSTAMP:20260423T132232
CREATED:20250115T144520Z
LAST-MODIFIED:20250324T191048Z
UID:20089-1747141200-1747152000@moebius.cegepmontpetit.ca
SUMMARY:Réservation – RV Soins Infirmiers
DESCRIPTION:Sim: 180-21B : 1-Le syndrome de compartiment (réalité virtuelle Maurice Roy) et 2-La chambre des erreurs (réalité virtuelle Pierrette Tremblay) \n6 station
URL:https://moebius.cegepmontpetit.ca/evenement/reservation-rv-soins-infirmiers-40/
LOCATION:D2702
CATEGORIES:Atelier - Réalité virtuelle,Imprimante en fonction,Mode exclusif
ATTACH;FMTTYPE=image/jpeg:https://moebius.cegepmontpetit.ca/wp-content/uploads/sites/166/2024/02/Quest_3_1_Choix-scaled.jpg
END:VEVENT
BEGIN:VEVENT
DTSTART;VALUE=DATE:20250514
DTEND;VALUE=DATE:20250516
DTSTAMP:20260423T132232
CREATED:20240523T135223Z
LAST-MODIFIED:20240523T135223Z
UID:18200-1747202400-1747288799@moebius.cegepmontpetit.ca
SUMMARY:Épreuve uniforme de langue d'enseignement et littérature (EUL)
DESCRIPTION:
URL:https://moebius.cegepmontpetit.ca/evenement/epreuve-uniforme-de-langue-denseignement-et-litterature-eul-4/
LOCATION:D2702
END:VEVENT
BEGIN:VEVENT
DTSTART;TZID=America/Toronto:20250514T100000
DTEND;TZID=America/Toronto:20250514T120000
DTSTAMP:20260423T132232
CREATED:20250513T193431Z
LAST-MODIFIED:20250513T193431Z
UID:20741-1747216800-1747224000@moebius.cegepmontpetit.ca
SUMMARY:Réservation - Rencontre Projet RV Soins Infirmiers
DESCRIPTION:
URL:https://moebius.cegepmontpetit.ca/evenement/reservation-rencontre-projet-rv-soins-infirmiers/
LOCATION:D2702
CATEGORIES:Mode exclusif,Réservation - CLAAC,Réservation de l'Espace Moebius,Téléviseur interactif 1x
ATTACH;FMTTYPE=image/jpeg:https://moebius.cegepmontpetit.ca/wp-content/uploads/sites/166/2019/04/P1090458.jpg
END:VEVENT
BEGIN:VEVENT
DTSTART;VALUE=DATE:20250515
DTEND;VALUE=DATE:20250517
DTSTAMP:20260423T132232
CREATED:20240523T135313Z
LAST-MODIFIED:20240523T135313Z
UID:18202-1747288800-1747375199@moebius.cegepmontpetit.ca
SUMMARY:Journée particulière d'enseignement (JR)
DESCRIPTION:
URL:https://moebius.cegepmontpetit.ca/evenement/journee-particuliere-denseignement-jr-11/
LOCATION:D2702
END:VEVENT
BEGIN:VEVENT
DTSTART;TZID=America/Toronto:20250515T123000
DTEND;TZID=America/Toronto:20250515T130000
DTSTAMP:20260423T132232
CREATED:20250402T193429Z
LAST-MODIFIED:20250402T193429Z
UID:20516-1747312200-1747314000@moebius.cegepmontpetit.ca
SUMMARY:Placement Local: ONU
DESCRIPTION:#78525
URL:https://moebius.cegepmontpetit.ca/evenement/placement-local-onu-6/
LOCATION:D2702
ATTACH;FMTTYPE=image/png:https://moebius.cegepmontpetit.ca/wp-content/uploads/sites/166/2024/05/08_LONU.png
END:VEVENT
BEGIN:VEVENT
DTSTART;TZID=America/Toronto:20250515T130000
DTEND;TZID=America/Toronto:20250515T150000
DTSTAMP:20260423T132232
CREATED:20250402T193345Z
LAST-MODIFIED:20250403T115542Z
UID:20514-1747314000-1747321200@moebius.cegepmontpetit.ca
SUMMARY:Réservation - Rencontre RM
DESCRIPTION:#78525 \nDisposition: ONU
URL:https://moebius.cegepmontpetit.ca/evenement/reservation-rencontre-rm/
LOCATION:D2702
CATEGORIES:Imprimante en fonction,Mode exclusif,Réservation - CLAAC,Téléviseur interactif 1x
ATTACH;FMTTYPE=image/png:https://moebius.cegepmontpetit.ca/wp-content/uploads/sites/166/2024/05/08_LONU.png
END:VEVENT
BEGIN:VEVENT
DTSTART;VALUE=DATE:20250516
DTEND;VALUE=DATE:20250518
DTSTAMP:20260423T132232
CREATED:20240523T135338Z
LAST-MODIFIED:20240523T135338Z
UID:18204-1747375200-1747461599@moebius.cegepmontpetit.ca
SUMMARY:Évaluations terminales selon l'horaire régulier des cours (EHR)
DESCRIPTION:
URL:https://moebius.cegepmontpetit.ca/evenement/evaluations-terminales-selon-lhoraire-regulier-des-cours-ehr-4/
LOCATION:D2702
END:VEVENT
BEGIN:VEVENT
DTSTART;TZID=America/Toronto:20250516T120000
DTEND;TZID=America/Toronto:20250516T153000
DTSTAMP:20260423T132232
CREATED:20250508T201506Z
LAST-MODIFIED:20250508T201506Z
UID:20738-1747396800-1747409400@moebius.cegepmontpetit.ca
SUMMARY:Réservation - Tournage Pédagogique
DESCRIPTION:
URL:https://moebius.cegepmontpetit.ca/evenement/reservation-tournage-pedagogique/
LOCATION:D2702
CATEGORIES:Événement spécial,Imprimante en fonction
ATTACH;FMTTYPE=image/jpeg:https://moebius.cegepmontpetit.ca/wp-content/uploads/sites/166/2019/09/camera.jpg
END:VEVENT
BEGIN:VEVENT
DTSTART;VALUE=DATE:20250519
DTEND;VALUE=DATE:20250521
DTSTAMP:20260423T132232
CREATED:20240523T135415Z
LAST-MODIFIED:20240523T135415Z
UID:18206-1747634400-1747720799@moebius.cegepmontpetit.ca
SUMMARY:Journée d'encadrement (JE)
DESCRIPTION:
URL:https://moebius.cegepmontpetit.ca/evenement/journee-dencadrement-je-5/
LOCATION:D2702
END:VEVENT
BEGIN:VEVENT
DTSTART;TZID=America/Toronto:20250519T100000
DTEND;TZID=America/Toronto:20250519T120000
DTSTAMP:20260423T132232
CREATED:20250515T171357Z
LAST-MODIFIED:20250515T171357Z
UID:20758-1747648800-1747656000@moebius.cegepmontpetit.ca
SUMMARY:Réservation - Rencontre Disti
DESCRIPTION:Grande table pour 15 personnes\nÉcran BenQ
URL:https://moebius.cegepmontpetit.ca/evenement/reservation-rencontre-disti-2/
LOCATION:D2702
CATEGORIES:Réservation - CLAAC,Téléviseur interactif 1x
ATTACH;FMTTYPE=image/jpeg:https://moebius.cegepmontpetit.ca/wp-content/uploads/sites/166/2019/04/P1090429.jpg
END:VEVENT
BEGIN:VEVENT
DTSTART;TZID=America/Toronto:20250519T120000
DTEND;TZID=America/Toronto:20250519T130000
DTSTAMP:20260423T132232
CREATED:20250414T184213Z
LAST-MODIFIED:20250425T174612Z
UID:20547-1747656000-1747659600@moebius.cegepmontpetit.ca
SUMMARY:Réservation - Test RV Soins Infirmiers
DESCRIPTION:#78862 \n516-Vaccination (sim 13) \n3 station Rift
URL:https://moebius.cegepmontpetit.ca/evenement/reservation-test-rv-soins-infirmiers/
LOCATION:D2702
CATEGORIES:Atelier - Réalité virtuelle,Mode exclusif,Réservation - CLAAC,Téléviseur interactif 1x
ATTACH;FMTTYPE=image/jpeg:https://moebius.cegepmontpetit.ca/wp-content/uploads/sites/166/2019/04/P1090458.jpg
END:VEVENT
END:VCALENDAR