BEGIN:VCALENDAR
VERSION:2.0
PRODID:-//Espace Moebius - ECPv6.0.12//NONSGML v1.0//EN
CALSCALE:GREGORIAN
METHOD:PUBLISH
X-WR-CALNAME:Espace Moebius
X-ORIGINAL-URL:https://moebius.cegepmontpetit.ca
X-WR-CALDESC:évènements pour Espace Moebius
REFRESH-INTERVAL;VALUE=DURATION:PT1H
X-Robots-Tag:noindex
X-PUBLISHED-TTL:PT1H
BEGIN:VTIMEZONE
TZID:America/Toronto
BEGIN:DAYLIGHT
TZOFFSETFROM:-0500
TZOFFSETTO:-0400
TZNAME:EDT
DTSTART:20250309T070000
END:DAYLIGHT
BEGIN:STANDARD
TZOFFSETFROM:-0400
TZOFFSETTO:-0500
TZNAME:EST
DTSTART:20251102T060000
END:STANDARD
END:VTIMEZONE
BEGIN:VEVENT
DTSTART;TZID=America/Toronto:20251201T100000
DTEND;TZID=America/Toronto:20251201T120000
DTSTAMP:20260423T030117
CREATED:20250819T191700Z
LAST-MODIFIED:20250819T191700Z
UID:21164-1764583200-1764590400@moebius.cegepmontpetit.ca
SUMMARY:Réservation - Communauté de pratique et de recherche enseignants
DESCRIPTION:L’aménagement du local sera majoritairement d’asseoir tout le monde en rond\, sans table\, pour favoriser la discussion.
URL:https://moebius.cegepmontpetit.ca/evenement/reservation-communaute-de-pratique-et-de-recherche-enseignants-13/
LOCATION:D2702
CATEGORIES:Mode exclusif,Réservation - CLAAC,Téléviseur interactif 1x
ATTACH;FMTTYPE=image/jpeg:https://moebius.cegepmontpetit.ca/wp-content/uploads/sites/166/2025/08/Rencontre_Coin_Discussion_-9-scaled.jpg
END:VEVENT
BEGIN:VEVENT
DTSTART;TZID=America/Toronto:20251201T150000
DTEND;TZID=America/Toronto:20251201T180000
DTSTAMP:20260423T030117
CREATED:20250826T123801Z
LAST-MODIFIED:20250826T123801Z
UID:21431-1764601200-1764612000@moebius.cegepmontpetit.ca
SUMMARY:Réservation - Cours administration
DESCRIPTION:Synapse #82348
URL:https://moebius.cegepmontpetit.ca/evenement/reservation-cours-administration-14/
LOCATION:D2702
CATEGORIES:Imprimante en fonction,Réservation - CLAAC,Téléviseur interactif 1x
ATTACH;FMTTYPE=image/jpeg:https://moebius.cegepmontpetit.ca/wp-content/uploads/sites/166/2025/08/Gestion-internationale_1.jpg
END:VEVENT
BEGIN:VEVENT
DTSTART;TZID=America/Toronto:20251202T113000
DTEND;TZID=America/Toronto:20251202T143000
DTSTAMP:20260423T030117
CREATED:20250820T165257Z
LAST-MODIFIED:20250820T165257Z
UID:21208-1764675000-1764685800@moebius.cegepmontpetit.ca
SUMMARY:Réservation - Cours d'Hygiène Dentaire
DESCRIPTION:Synapse #81960\nPlage réelle : 11h45 à 14h15
URL:https://moebius.cegepmontpetit.ca/evenement/reservation-cours-dhygiene-dentaire/
LOCATION:D2702
CATEGORIES:Mode exclusif,Réservation - CLAAC,Téléviseur interactif 1x
ATTACH;FMTTYPE=image/jpeg:https://moebius.cegepmontpetit.ca/wp-content/uploads/sites/166/2019/03/dental-hygiene-600x375.jpg
END:VEVENT
BEGIN:VEVENT
DTSTART;TZID=America/Toronto:20251203T153000
DTEND;TZID=America/Toronto:20251203T160000
DTSTAMP:20260423T030117
CREATED:20250821T125917Z
LAST-MODIFIED:20250826T192702Z
UID:21300-1764775800-1764777600@moebius.cegepmontpetit.ca
SUMMARY:Placement local : Ilôt 4 et 3
DESCRIPTION:Disposition : 6 tables de 4 et 3 tables de 3 personnes.\nLes 2 BenQ (avec la même diffusion) et une table pour mon matériel enseignante.\nÀ tous les cours\, besoin des petits tableaux blancs\, crayons effaçables et effaces.
URL:https://moebius.cegepmontpetit.ca/evenement/placement-local-ilot-4-et-3-10/
LOCATION:D2702
ATTACH;FMTTYPE=image/png:https://moebius.cegepmontpetit.ca/wp-content/uploads/sites/166/2025/08/81981_A25_Marie-Michele_Jacob.png
END:VEVENT
BEGIN:VEVENT
DTSTART;TZID=America/Toronto:20251203T160000
DTEND;TZID=America/Toronto:20251203T180000
DTSTAMP:20260423T030117
CREATED:20250820T194619Z
LAST-MODIFIED:20250826T192716Z
UID:21269-1764777600-1764784800@moebius.cegepmontpetit.ca
SUMMARY:Réservation - Cours THD
DESCRIPTION:Synapse #81981\nDisposition : 6 tables de 4 et 3 tables de 3 personnes.\nLes 2 BenQ (avec la même diffusion) et une table pour mon matériel enseignante.\nÀ tous les cours\, besoin des petits tableaux blancs\, crayons effaçables et effaces.
URL:https://moebius.cegepmontpetit.ca/evenement/reservation-cours-thd-34/
LOCATION:D2702
CATEGORIES:Mode exclusif,Réservation - CLAAC,Téléviseur interactif 2x
ATTACH;FMTTYPE=image/jpeg:https://moebius.cegepmontpetit.ca/wp-content/uploads/sites/166/2019/03/dental-hygiene-600x375.jpg
END:VEVENT
BEGIN:VEVENT
DTSTART;TZID=America/Toronto:20251205T080000
DTEND;TZID=America/Toronto:20251205T130000
DTSTAMP:20260423T030117
CREATED:20251119T132139Z
LAST-MODIFIED:20251119T132139Z
UID:22085-1764921600-1764939600@moebius.cegepmontpetit.ca
SUMMARY:Réservation – Cours Administration
DESCRIPTION:#86034\n– Téléviseur interactif : 1\n– Projecteur interactif : 1
URL:https://moebius.cegepmontpetit.ca/evenement/reservation-cours-administration-9/
LOCATION:D2702
CATEGORIES:Imprimante en fonction,Mode exclusif,Réservation - CLAAC,Réservation - Médialab,Réservation - Zone discussion,Réservation de l'Espace Moebius,Téléviseur interactif 1x
ATTACH;FMTTYPE=image/jpeg:https://moebius.cegepmontpetit.ca/wp-content/uploads/sites/166/2025/07/Espace_Moebius_-4-scaled.jpg
END:VEVENT
BEGIN:VEVENT
DTSTART;TZID=America/Toronto:20251205T150000
DTEND;TZID=America/Toronto:20251205T153000
DTSTAMP:20260423T030117
CREATED:20250820T184456Z
LAST-MODIFIED:20250820T184456Z
UID:21239-1764946800-1764948600@moebius.cegepmontpetit.ca
SUMMARY:Placement local : Coin discussion pour enregistrement
DESCRIPTION:
URL:https://moebius.cegepmontpetit.ca/evenement/placement-local-coin-discussion-pour-enregistrement/
LOCATION:D2702
ATTACH;FMTTYPE=image/jpeg:https://moebius.cegepmontpetit.ca/wp-content/uploads/sites/166/2025/01/Installation_Cours_Psychologie_Enregistrements_Finaux-scaled.jpg
END:VEVENT
BEGIN:VEVENT
DTSTART;TZID=America/Toronto:20251208T100000
DTEND;TZID=America/Toronto:20251208T120000
DTSTAMP:20260423T030117
CREATED:20250819T191832Z
LAST-MODIFIED:20250819T193240Z
UID:21166-1765188000-1765195200@moebius.cegepmontpetit.ca
SUMMARY:Réservation - Communauté de pratique et de recherche enseignants
DESCRIPTION:L’aménagement du local sera majoritairement d’asseoir tout le monde en rond\, sans table\, pour favoriser la discussion.\nDisposition : La ronde\nSynapse #81963
URL:https://moebius.cegepmontpetit.ca/evenement/reservation-communaute-de-pratique-et-de-recherche-enseignants-14/
LOCATION:D2702
CATEGORIES:Mode exclusif,Réservation - CLAAC,Téléviseur interactif 1x
ATTACH;FMTTYPE=image/jpeg:https://moebius.cegepmontpetit.ca/wp-content/uploads/sites/166/2025/08/Rencontre_Coin_Discussion_-9-scaled.jpg
END:VEVENT
BEGIN:VEVENT
DTSTART;TZID=America/Toronto:20251208T120000
DTEND;TZID=America/Toronto:20251208T130000
DTSTAMP:20260423T030117
CREATED:20250821T181401Z
LAST-MODIFIED:20251110T160318Z
UID:21359-1765195200-1765198800@moebius.cegepmontpetit.ca
SUMMARY:Mode Partagé : Test Simulations RV Soins Infirmiers
DESCRIPTION:Synapse #82133\nSimulation 15 et 16 : Test de contrôle\nBesoin des 3 stations
URL:https://moebius.cegepmontpetit.ca/evenement/mode-partage-test-simulations-rv-soins-infirmiers-2/
LOCATION:D2702
CATEGORIES:Atelier - Réalité virtuelle,Imprimante en fonction,Mode partagé
ATTACH;FMTTYPE=image/jpeg:https://moebius.cegepmontpetit.ca/wp-content/uploads/sites/166/2024/02/Quest_3_1_Choix-scaled.jpg
END:VEVENT
BEGIN:VEVENT
DTSTART;TZID=America/Toronto:20251208T133000
DTEND;TZID=America/Toronto:20251208T140000
DTSTAMP:20260423T030117
CREATED:20251124T143400Z
LAST-MODIFIED:20251124T143442Z
UID:22104-1765200600-1765202400@moebius.cegepmontpetit.ca
SUMMARY:Mode partagé: Rencontre
DESCRIPTION:Julie Dessureault
URL:https://moebius.cegepmontpetit.ca/evenement/mode-partage-rencontre/
LOCATION:D2702
CATEGORIES:Mode partagé,Réservation de l'Espace Moebius
ATTACH;FMTTYPE=image/jpeg:https://moebius.cegepmontpetit.ca/wp-content/uploads/sites/166/2025/07/Espace_Moebius_-4-scaled.jpg
END:VEVENT
BEGIN:VEVENT
DTSTART;TZID=America/Toronto:20251208T140000
DTEND;TZID=America/Toronto:20251208T143000
DTSTAMP:20260423T030117
CREATED:20250819T173638Z
LAST-MODIFIED:20251015T132714Z
UID:21123-1765202400-1765204200@moebius.cegepmontpetit.ca
SUMMARY:Installation - Postes RV Mobiles
DESCRIPTION:
URL:https://moebius.cegepmontpetit.ca/evenement/installation-postes-rv-mobiles-7/
LOCATION:D2702
ATTACH;FMTTYPE=image/jpeg:https://moebius.cegepmontpetit.ca/wp-content/uploads/sites/166/2024/02/Quest_3_1_Choix-scaled.jpg
END:VEVENT
BEGIN:VEVENT
DTSTART;TZID=America/Toronto:20251208T150000
DTEND;TZID=America/Toronto:20251208T180000
DTSTAMP:20260423T030117
CREATED:20251126T130647Z
LAST-MODIFIED:20251126T130647Z
UID:22109-1765206000-1765216800@moebius.cegepmontpetit.ca
SUMMARY:Réservation - Cours Techniques administratives
DESCRIPTION:#86263 \n– Téléviseur interactif : 1
URL:https://moebius.cegepmontpetit.ca/evenement/reservation-cours-techniques-administratives-3/
LOCATION:D2702
CATEGORIES:Imprimante en fonction,Réservation - CLAAC,Réservation de l'Espace Moebius,Téléviseur interactif 1x
ATTACH;FMTTYPE=image/jpeg:https://moebius.cegepmontpetit.ca/wp-content/uploads/sites/166/2019/10/panoramaEspaceMedialab.jpg
END:VEVENT
BEGIN:VEVENT
DTSTART;VALUE=DATE:20251209
DTEND;VALUE=DATE:20251211
DTSTAMP:20260423T030117
CREATED:20250521T174533Z
LAST-MODIFIED:20250521T174533Z
UID:20834-1765260000-1765346399@moebius.cegepmontpetit.ca
SUMMARY:Journée particulière d'enseignement (JR)
DESCRIPTION:
URL:https://moebius.cegepmontpetit.ca/evenement/journee-particuliere-denseignement-jr-13/
LOCATION:D2702
END:VEVENT
BEGIN:VEVENT
DTSTART;TZID=America/Toronto:20251209T090000
DTEND;TZID=America/Toronto:20251209T120000
DTSTAMP:20260423T030117
CREATED:20250819T173653Z
LAST-MODIFIED:20250819T131900Z
UID:21116-1765270800-1765281600@moebius.cegepmontpetit.ca
SUMMARY:Réservation RV - Soins Infirmiers
DESCRIPTION:Problématique : 21B – Chambre des erreurs Et Fx-Tibia\nBesoin des 6 stations RV : 3 mobiles\nSynapse TSI
URL:https://moebius.cegepmontpetit.ca/evenement/reservation-rv-soins-infirmiers-84/
CATEGORIES:Atelier - Réalité virtuelle,Imprimante en fonction,Mode exclusif,Réservation - CLAAC,Téléviseur interactif 1x
ATTACH;FMTTYPE=image/jpeg:https://moebius.cegepmontpetit.ca/wp-content/uploads/sites/166/2024/02/Quest_3_1_Choix-scaled.jpg
END:VEVENT
BEGIN:VEVENT
DTSTART;TZID=America/Toronto:20251209T130000
DTEND;TZID=America/Toronto:20251209T160000
DTSTAMP:20260423T030117
CREATED:20250819T173740Z
LAST-MODIFIED:20250819T125906Z
UID:21119-1765285200-1765296000@moebius.cegepmontpetit.ca
SUMMARY:Réservation RV - Soins Infirmiers
DESCRIPTION:Problématique : 21B – Chambre des erreurs Et Fx-Tibia\nBesoin des 6 stations RV : 3 mobiles\nSynapse TSI
URL:https://moebius.cegepmontpetit.ca/evenement/reservation-rv-soins-infirmiers-85/
LOCATION:D2702
CATEGORIES:Atelier - Réalité virtuelle,Imprimante en fonction,Mode partagé,Réservation - CLAAC,Téléviseur interactif 1x
ATTACH;FMTTYPE=image/jpeg:https://moebius.cegepmontpetit.ca/wp-content/uploads/sites/166/2024/02/Quest_3_1_Choix-scaled.jpg
END:VEVENT
BEGIN:VEVENT
DTSTART;VALUE=DATE:20251210
DTEND;VALUE=DATE:20251212
DTSTAMP:20260423T030117
CREATED:20250521T174633Z
LAST-MODIFIED:20250521T174633Z
UID:20836-1765346400-1765432799@moebius.cegepmontpetit.ca
SUMMARY:Évaluations terminales selon l'horaire régulier des cours (EHR)
DESCRIPTION:
URL:https://moebius.cegepmontpetit.ca/evenement/evaluations-terminales-selon-lhoraire-regulier-des-cours-ehr-7/
LOCATION:D2702
END:VEVENT
BEGIN:VEVENT
DTSTART;TZID=America/Toronto:20251210T080000
DTEND;TZID=America/Toronto:20251210T120000
DTSTAMP:20260423T030117
CREATED:20250819T173923Z
LAST-MODIFIED:20250820T171006Z
UID:21129-1765353600-1765368000@moebius.cegepmontpetit.ca
SUMMARY:Réservation RV - Soins Infirmiers
DESCRIPTION:Problématique : Problématique : 516-Vaccination\nSynapse #81974
URL:https://moebius.cegepmontpetit.ca/evenement/reservation-rv-soins-infirmiers-89/
LOCATION:D2702
CATEGORIES:Atelier - Réalité virtuelle,Imprimante en fonction,Mode exclusif,Réservation - CLAAC,Téléviseur interactif 1x
ATTACH;FMTTYPE=image/jpeg:https://moebius.cegepmontpetit.ca/wp-content/uploads/sites/166/2019/04/P1090458.jpg
END:VEVENT
BEGIN:VEVENT
DTSTART;TZID=America/Toronto:20251210T120000
DTEND;TZID=America/Toronto:20251210T140000
DTSTAMP:20260423T030117
CREATED:20250819T173841Z
LAST-MODIFIED:20250826T171506Z
UID:21125-1765368000-1765375200@moebius.cegepmontpetit.ca
SUMMARY:Réservation RV - Soins Infirmiers
DESCRIPTION:Synapse #82417\nProblématique : 50A-SCPD\nBesoin de 6 stations vu la plage de temps réduite.\nBesoin des petites tables blanches entre les stations RV\nBesoin d’une paire d’écouteur avec fil en plus\, pour le second étudiant (message sera transmis aux personnes étudiantes par l’équipe cours)
URL:https://moebius.cegepmontpetit.ca/evenement/reservation-rv-soins-infirmiers-87/
LOCATION:D2702
CATEGORIES:Atelier - Réalité virtuelle,Mode exclusif,Réservation - CLAAC,Téléviseur interactif 1x
ATTACH;FMTTYPE=image/jpeg:https://moebius.cegepmontpetit.ca/wp-content/uploads/sites/166/2024/02/Quest_3_1_Choix-scaled.jpg
END:VEVENT
BEGIN:VEVENT
DTSTART;TZID=America/Toronto:20251210T140000
DTEND;TZID=America/Toronto:20251210T160000
DTSTAMP:20260423T030117
CREATED:20250819T173815Z
LAST-MODIFIED:20250826T171524Z
UID:21127-1765375200-1765382400@moebius.cegepmontpetit.ca
SUMMARY:Réservation RV - Soins Infirmiers
DESCRIPTION:Synapse #82417\nProblématique : 50A-SCPD\nBesoin de 6 stations vu la plage de temps réduite.\nBesoin des petites tables blanches entre les stations RV\nBesoin d’une paire d’écouteur avec fil en plus\, pour le second étudiant (message sera transmis aux personnes étudiantes par l’équipe cours)
URL:https://moebius.cegepmontpetit.ca/evenement/reservation-rv-soins-infirmiers-88/
LOCATION:D2702
CATEGORIES:Atelier - Réalité virtuelle,Imprimante en fonction,Mode exclusif,Réservation - CLAAC,Téléviseur interactif 1x
ATTACH;FMTTYPE=image/jpeg:https://moebius.cegepmontpetit.ca/wp-content/uploads/sites/166/2024/02/Quest_3_1_Choix-scaled.jpg
END:VEVENT
BEGIN:VEVENT
DTSTART;VALUE=DATE:20251211
DTEND;VALUE=DATE:20251213
DTSTAMP:20260423T030117
CREATED:20250521T174633Z
LAST-MODIFIED:20250521T174633Z
UID:20837-1765432800-1765519199@moebius.cegepmontpetit.ca
SUMMARY:Évaluations terminales selon l'horaire régulier des cours (EHR)
DESCRIPTION:
URL:https://moebius.cegepmontpetit.ca/evenement/evaluations-terminales-selon-lhoraire-regulier-des-cours-ehr-7/2025-12-11/
LOCATION:D2702
END:VEVENT
BEGIN:VEVENT
DTSTART;TZID=America/Toronto:20251211T080000
DTEND;TZID=America/Toronto:20251211T120000
DTSTAMP:20260423T030117
CREATED:20250819T174054Z
LAST-MODIFIED:20250820T171033Z
UID:21131-1765440000-1765454400@moebius.cegepmontpetit.ca
SUMMARY:Réservation RV - Soins Infirmiers
DESCRIPTION:Problématique : 516-Vaccination\nBesoin des 6 stations : 3 stations mobiles\nSynapse #81974
URL:https://moebius.cegepmontpetit.ca/evenement/reservation-rv-soins-infirmiers-90/
LOCATION:D2702
CATEGORIES:Atelier - Réalité virtuelle,Imprimante en fonction,Mode exclusif,Réservation - CLAAC,Téléviseur interactif 1x
ATTACH;FMTTYPE=image/jpeg:https://moebius.cegepmontpetit.ca/wp-content/uploads/sites/166/2024/02/Quest_3_1_Choix-scaled.jpg
END:VEVENT
BEGIN:VEVENT
DTSTART;TZID=America/Toronto:20251211T130000
DTEND;TZID=America/Toronto:20251211T160000
DTSTAMP:20260423T030117
CREATED:20250819T173822Z
LAST-MODIFIED:20250819T130534Z
UID:21121-1765458000-1765468800@moebius.cegepmontpetit.ca
SUMMARY:Réservation RV - Soins Infirmiers
DESCRIPTION:Problématique : 21B – Chambre des erreurs Et Fx-Tibia\nBesoin des 6 stations RV : 3 mobiles\nSynapse TSI
URL:https://moebius.cegepmontpetit.ca/evenement/reservation-rv-soins-infirmiers-86/
LOCATION:D2702
CATEGORIES:Atelier - Réalité virtuelle,Imprimante en fonction,Mode exclusif,Réservation - CLAAC,Téléviseur interactif 1x
ATTACH;FMTTYPE=image/jpeg:https://moebius.cegepmontpetit.ca/wp-content/uploads/sites/166/2024/02/Quest_3_1_Choix-scaled.jpg
END:VEVENT
BEGIN:VEVENT
DTSTART;VALUE=DATE:20251212
DTEND;VALUE=DATE:20251214
DTSTAMP:20260423T030117
CREATED:20250521T174714Z
LAST-MODIFIED:20250521T174714Z
UID:20839-1765519200-1765605599@moebius.cegepmontpetit.ca
SUMMARY:Évaluations terminales communes (EC)
DESCRIPTION:
URL:https://moebius.cegepmontpetit.ca/evenement/evaluations-terminales-communes-ec-8/
LOCATION:D2702
END:VEVENT
BEGIN:VEVENT
DTSTART;VALUE=DATE:20251215
DTEND;VALUE=DATE:20251217
DTSTAMP:20260423T030117
CREATED:20250521T174753Z
LAST-MODIFIED:20250521T174753Z
UID:20842-1765778400-1765864799@moebius.cegepmontpetit.ca
SUMMARY:Évaluations terminales communes (EC)
DESCRIPTION:
URL:https://moebius.cegepmontpetit.ca/evenement/evaluations-terminales-communes-ec-9/
LOCATION:D2702
END:VEVENT
BEGIN:VEVENT
DTSTART;TZID=America/Toronto:20251215T080000
DTEND;TZID=America/Toronto:20251215T130000
DTSTAMP:20260423T030117
CREATED:20251201T195356Z
LAST-MODIFIED:20251201T195356Z
UID:22111-1765785600-1765803600@moebius.cegepmontpetit.ca
SUMMARY:Réservation – Cours Psychologie
DESCRIPTION:Synapse #81968\nEnregistrement bi-modal des évaluations finales\nKit IPAD pour backup.\nCoin discussion en clinique.
URL:https://moebius.cegepmontpetit.ca/evenement/reservation-cours-psychologie-18/
LOCATION:D2702
CATEGORIES:Mode exclusif,Réservation de l'Espace Moebius
ATTACH;FMTTYPE=image/jpeg:https://moebius.cegepmontpetit.ca/wp-content/uploads/sites/166/2019/10/panoramaEspaceMedialab.jpg
END:VEVENT
BEGIN:VEVENT
DTSTART;VALUE=DATE:20251216
DTEND;VALUE=DATE:20251218
DTSTAMP:20260423T030117
CREATED:20250521T174832Z
LAST-MODIFIED:20250521T174832Z
UID:20844-1765864800-1765951199@moebius.cegepmontpetit.ca
SUMMARY:Évaluations terminales selon l'horaire régulier des cours (EHR)
DESCRIPTION:
URL:https://moebius.cegepmontpetit.ca/evenement/evaluations-terminales-selon-lhoraire-regulier-des-cours-ehr-8/
LOCATION:D2702
END:VEVENT
BEGIN:VEVENT
DTSTART;TZID=America/Toronto:20251216T080000
DTEND;TZID=America/Toronto:20251216T150000
DTSTAMP:20260423T030117
CREATED:20251104T184723Z
LAST-MODIFIED:20251104T184823Z
UID:22070-1765872000-1765897200@moebius.cegepmontpetit.ca
SUMMARY:Réservation - Cours Denturologie
DESCRIPTION:#85522 \nOrdinateurs: 15
URL:https://moebius.cegepmontpetit.ca/evenement/reservation-cours-de-francais/
LOCATION:D2702
CATEGORIES:Besoin de portables,Imprimante en fonction,Local fermé,Réservation - CLAAC,Téléviseur interactif 2x
ATTACH;FMTTYPE=image/jpeg:https://moebius.cegepmontpetit.ca/wp-content/uploads/sites/166/2025/07/Espace_Moebius_-4-scaled.jpg
END:VEVENT
BEGIN:VEVENT
DTSTART;VALUE=DATE:20251217
DTEND;VALUE=DATE:20251219
DTSTAMP:20260423T030117
CREATED:20250521T174907Z
LAST-MODIFIED:20250521T174907Z
UID:20846-1765951200-1766037599@moebius.cegepmontpetit.ca
SUMMARY:Épreuve uniforme de langue d'enseignement et littérature (EUL/EC)
DESCRIPTION:
URL:https://moebius.cegepmontpetit.ca/evenement/epreuve-uniforme-de-langue-denseignement-et-litterature-eul-ec/
LOCATION:D2702
END:VEVENT
BEGIN:VEVENT
DTSTART;TZID=America/Toronto:20251217T080000
DTEND;TZID=America/Toronto:20251217T160000
DTSTAMP:20260423T030117
CREATED:20251125T152115Z
LAST-MODIFIED:20251125T152115Z
UID:22107-1765958400-1765987200@moebius.cegepmontpetit.ca
SUMMARY:Mode partagé: Test simulation soins
DESCRIPTION:sim 15 100
URL:https://moebius.cegepmontpetit.ca/evenement/mode-partage-test-simulation-soins/
LOCATION:D2702
CATEGORIES:Atelier - Réalité virtuelle,Réservation de l'Espace Moebius
ATTACH;FMTTYPE=image/jpeg:https://moebius.cegepmontpetit.ca/wp-content/uploads/sites/166/2019/03/P1090458.jpg
END:VEVENT
BEGIN:VEVENT
DTSTART;VALUE=DATE:20251218
DTEND;VALUE=DATE:20251220
DTSTAMP:20260423T030117
CREATED:20250521T175143Z
LAST-MODIFIED:20250521T175143Z
UID:20854-1766037600-1766123999@moebius.cegepmontpetit.ca
SUMMARY:Évaluations terminales communes (EC)
DESCRIPTION:
URL:https://moebius.cegepmontpetit.ca/evenement/evaluations-terminales-communes-ec-10/
LOCATION:D2702
END:VEVENT
END:VCALENDAR