BEGIN:VCALENDAR
VERSION:2.0
PRODID:-//Espace Moebius - ECPv6.0.12//NONSGML v1.0//EN
CALSCALE:GREGORIAN
METHOD:PUBLISH
X-WR-CALNAME:Espace Moebius
X-ORIGINAL-URL:https://moebius.cegepmontpetit.ca
X-WR-CALDESC:évènements pour Espace Moebius
REFRESH-INTERVAL;VALUE=DURATION:PT1H
X-Robots-Tag:noindex
X-PUBLISHED-TTL:PT1H
BEGIN:VTIMEZONE
TZID:America/Toronto
BEGIN:DAYLIGHT
TZOFFSETFROM:-0500
TZOFFSETTO:-0400
TZNAME:EDT
DTSTART:20230312T070000
END:DAYLIGHT
BEGIN:STANDARD
TZOFFSETFROM:-0400
TZOFFSETTO:-0500
TZNAME:EST
DTSTART:20231105T060000
END:STANDARD
END:VTIMEZONE
BEGIN:VEVENT
DTSTART;VALUE=DATE:20230522
DTEND;VALUE=DATE:20230524
DTSTAMP:20260425T074516
CREATED:20221021T151351Z
LAST-MODIFIED:20221021T151351Z
UID:15651-1684735200-1684821599@moebius.cegepmontpetit.ca
SUMMARY:Journée d'encadrement (JE)
DESCRIPTION:
URL:https://moebius.cegepmontpetit.ca/evenement/journee-dencadrement-je-2/
LOCATION:D2702
END:VEVENT
BEGIN:VEVENT
DTSTART;TZID=America/Toronto:20230522T080000
DTEND;TZID=America/Toronto:20230522T160000
DTSTAMP:20260425T074516
CREATED:20230331T140518Z
LAST-MODIFIED:20230515T144144Z
UID:16337-1684742400-1684771200@moebius.cegepmontpetit.ca
SUMMARY:Férié - Journée des patriotes
DESCRIPTION:
URL:https://moebius.cegepmontpetit.ca/evenement/reservation-espace-moebius-examens-csa-5/
LOCATION:D2702
CATEGORIES:Mode exclusif,Réservation de l'Espace Moebius
END:VEVENT
BEGIN:VEVENT
DTSTART;VALUE=DATE:20230523
DTEND;VALUE=DATE:20230525
DTSTAMP:20260425T074516
CREATED:20221021T151439Z
LAST-MODIFIED:20221021T151439Z
UID:15653-1684821600-1684907999@moebius.cegepmontpetit.ca
SUMMARY:Évaluations terminales communes (EC)
DESCRIPTION:
URL:https://moebius.cegepmontpetit.ca/evenement/evaluations-terminales-communes-ec-4/
LOCATION:D2702
END:VEVENT
BEGIN:VEVENT
DTSTART;TZID=America/Toronto:20230523T073000
DTEND;TZID=America/Toronto:20230523T190000
DTSTAMP:20260425T074516
CREATED:20230331T141036Z
LAST-MODIFIED:20230331T141036Z
UID:16339-1684827000-1684868400@moebius.cegepmontpetit.ca
SUMMARY:Réservation Espace Moebius - Examens CSA
DESCRIPTION:
URL:https://moebius.cegepmontpetit.ca/evenement/reservation-espace-moebius-examens-csa-6/
LOCATION:D2702
CATEGORIES:Mode exclusif,Réservation de l'Espace Moebius
END:VEVENT
BEGIN:VEVENT
DTSTART;TZID=America/Toronto:20230524T080000
DTEND;TZID=America/Toronto:20230524T110000
DTSTAMP:20260425T074516
CREATED:20230221T191304Z
LAST-MODIFIED:20230524T121805Z
UID:16212-1684915200-1684926000@moebius.cegepmontpetit.ca
SUMMARY:Réservation Espace Moebius - Cours THD
DESCRIPTION:
URL:https://moebius.cegepmontpetit.ca/evenement/reservation-espace-moebius-cours-thd-14/
LOCATION:D2702
CATEGORIES:Classe ananas_Observation,Imprimante en fonction,Réservation de l'Espace Moebius
ATTACH;FMTTYPE=image/jpeg:https://moebius.cegepmontpetit.ca/wp-content/uploads/sites/166/2019/03/dental-hygiene-600x375.jpg
END:VEVENT
BEGIN:VEVENT
DTSTART;TZID=America/Toronto:20230524T120000
DTEND;TZID=America/Toronto:20230524T130000
DTSTAMP:20260425T074516
CREATED:20230524T122001Z
LAST-MODIFIED:20230524T122001Z
UID:16554-1684929600-1684933200@moebius.cegepmontpetit.ca
SUMMARY:Local Fermé - Dîner TTP
DESCRIPTION:
URL:https://moebius.cegepmontpetit.ca/evenement/local-ferme-diner-ttp-2/
LOCATION:D2702
CATEGORIES:Local fermé
END:VEVENT
BEGIN:VEVENT
DTSTART;TZID=America/Toronto:20230525T080000
DTEND;TZID=America/Toronto:20230525T110000
DTSTAMP:20260425T074516
CREATED:20230221T191608Z
LAST-MODIFIED:20230524T121837Z
UID:16214-1685001600-1685012400@moebius.cegepmontpetit.ca
SUMMARY:Réservation Espace Moebius - Cours THD
DESCRIPTION:
URL:https://moebius.cegepmontpetit.ca/evenement/reservation-espace-moebius-cours-thd-15/
LOCATION:D2702
CATEGORIES:Classe ananas_Observation,Imprimante en fonction,Réservation de l'Espace Moebius
ATTACH;FMTTYPE=image/jpeg:https://moebius.cegepmontpetit.ca/wp-content/uploads/sites/166/2019/03/dental-hygiene-600x375.jpg
END:VEVENT
BEGIN:VEVENT
DTSTART;TZID=America/Toronto:20230525T120000
DTEND;TZID=America/Toronto:20230525T130000
DTSTAMP:20260425T074516
CREATED:20230524T122022Z
LAST-MODIFIED:20230524T122022Z
UID:16556-1685016000-1685019600@moebius.cegepmontpetit.ca
SUMMARY:Local Fermé - Dîner TTP
DESCRIPTION:
URL:https://moebius.cegepmontpetit.ca/evenement/local-ferme-diner-ttp-3/
LOCATION:D2702
CATEGORIES:Local fermé
END:VEVENT
BEGIN:VEVENT
DTSTART;TZID=America/Toronto:20230526T080000
DTEND;TZID=America/Toronto:20230526T120000
DTSTAMP:20260425T074516
CREATED:20230120T165810Z
LAST-MODIFIED:20230414T130649Z
UID:16043-1685088000-1685102400@moebius.cegepmontpetit.ca
SUMMARY:Réservation Espace Moebius - Cours Administration
DESCRIPTION:Disposition du local : L’Assemblée
URL:https://moebius.cegepmontpetit.ca/evenement/reservation-espace-moebius-cours-administration-12/
LOCATION:D2702
CATEGORIES:1 portable par étudiant,Besoin de portables,Mode exclusif,Réservation de l'Espace Moebius
END:VEVENT
BEGIN:VEVENT
DTSTART;TZID=America/Toronto:20230526T120000
DTEND;TZID=America/Toronto:20230526T130000
DTSTAMP:20260425T074516
CREATED:20230524T122244Z
LAST-MODIFIED:20230524T122244Z
UID:16558-1685102400-1685106000@moebius.cegepmontpetit.ca
SUMMARY:Local Fermé - Dîner TTP
DESCRIPTION:
URL:https://moebius.cegepmontpetit.ca/evenement/local-ferme-diner-ttp-4/
LOCATION:D2702
CATEGORIES:Local fermé
END:VEVENT
END:VCALENDAR