BEGIN:VCALENDAR
VERSION:2.0
PRODID:-//Espace Moebius - ECPv6.0.12//NONSGML v1.0//EN
CALSCALE:GREGORIAN
METHOD:PUBLISH
X-WR-CALNAME:Espace Moebius
X-ORIGINAL-URL:https://moebius.cegepmontpetit.ca
X-WR-CALDESC:évènements pour Espace Moebius
REFRESH-INTERVAL;VALUE=DURATION:PT1H
X-Robots-Tag:noindex
X-PUBLISHED-TTL:PT1H
BEGIN:VTIMEZONE
TZID:America/Toronto
BEGIN:DAYLIGHT
TZOFFSETFROM:-0500
TZOFFSETTO:-0400
TZNAME:EDT
DTSTART:20230312T070000
END:DAYLIGHT
BEGIN:STANDARD
TZOFFSETFROM:-0400
TZOFFSETTO:-0500
TZNAME:EST
DTSTART:20231105T060000
END:STANDARD
END:VTIMEZONE
BEGIN:VEVENT
DTSTART;VALUE=DATE:20230529
DTEND;VALUE=DATE:20230531
DTSTAMP:20260425T074429
CREATED:20221021T151519Z
LAST-MODIFIED:20221021T151519Z
UID:15655-1685340000-1685426399@moebius.cegepmontpetit.ca
SUMMARY:Journée provisoire particulière d'enseignement (JPR)
DESCRIPTION:
URL:https://moebius.cegepmontpetit.ca/evenement/journee-provisoire-particuliere-denseignement-jpr/
LOCATION:D2702
END:VEVENT
BEGIN:VEVENT
DTSTART;TZID=America/Toronto:20230529T083000
DTEND;TZID=America/Toronto:20230529T160000
DTSTAMP:20260425T074429
CREATED:20230320T195646Z
LAST-MODIFIED:20230428T172701Z
UID:16268-1685349000-1685376000@moebius.cegepmontpetit.ca
SUMMARY:- Réservation Espace Moebius - Rencontre départementale - Soins infirmiers
DESCRIPTION:
URL:https://moebius.cegepmontpetit.ca/evenement/reservation-espace-moebius-rencontre-departementale-soins-infirmiers/
LOCATION:D2702
CATEGORIES:Besoin de portables,Classe ananas_Observation,Imprimante en fonction,Mode exclusif,Réservation de l'Espace Moebius
ATTACH;FMTTYPE=image/png:https://moebius.cegepmontpetit.ca/wp-content/uploads/sites/166/2019/11/soins.png
END:VEVENT
BEGIN:VEVENT
DTSTART;TZID=America/Toronto:20230530T113000
DTEND;TZID=America/Toronto:20230530T123000
DTSTAMP:20260425T074429
CREATED:20230526T191517Z
LAST-MODIFIED:20230526T191517Z
UID:16604-1685446200-1685449800@moebius.cegepmontpetit.ca
SUMMARY:Local Fermé - Dîner TTP
DESCRIPTION:
URL:https://moebius.cegepmontpetit.ca/evenement/local-ferme-diner-ttp-5/
LOCATION:D2702
CATEGORIES:Local fermé
END:VEVENT
BEGIN:VEVENT
DTSTART;TZID=America/Toronto:20230530T123000
DTEND;TZID=America/Toronto:20230530T150000
DTSTAMP:20260425T074429
CREATED:20230425T123919Z
LAST-MODIFIED:20230427T173426Z
UID:16453-1685449800-1685458800@moebius.cegepmontpetit.ca
SUMMARY:Réservation Espace Moebius - Formation Téléviseur interactif
DESCRIPTION:Utilisation des deux téléviseurs.
URL:https://moebius.cegepmontpetit.ca/evenement/reservation-espace-moebius-formation-televiseur-interactif/
LOCATION:D2702
CATEGORIES:Imprimante en fonction,Mode exclusif,Réservation de l'Espace Moebius
ATTACH;FMTTYPE=image/jpeg:https://moebius.cegepmontpetit.ca/wp-content/uploads/sites/166/2022/06/PXL_20220208_150128587.MP_-scaled.jpg
END:VEVENT
BEGIN:VEVENT
DTSTART;TZID=America/Toronto:20230530T150000
DTEND;TZID=America/Toronto:20230530T160000
DTSTAMP:20260425T074429
CREATED:20230511T143449Z
LAST-MODIFIED:20230515T171248Z
UID:16531-1685458800-1685462400@moebius.cegepmontpetit.ca
SUMMARY:Réservation Espace Moebius - Rencontre Commission des études
DESCRIPTION:Disposition du local : L’Expo
URL:https://moebius.cegepmontpetit.ca/evenement/reservation-espace-moebius-rencontre-commission-des-etudes/
LOCATION:D2702
CATEGORIES:Mode exclusif,Réservation de l'Espace Moebius
END:VEVENT
BEGIN:VEVENT
DTSTART;TZID=America/Toronto:20230531T120000
DTEND;TZID=America/Toronto:20230531T130000
DTSTAMP:20260425T074429
CREATED:20230526T191615Z
LAST-MODIFIED:20230526T191615Z
UID:16606-1685534400-1685538000@moebius.cegepmontpetit.ca
SUMMARY:Local Fermé - Dîner TTP
DESCRIPTION:
URL:https://moebius.cegepmontpetit.ca/evenement/local-ferme-diner-ttp-6/
LOCATION:D2702
CATEGORIES:Local fermé
END:VEVENT
BEGIN:VEVENT
DTSTART;TZID=America/Toronto:20230601T080000
DTEND;TZID=America/Toronto:20230601T093000
DTSTAMP:20260425T074429
CREATED:20230425T123341Z
LAST-MODIFIED:20230530T130035Z
UID:16449-1685606400-1685611800@moebius.cegepmontpetit.ca
SUMMARY:Local Fermé - RV Non-Disponible
DESCRIPTION:L’espace Moebius sera fermé vu que nous serons à l’extérieur pour un colloque le 1er et 2 juin. \nBon été !
URL:https://moebius.cegepmontpetit.ca/evenement/local-ferme-rv-non-disponible/
LOCATION:D2702
CATEGORIES:Local fermé
ATTACH;FMTTYPE=image/jpeg:https://moebius.cegepmontpetit.ca/wp-content/uploads/sites/166/2019/07/1090633-Modifier-e1562721284853.jpg
END:VEVENT
BEGIN:VEVENT
DTSTART;TZID=America/Toronto:20230601T093000
DTEND;TZID=America/Toronto:20230601T113000
DTSTAMP:20260425T074429
CREATED:20230530T125607Z
LAST-MODIFIED:20230530T125607Z
UID:16673-1685611800-1685619000@moebius.cegepmontpetit.ca
SUMMARY:Réservations Espace Moebius - Rencontre Comité Intelligence Artificielle
DESCRIPTION:
URL:https://moebius.cegepmontpetit.ca/evenement/reservations-espace-moebius-rencontre-comite-intelligence-artificielle/
LOCATION:D2702
CATEGORIES:Mode exclusif,Réservation de l'Espace Moebius
ATTACH;FMTTYPE=image/jpeg:https://moebius.cegepmontpetit.ca/wp-content/uploads/sites/166/2019/07/P1090494-e1570135673355.jpg
END:VEVENT
BEGIN:VEVENT
DTSTART;TZID=America/Toronto:20230601T113000
DTEND;TZID=America/Toronto:20230601T160000
DTSTAMP:20260425T074429
CREATED:20230530T130105Z
LAST-MODIFIED:20230530T130105Z
UID:16675-1685619000-1685635200@moebius.cegepmontpetit.ca
SUMMARY:Local Fermé - RV Non-Disponible
DESCRIPTION:L’espace Moebius sera fermé vu que nous serons à l’extérieur pour un colloque le 1er et 2 juin. \nBon été !
URL:https://moebius.cegepmontpetit.ca/evenement/local-ferme-rv-non-disponible-3/
LOCATION:D2702
CATEGORIES:Local fermé
ATTACH;FMTTYPE=image/jpeg:https://moebius.cegepmontpetit.ca/wp-content/uploads/sites/166/2019/07/1090633-Modifier-e1562721284853.jpg
END:VEVENT
BEGIN:VEVENT
DTSTART;TZID=America/Toronto:20230602T074500
DTEND;TZID=America/Toronto:20230602T160000
DTSTAMP:20260425T074429
CREATED:20230425T123445Z
LAST-MODIFIED:20230427T175344Z
UID:16451-1685691900-1685721600@moebius.cegepmontpetit.ca
SUMMARY:Journée Plein Air - En cas de pluie
DESCRIPTION:
URL:https://moebius.cegepmontpetit.ca/evenement/local-ferme-rv-non-disponible-2/
LOCATION:D2702
CATEGORIES:Événement spécial,Réservation de l'Espace Moebius
ATTACH;FMTTYPE=image/jpeg:https://moebius.cegepmontpetit.ca/wp-content/uploads/sites/166/2019/06/Moébius-exterieur-13-06-2019-4.jpg
END:VEVENT
END:VCALENDAR