BEGIN:VCALENDAR
VERSION:2.0
PRODID:-//Espace Moebius - ECPv6.0.12//NONSGML v1.0//EN
CALSCALE:GREGORIAN
METHOD:PUBLISH
X-ORIGINAL-URL:https://moebius.cegepmontpetit.ca
X-WR-CALDESC:évènements pour Espace Moebius
REFRESH-INTERVAL;VALUE=DURATION:PT1H
X-Robots-Tag:noindex
X-PUBLISHED-TTL:PT1H
BEGIN:VTIMEZONE
TZID:America/Toronto
BEGIN:DAYLIGHT
TZOFFSETFROM:-0500
TZOFFSETTO:-0400
TZNAME:EDT
DTSTART:20230312T070000
END:DAYLIGHT
BEGIN:STANDARD
TZOFFSETFROM:-0400
TZOFFSETTO:-0500
TZNAME:EST
DTSTART:20231105T060000
END:STANDARD
END:VTIMEZONE
BEGIN:VEVENT
DTSTART;TZID=America/Toronto:20230619T100000
DTEND;TZID=America/Toronto:20230619T120000
DTSTAMP:20260425T063810
CREATED:20230615T124530Z
LAST-MODIFIED:20230615T124530Z
UID:16772-1687168800-1687176000@moebius.cegepmontpetit.ca
SUMMARY:Réservation Espace Moebius - Rencontre Disti
DESCRIPTION:
URL:https://moebius.cegepmontpetit.ca/evenement/reservation-espace-moebius-rencontre-disti/
LOCATION:D2702
CATEGORIES:Réservation de l'Espace Moebius
ATTACH;FMTTYPE=image/jpeg:https://moebius.cegepmontpetit.ca/wp-content/uploads/sites/166/2019/04/P1090498-e1570135533487.jpg
END:VEVENT
BEGIN:VEVENT
DTSTART;TZID=America/Toronto:20230619T120000
DTEND;TZID=America/Toronto:20230619T130000
DTSTAMP:20260425T063810
CREATED:20230529T132404Z
LAST-MODIFIED:20230529T132404Z
UID:16636-1687176000-1687179600@moebius.cegepmontpetit.ca
SUMMARY:Local Fermé - Dîner TTP
DESCRIPTION:
URL:https://moebius.cegepmontpetit.ca/evenement/local-ferme-diner-ttp-13/
LOCATION:D2702
CATEGORIES:Local fermé
END:VEVENT
BEGIN:VEVENT
DTSTART;TZID=America/Toronto:20230620T120000
DTEND;TZID=America/Toronto:20230620T130000
DTSTAMP:20260425T063810
CREATED:20230529T132536Z
LAST-MODIFIED:20230529T132536Z
UID:16638-1687262400-1687266000@moebius.cegepmontpetit.ca
SUMMARY:Local Fermé - Dîner TTP
DESCRIPTION:
URL:https://moebius.cegepmontpetit.ca/evenement/local-ferme-diner-ttp-14/
LOCATION:D2702
CATEGORIES:Local fermé
END:VEVENT
BEGIN:VEVENT
DTSTART;TZID=America/Toronto:20230621T083000
DTEND;TZID=America/Toronto:20230621T120000
DTSTAMP:20260425T063810
CREATED:20230615T122052Z
LAST-MODIFIED:20230615T122255Z
UID:16764-1687336200-1687348800@moebius.cegepmontpetit.ca
SUMMARY:Mises à jour de systèmes - Local fermé (sans TTP)
DESCRIPTION:
URL:https://moebius.cegepmontpetit.ca/evenement/mise-a-jour-de-systemes-local-ferme-sans-ttp/
LOCATION:D2702
CATEGORIES:Réservation de l'Espace Moebius
END:VEVENT
BEGIN:VEVENT
DTSTART;TZID=America/Toronto:20230621T120000
DTEND;TZID=America/Toronto:20230621T130000
DTSTAMP:20260425T063810
CREATED:20230529T132559Z
LAST-MODIFIED:20230529T132559Z
UID:16640-1687348800-1687352400@moebius.cegepmontpetit.ca
SUMMARY:Local Fermé - Dîner TTP
DESCRIPTION:
URL:https://moebius.cegepmontpetit.ca/evenement/local-ferme-diner-ttp-15/
LOCATION:D2702
CATEGORIES:Local fermé
END:VEVENT
BEGIN:VEVENT
DTSTART;TZID=America/Toronto:20230622T090000
DTEND;TZID=America/Toronto:20230622T120000
DTSTAMP:20260425T063810
CREATED:20230615T122441Z
LAST-MODIFIED:20230621T144953Z
UID:16768-1687424400-1687435200@moebius.cegepmontpetit.ca
SUMMARY:Réservation Espace Moebius - Rencontre audiovisuel pour Simulation RV Soins Infirmiers
DESCRIPTION:
URL:https://moebius.cegepmontpetit.ca/evenement/mode-partage-rencontre-audiovisuel-pour-simulation-rv-soins-infirmiers/
LOCATION:D2702
CATEGORIES:Local fermé,Mode exclusif
ATTACH;FMTTYPE=image/jpeg:https://moebius.cegepmontpetit.ca/wp-content/uploads/sites/166/2019/04/OculusRift.jpg
END:VEVENT
BEGIN:VEVENT
DTSTART;TZID=America/Toronto:20230622T120000
DTEND;TZID=America/Toronto:20230622T130000
DTSTAMP:20260425T063810
CREATED:20230529T132644Z
LAST-MODIFIED:20230529T132644Z
UID:16642-1687435200-1687438800@moebius.cegepmontpetit.ca
SUMMARY:Local Fermé - Dîner TTP
DESCRIPTION:
URL:https://moebius.cegepmontpetit.ca/evenement/local-ferme-diner-ttp-16/
LOCATION:D2702
CATEGORIES:Local fermé
END:VEVENT
BEGIN:VEVENT
DTSTART;TZID=America/Toronto:20230623T080000
DTEND;TZID=America/Toronto:20230623T160000
DTSTAMP:20260425T063810
CREATED:20230529T132724Z
LAST-MODIFIED:20230616T150714Z
UID:16644-1687507200-1687536000@moebius.cegepmontpetit.ca
SUMMARY:Local Fermé
DESCRIPTION:
URL:https://moebius.cegepmontpetit.ca/evenement/local-ferme-horaire-dete-3/
LOCATION:D2702
END:VEVENT
END:VCALENDAR