BEGIN:VCALENDAR
VERSION:2.0
PRODID:-//Espace Moebius - ECPv6.0.12//NONSGML v1.0//EN
CALSCALE:GREGORIAN
METHOD:PUBLISH
X-ORIGINAL-URL:https://moebius.cegepmontpetit.ca
X-WR-CALDESC:évènements pour Espace Moebius
REFRESH-INTERVAL;VALUE=DURATION:PT1H
X-Robots-Tag:noindex
X-PUBLISHED-TTL:PT1H
BEGIN:VTIMEZONE
TZID:America/Toronto
BEGIN:DAYLIGHT
TZOFFSETFROM:-0500
TZOFFSETTO:-0400
TZNAME:EDT
DTSTART:20230312T070000
END:DAYLIGHT
BEGIN:STANDARD
TZOFFSETFROM:-0400
TZOFFSETTO:-0500
TZNAME:EST
DTSTART:20231105T060000
END:STANDARD
END:VTIMEZONE
BEGIN:VEVENT
DTSTART;TZID=America/Toronto:20230707T080000
DTEND;TZID=America/Toronto:20230730T170000
DTSTAMP:20260425T062607
CREATED:20230529T130701Z
LAST-MODIFIED:20230529T130942Z
UID:16609-1688716800-1690736400@moebius.cegepmontpetit.ca
SUMMARY:Espace Moebius fermé pour la saison estivale - Aucune Impression 3D -
DESCRIPTION:Fermeture de la bibliothèque du 7 juillet au 4 août. \nEntre le 10 au 29 juillet\, il ne sera pas possible de faire des commandes d’impressions 3D. \nMerci !
URL:https://moebius.cegepmontpetit.ca/evenement/espace-moebius-ferme-pour-la-saison-estivale-aucune-impression-3d/
LOCATION:D2702
END:VEVENT
END:VCALENDAR