BEGIN:VCALENDAR
VERSION:2.0
PRODID:-//Espace Moebius - ECPv6.0.12//NONSGML v1.0//EN
CALSCALE:GREGORIAN
METHOD:PUBLISH
X-WR-CALNAME:Espace Moebius
X-ORIGINAL-URL:https://moebius.cegepmontpetit.ca
X-WR-CALDESC:évènements pour Espace Moebius
REFRESH-INTERVAL;VALUE=DURATION:PT1H
X-Robots-Tag:noindex
X-PUBLISHED-TTL:PT1H
BEGIN:VTIMEZONE
TZID:America/Toronto
BEGIN:DAYLIGHT
TZOFFSETFROM:-0500
TZOFFSETTO:-0400
TZNAME:EDT
DTSTART:20230312T070000
END:DAYLIGHT
BEGIN:STANDARD
TZOFFSETFROM:-0400
TZOFFSETTO:-0500
TZNAME:EST
DTSTART:20231105T060000
END:STANDARD
END:VTIMEZONE
BEGIN:VEVENT
DTSTART;TZID=America/Toronto:20231211T080000
DTEND;TZID=America/Toronto:20231211T110000
DTSTAMP:20260425T084606
CREATED:20231004T125956Z
LAST-MODIFIED:20231004T125956Z
UID:16986-1702281600-1702292400@moebius.cegepmontpetit.ca
SUMMARY:Réservation Espace Moebius - Cours Économie
DESCRIPTION:
URL:https://moebius.cegepmontpetit.ca/evenement/reservation-espace-moebius-cours-economie-9/
LOCATION:D2702
CATEGORIES:Besoin de portables,Classe ananas_Observation,Imprimante en fonction,Réservation - CLAAC,Téléviseur interactif 1x
ATTACH;FMTTYPE=image/png:https://moebius.cegepmontpetit.ca/wp-content/uploads/sites/166/2022/12/claac.png
END:VEVENT
BEGIN:VEVENT
DTSTART;TZID=America/Toronto:20231211T110000
DTEND;TZID=America/Toronto:20231211T120000
DTSTAMP:20260425T084606
CREATED:20231017T153329Z
LAST-MODIFIED:20231017T153329Z
UID:17001-1702292400-1702296000@moebius.cegepmontpetit.ca
SUMMARY:Placement du local pour examens
DESCRIPTION:Disposition du local en examens pour CSA.
URL:https://moebius.cegepmontpetit.ca/evenement/placement-du-local-pour-examens/
LOCATION:D2702
CATEGORIES:Mode partagé
END:VEVENT
BEGIN:VEVENT
DTSTART;TZID=America/Toronto:20231211T120000
DTEND;TZID=America/Toronto:20231211T190000
DTSTAMP:20260425T084606
CREATED:20231017T153142Z
LAST-MODIFIED:20231017T153142Z
UID:16999-1702296000-1702321200@moebius.cegepmontpetit.ca
SUMMARY:Réservation Espace Moebius - Examens CSA
DESCRIPTION:Disposition du local : Fin de session (Examens)
URL:https://moebius.cegepmontpetit.ca/evenement/reservation-espace-moebius-examens-csa-2/
LOCATION:D2702
CATEGORIES:Réservation de l'Espace Moebius
ATTACH;FMTTYPE=image/jpeg:https://moebius.cegepmontpetit.ca/wp-content/uploads/sites/166/2019/03/examen.jpg
END:VEVENT
BEGIN:VEVENT
DTSTART;TZID=America/Toronto:20231212T070000
DTEND;TZID=America/Toronto:20231212T190000
DTSTAMP:20260425T084606
CREATED:20231017T153530Z
LAST-MODIFIED:20231017T153609Z
UID:17003-1702364400-1702407600@moebius.cegepmontpetit.ca
SUMMARY:Réservation Espace Moebius - Examens CSA
DESCRIPTION:Disposition du local : Fin de session (Examens)
URL:https://moebius.cegepmontpetit.ca/evenement/reservation-espace-moebius-examens-csa-7/
LOCATION:D2702
CATEGORIES:Réservation de l'Espace Moebius
ATTACH;FMTTYPE=image/jpeg:https://moebius.cegepmontpetit.ca/wp-content/uploads/sites/166/2019/03/examen.jpg
END:VEVENT
BEGIN:VEVENT
DTSTART;TZID=America/Toronto:20231213T070000
DTEND;TZID=America/Toronto:20231213T190000
DTSTAMP:20260425T084606
CREATED:20231017T153725Z
LAST-MODIFIED:20231017T153725Z
UID:17005-1702450800-1702494000@moebius.cegepmontpetit.ca
SUMMARY:Réservation Espace Moebius - Examens CSA
DESCRIPTION:Disposition du local : Fin de session (Examens)
URL:https://moebius.cegepmontpetit.ca/evenement/reservation-espace-moebius-examens-csa-8/
LOCATION:D2702
CATEGORIES:Réservation de l'Espace Moebius
ATTACH;FMTTYPE=image/jpeg:https://moebius.cegepmontpetit.ca/wp-content/uploads/sites/166/2019/03/examen.jpg
END:VEVENT
BEGIN:VEVENT
DTSTART;TZID=America/Toronto:20231214T070000
DTEND;TZID=America/Toronto:20231214T110000
DTSTAMP:20260425T084606
CREATED:20231017T154349Z
LAST-MODIFIED:20231017T154349Z
UID:17007-1702537200-1702551600@moebius.cegepmontpetit.ca
SUMMARY:Réservation Espace Moebius - Examens CSA
DESCRIPTION:Disposition du local : Fin de session (Examens)
URL:https://moebius.cegepmontpetit.ca/evenement/reservation-espace-moebius-examens-csa-9/
LOCATION:D2702
CATEGORIES:Réservation de l'Espace Moebius
ATTACH;FMTTYPE=image/jpeg:https://moebius.cegepmontpetit.ca/wp-content/uploads/sites/166/2019/03/examen.jpg
END:VEVENT
BEGIN:VEVENT
DTSTART;TZID=America/Toronto:20231214T110000
DTEND;TZID=America/Toronto:20231214T120000
DTSTAMP:20260425T084606
CREATED:20231017T194910Z
LAST-MODIFIED:20231106T192015Z
UID:17012-1702551600-1702555200@moebius.cegepmontpetit.ca
SUMMARY:Placement local - Cours littérature
DESCRIPTION:Disposition : CLAAC-sique
URL:https://moebius.cegepmontpetit.ca/evenement/placement-local-cours-litterature/
LOCATION:D2702
END:VEVENT
BEGIN:VEVENT
DTSTART;TZID=America/Toronto:20231214T120000
DTEND;TZID=America/Toronto:20231214T140000
DTSTAMP:20260425T084606
CREATED:20230818T194623Z
LAST-MODIFIED:20230818T194623Z
UID:16910-1702555200-1702562400@moebius.cegepmontpetit.ca
SUMMARY:Réservation Espace Moebius - Cours Littérature
DESCRIPTION:
URL:https://moebius.cegepmontpetit.ca/evenement/reservation-espace-moebius-cours-litterature-7/
LOCATION:D2702
CATEGORIES:1 portable par étudiant,Besoin de portables,Imprimante en fonction,Mode exclusif,Réservation - CLAAC,Réservation de l'Espace Moebius,Téléviseur interactif 1x
ATTACH;FMTTYPE=image/png:https://moebius.cegepmontpetit.ca/wp-content/uploads/sites/166/2020/02/littérature-et-français.png
END:VEVENT
BEGIN:VEVENT
DTSTART;TZID=America/Toronto:20231214T140000
DTEND;TZID=America/Toronto:20231214T150000
DTSTAMP:20260425T084606
CREATED:20231017T194949Z
LAST-MODIFIED:20231017T195003Z
UID:17014-1702562400-1702566000@moebius.cegepmontpetit.ca
SUMMARY:Placement du local - Examens CSA
DESCRIPTION:Disposition du local : Fin de session (Examens)
URL:https://moebius.cegepmontpetit.ca/evenement/placement-du-local-examens-csa/
LOCATION:D2702
END:VEVENT
BEGIN:VEVENT
DTSTART;TZID=America/Toronto:20231214T150000
DTEND;TZID=America/Toronto:20231214T190000
DTSTAMP:20260425T084606
CREATED:20231017T194734Z
LAST-MODIFIED:20231017T194734Z
UID:17010-1702566000-1702580400@moebius.cegepmontpetit.ca
SUMMARY:Réservation Espace Moebius - Examens CSA
DESCRIPTION:Disposition du local : Fin de session (Examens)
URL:https://moebius.cegepmontpetit.ca/evenement/reservation-espace-moebius-examens-csa-10/
LOCATION:D2702
CATEGORIES:Réservation de l'Espace Moebius
ATTACH;FMTTYPE=image/jpeg:https://moebius.cegepmontpetit.ca/wp-content/uploads/sites/166/2019/03/examen.jpg
END:VEVENT
BEGIN:VEVENT
DTSTART;TZID=America/Toronto:20231215T070000
DTEND;TZID=America/Toronto:20231215T180000
DTSTAMP:20260425T084606
CREATED:20231017T195934Z
LAST-MODIFIED:20231018T124959Z
UID:17016-1702623600-1702663200@moebius.cegepmontpetit.ca
SUMMARY:Réservation Espace Moebius - Examens CSA
DESCRIPTION:Disposition du local : Fin de session (Examens)
URL:https://moebius.cegepmontpetit.ca/evenement/reservation-espace-moebius-examens-csa-11/
LOCATION:D2702
ATTACH;FMTTYPE=image/jpeg:https://moebius.cegepmontpetit.ca/wp-content/uploads/sites/166/2019/03/examen.jpg
END:VEVENT
END:VCALENDAR