BEGIN:VCALENDAR
VERSION:2.0
PRODID:-//Espace Moebius - ECPv6.0.12//NONSGML v1.0//EN
CALSCALE:GREGORIAN
METHOD:PUBLISH
X-ORIGINAL-URL:https://moebius.cegepmontpetit.ca
X-WR-CALDESC:évènements pour Espace Moebius
REFRESH-INTERVAL;VALUE=DURATION:PT1H
X-Robots-Tag:noindex
X-PUBLISHED-TTL:PT1H
BEGIN:VTIMEZONE
TZID:America/Toronto
BEGIN:DAYLIGHT
TZOFFSETFROM:-0500
TZOFFSETTO:-0400
TZNAME:EDT
DTSTART:20240310T070000
END:DAYLIGHT
BEGIN:STANDARD
TZOFFSETFROM:-0400
TZOFFSETTO:-0500
TZNAME:EST
DTSTART:20241103T060000
END:STANDARD
END:VTIMEZONE
BEGIN:VEVENT
DTSTART;TZID=America/Toronto:20240311T120000
DTEND;TZID=America/Toronto:20240311T130000
DTSTAMP:20260424T184028
CREATED:20240301T194345Z
LAST-MODIFIED:20240301T194345Z
UID:17589-1710158400-1710162000@moebius.cegepmontpetit.ca
SUMMARY:Dîner - TTP
DESCRIPTION:
URL:https://moebius.cegepmontpetit.ca/evenement/diner-ttp/
LOCATION:D2702
ATTACH;FMTTYPE=image/jpeg:https://moebius.cegepmontpetit.ca/wp-content/uploads/sites/166/2019/07/1090633-Modifier-e1562721284853.jpg
END:VEVENT
BEGIN:VEVENT
DTSTART;VALUE=DATE:20240312
DTEND;VALUE=DATE:20240314
DTSTAMP:20260424T184028
CREATED:20240228T203515Z
LAST-MODIFIED:20240228T203515Z
UID:17575-1710223200-1710309599@moebius.cegepmontpetit.ca
SUMMARY:BenQ 85 pouces (Espace Conférence) et BenQ 75 pouces (Salle discussion)
DESCRIPTION:
URL:https://moebius.cegepmontpetit.ca/evenement/benq-85-pouces-espace-conference-et-benq-75-pouces-salle-discussion/
LOCATION:D2702
END:VEVENT
BEGIN:VEVENT
DTSTART;TZID=America/Toronto:20240312T080000
DTEND;TZID=America/Toronto:20240312T140000
DTSTAMP:20260424T184028
CREATED:20240116T164151Z
LAST-MODIFIED:20240313T154309Z
UID:17257-1710230400-1710252000@moebius.cegepmontpetit.ca
SUMMARY:Réservation Espace Moebius - Journée Pédagogique CEM
DESCRIPTION:Kiosque de réalité virtuelle au D2228. \nDemande #61955
URL:https://moebius.cegepmontpetit.ca/evenement/reservation-espace-moebius-journee-pedagogique-cem/
LOCATION:D2702
CATEGORIES:Atelier - Réalité virtuelle,Imprimante en fonction,Mode exclusif
ATTACH;FMTTYPE=image/png:https://moebius.cegepmontpetit.ca/wp-content/uploads/sites/166/2022/12/claac.png
END:VEVENT
BEGIN:VEVENT
DTSTART;TZID=America/Toronto:20240313T120000
DTEND;TZID=America/Toronto:20240313T130000
DTSTAMP:20260424T184028
CREATED:20240301T200243Z
LAST-MODIFIED:20240301T200243Z
UID:17591-1710331200-1710334800@moebius.cegepmontpetit.ca
SUMMARY:Dîner - TTP
DESCRIPTION:
URL:https://moebius.cegepmontpetit.ca/evenement/diner-ttp-2/
LOCATION:D2702
ATTACH;FMTTYPE=image/jpeg:https://moebius.cegepmontpetit.ca/wp-content/uploads/sites/166/2019/07/1090635-Modifier.jpg
END:VEVENT
BEGIN:VEVENT
DTSTART;TZID=America/Toronto:20240313T133000
DTEND;TZID=America/Toronto:20240313T150000
DTSTAMP:20260424T184028
CREATED:20240305T130605Z
LAST-MODIFIED:20240305T130803Z
UID:17612-1710336600-1710342000@moebius.cegepmontpetit.ca
SUMMARY:Réservation Espace Moebius - Rencontre GIA
DESCRIPTION:
URL:https://moebius.cegepmontpetit.ca/evenement/reservation-espace-moebius-rencontre-gia/
LOCATION:D2702
CATEGORIES:Réservation - CLAAC,Téléviseur interactif 1x
ATTACH;FMTTYPE=image/jpeg:https://moebius.cegepmontpetit.ca/wp-content/uploads/sites/166/2022/06/PXL_20220208_150128587.MP_-scaled.jpg
END:VEVENT
BEGIN:VEVENT
DTSTART;TZID=America/Toronto:20240313T153000
DTEND;TZID=America/Toronto:20240313T160000
DTSTAMP:20260424T184028
CREATED:20240313T154342Z
LAST-MODIFIED:20240313T154342Z
UID:17625-1710343800-1710345600@moebius.cegepmontpetit.ca
SUMMARY:Local Fermé
DESCRIPTION:
URL:https://moebius.cegepmontpetit.ca/evenement/local-ferme-157/
LOCATION:D2702
ATTACH;FMTTYPE=image/jpeg:https://moebius.cegepmontpetit.ca/wp-content/uploads/sites/166/2019/07/1090639.jpg
END:VEVENT
BEGIN:VEVENT
DTSTART;TZID=America/Toronto:20240314T080000
DTEND;TZID=America/Toronto:20240314T160000
DTSTAMP:20260424T184028
CREATED:20240301T200319Z
LAST-MODIFIED:20240313T145950Z
UID:17593-1710403200-1710432000@moebius.cegepmontpetit.ca
SUMMARY:Local Fermé - TTP à l'ÉNA
DESCRIPTION:
URL:https://moebius.cegepmontpetit.ca/evenement/diner-ttp-3/
LOCATION:D2702
ATTACH;FMTTYPE=image/jpeg:https://moebius.cegepmontpetit.ca/wp-content/uploads/sites/166/2019/07/1090633-Modifier-e1562721284853.jpg
END:VEVENT
BEGIN:VEVENT
DTSTART;TZID=America/Toronto:20240315T100000
DTEND;TZID=America/Toronto:20240315T110000
DTSTAMP:20260424T184028
CREATED:20240228T182814Z
LAST-MODIFIED:20240228T182829Z
UID:17569-1710496800-1710500400@moebius.cegepmontpetit.ca
SUMMARY:Réservation Médialab - Test simulation RV Soins Infirmiers
DESCRIPTION:
URL:https://moebius.cegepmontpetit.ca/evenement/reservation-medialab-test-de-controle-rv-soins-infirmiers/
LOCATION:D2702
ATTACH;FMTTYPE=image/jpeg:https://moebius.cegepmontpetit.ca/wp-content/uploads/sites/166/2019/04/OculusRift.jpg
END:VEVENT
BEGIN:VEVENT
DTSTART;TZID=America/Toronto:20240315T120000
DTEND;TZID=America/Toronto:20240315T130000
DTSTAMP:20260424T184028
CREATED:20240301T200531Z
LAST-MODIFIED:20240301T200531Z
UID:17595-1710504000-1710507600@moebius.cegepmontpetit.ca
SUMMARY:Dîner - TTP
DESCRIPTION:
URL:https://moebius.cegepmontpetit.ca/evenement/diner-ttp-4/
LOCATION:D2702
ATTACH;FMTTYPE=image/jpeg:https://moebius.cegepmontpetit.ca/wp-content/uploads/sites/166/2019/07/1090639.jpg
END:VEVENT
END:VCALENDAR