BEGIN:VCALENDAR
VERSION:2.0
PRODID:-//Espace Moebius - ECPv6.0.12//NONSGML v1.0//EN
CALSCALE:GREGORIAN
METHOD:PUBLISH
X-ORIGINAL-URL:https://moebius.cegepmontpetit.ca
X-WR-CALDESC:évènements pour Espace Moebius
REFRESH-INTERVAL;VALUE=DURATION:PT1H
X-Robots-Tag:noindex
X-PUBLISHED-TTL:PT1H
BEGIN:VTIMEZONE
TZID:America/Toronto
BEGIN:DAYLIGHT
TZOFFSETFROM:-0500
TZOFFSETTO:-0400
TZNAME:EDT
DTSTART:20240310T070000
END:DAYLIGHT
BEGIN:STANDARD
TZOFFSETFROM:-0400
TZOFFSETTO:-0500
TZNAME:EST
DTSTART:20241103T060000
END:STANDARD
END:VTIMEZONE
BEGIN:VEVENT
DTSTART;TZID=America/Toronto:20240325T080000
DTEND;TZID=America/Toronto:20240325T090000
DTSTAMP:20260424T184028
CREATED:20240315T155719Z
LAST-MODIFIED:20240318T125034Z
UID:17648-1711353600-1711357200@moebius.cegepmontpetit.ca
SUMMARY:Placement local : Installation des postes RV
DESCRIPTION:Disposition : ONU \nEnsemble bimodale \nPour la réalité virtuelle : \n3 casques Rift avec postes fixes \n4 casques Quest 2 Mobiles \n1 Casque Quest 3 Mobile
URL:https://moebius.cegepmontpetit.ca/evenement/placement-local-installation-des-postes-rv/
LOCATION:D2702
ATTACH;FMTTYPE=image/jpeg:https://moebius.cegepmontpetit.ca/wp-content/uploads/sites/166/2024/02/Quest_3_1_Choix-scaled.jpg
END:VEVENT
BEGIN:VEVENT
DTSTART;TZID=America/Toronto:20240325T080000
DTEND;TZID=America/Toronto:20240403T170000
DTSTAMP:20260424T184028
CREATED:20240314T131844Z
LAST-MODIFIED:20240314T131844Z
UID:17629-1711353600-1712163600@moebius.cegepmontpetit.ca
SUMMARY:Prêt BenQ 86 pouces - Espace Conférence
DESCRIPTION:
URL:https://moebius.cegepmontpetit.ca/evenement/pret-benq-86-pouces-espace-conference/
LOCATION:D2702
ATTACH;FMTTYPE=image/jpeg:https://moebius.cegepmontpetit.ca/wp-content/uploads/sites/166/2022/06/PXL_20220208_150128587.MP_-scaled.jpg
END:VEVENT
BEGIN:VEVENT
DTSTART;TZID=America/Toronto:20240325T090000
DTEND;TZID=America/Toronto:20240325T120000
DTSTAMP:20260424T184028
CREATED:20240115T183222Z
LAST-MODIFIED:20240315T155549Z
UID:17125-1711357200-1711368000@moebius.cegepmontpetit.ca
SUMMARY:Réservation Espace Moebius - RV Simulation TEE
DESCRIPTION:Réalité virtuelle avec la Simulation #1 de TEE. \nUtilisation des casques Rift (3 postes fixes) des Quest 2 et du Quest 3. \nDemande #61926
URL:https://moebius.cegepmontpetit.ca/evenement/reservation-espace-moebius-rv-simulation-tee/
LOCATION:D2702
CATEGORIES:1 portable par étudiant,Atelier - Réalité virtuelle,Besoin de portables,Imprimante en fonction,Mode exclusif,Réservation - CLAAC,Réservation - Médialab,Téléviseur interactif 1x
ATTACH;FMTTYPE=image/jpeg:https://moebius.cegepmontpetit.ca/wp-content/uploads/sites/166/2023/05/Quest_2_07-scaled.jpg
END:VEVENT
BEGIN:VEVENT
DTSTART;TZID=America/Toronto:20240325T120000
DTEND;TZID=America/Toronto:20240325T160000
DTSTAMP:20260424T184028
CREATED:20240116T130204Z
LAST-MODIFIED:20240318T125508Z
UID:17173-1711368000-1711382400@moebius.cegepmontpetit.ca
SUMMARY:Printemps de la Culture
DESCRIPTION:Disposition du local : ONU \nEnsemble Bimodale (Visioconférence) \n40 participants \nDemande #61916
URL:https://moebius.cegepmontpetit.ca/evenement/printemps-de-la-culture/
LOCATION:D2702
CATEGORIES:Événement spécial,Imprimante en fonction,Mode exclusif,Réservation - CLAAC,Téléviseur interactif 1x
ATTACH;FMTTYPE=image/png:https://moebius.cegepmontpetit.ca/wp-content/uploads/sites/166/2022/12/claac.png
END:VEVENT
BEGIN:VEVENT
DTSTART;TZID=America/Toronto:20240326T080000
DTEND;TZID=America/Toronto:20240326T160000
DTSTAMP:20260424T184028
CREATED:20240116T130338Z
LAST-MODIFIED:20240315T155920Z
UID:17175-1711440000-1711468800@moebius.cegepmontpetit.ca
SUMMARY:Printemps de la Culture
DESCRIPTION:Placement du local pour l’activité du 27 mars. \nDemande #61916
URL:https://moebius.cegepmontpetit.ca/evenement/printemps-de-la-culture-2/
LOCATION:D2702
CATEGORIES:Événement spécial,Imprimante en fonction,Mode exclusif,Réservation - CLAAC,Téléviseur interactif 1x
ATTACH;FMTTYPE=image/png:https://moebius.cegepmontpetit.ca/wp-content/uploads/sites/166/2022/12/claac.png
END:VEVENT
BEGIN:VEVENT
DTSTART;TZID=America/Toronto:20240327T080000
DTEND;TZID=America/Toronto:20240327T090000
DTSTAMP:20260424T184028
CREATED:20240315T155756Z
LAST-MODIFIED:20240315T155756Z
UID:17650-1711526400-1711530000@moebius.cegepmontpetit.ca
SUMMARY:Placement local : Installation des postes RV
DESCRIPTION:
URL:https://moebius.cegepmontpetit.ca/evenement/placement-local-installation-des-postes-rv-2/
LOCATION:D2702
ATTACH;FMTTYPE=image/jpeg:https://moebius.cegepmontpetit.ca/wp-content/uploads/sites/166/2024/02/Quest_3_1_Choix-scaled.jpg
END:VEVENT
BEGIN:VEVENT
DTSTART;TZID=America/Toronto:20240327T090000
DTEND;TZID=America/Toronto:20240327T120000
DTSTAMP:20260424T184028
CREATED:20240115T183845Z
LAST-MODIFIED:20240315T155608Z
UID:17127-1711530000-1711540800@moebius.cegepmontpetit.ca
SUMMARY:Réservation Espace Moebius - RV Simulation TEE
DESCRIPTION:Réalité virtuelle avec la Simulation #1 de TEE. \nUtilisation des casques Rift (3 postes fixes) des Quest 2 et du Quest 3. \nDemande #61926
URL:https://moebius.cegepmontpetit.ca/evenement/reservation-espace-moebius-rv-simulation-tee-2/
LOCATION:D2702
CATEGORIES:1 portable par étudiant,Atelier - Réalité virtuelle,Besoin de portables,Mode exclusif,Réservation - CLAAC,Réservation - Médialab,Téléviseur interactif 1x
ATTACH;FMTTYPE=image/jpeg:https://moebius.cegepmontpetit.ca/wp-content/uploads/sites/166/2023/05/Quest_2_07-scaled.jpg
END:VEVENT
BEGIN:VEVENT
DTSTART;TZID=America/Toronto:20240327T120000
DTEND;TZID=America/Toronto:20240327T160000
DTSTAMP:20260424T184028
CREATED:20240116T130516Z
LAST-MODIFIED:20240315T155935Z
UID:17177-1711540800-1711555200@moebius.cegepmontpetit.ca
SUMMARY:Printemps de la Culture
DESCRIPTION:Disposition du local : 5 équipes de 4 : 4 dans l’Espace CLAAC et 1 dans l’espace discussion avec les divans et les petites tables blanches. \nAucune projection \nPersonnes présentes pour animer la rencontre : 1 animateur et 3 participants. \nDemande #61916
URL:https://moebius.cegepmontpetit.ca/evenement/printemps-de-la-culture-3/
LOCATION:D2702
CATEGORIES:Événement spécial,Imprimante en fonction,Réservation - CLAAC,Téléviseur interactif 1x
ATTACH;FMTTYPE=image/png:https://moebius.cegepmontpetit.ca/wp-content/uploads/sites/166/2024/01/Moebius_27-mars_12h-14h.png
END:VEVENT
BEGIN:VEVENT
DTSTART;TZID=America/Toronto:20240328T080000
DTEND;TZID=America/Toronto:20240328T090000
DTSTAMP:20260424T184028
CREATED:20240315T155815Z
LAST-MODIFIED:20240315T155815Z
UID:17652-1711612800-1711616400@moebius.cegepmontpetit.ca
SUMMARY:Placement local : Installation des postes RV
DESCRIPTION:
URL:https://moebius.cegepmontpetit.ca/evenement/placement-local-installation-des-postes-rv-3/
LOCATION:D2702
END:VEVENT
BEGIN:VEVENT
DTSTART;TZID=America/Toronto:20240328T090000
DTEND;TZID=America/Toronto:20240328T120000
DTSTAMP:20260424T184028
CREATED:20240115T184026Z
LAST-MODIFIED:20240315T155634Z
UID:17129-1711616400-1711627200@moebius.cegepmontpetit.ca
SUMMARY:Réservation Espace Moebius - RV Simulation TEE
DESCRIPTION:Réalité virtuelle avec la Simulation #1 de TEE. \nUtilisation des casques Rift (3 postes fixes) des Quest 2 et du Quest 3. \nDemande #61926
URL:https://moebius.cegepmontpetit.ca/evenement/reservation-espace-moebius-rv-simulation-tee-3/
LOCATION:D2702
CATEGORIES:1 portable par étudiant,Atelier - Réalité virtuelle,Besoin de portables,Imprimante en fonction,Mode exclusif,Réservation - CLAAC,Réservation - Médialab,Téléviseur interactif 1x
ATTACH;FMTTYPE=image/jpeg:https://moebius.cegepmontpetit.ca/wp-content/uploads/sites/166/2023/05/Quest_2_07-scaled.jpg
END:VEVENT
BEGIN:VEVENT
DTSTART;TZID=America/Toronto:20240328T120000
DTEND;TZID=America/Toronto:20240328T160000
DTSTAMP:20260424T184028
CREATED:20240116T130708Z
LAST-MODIFIED:20240315T155949Z
UID:17179-1711627200-1711641600@moebius.cegepmontpetit.ca
SUMMARY:Printemps de la Culture
DESCRIPTION:Disposition du local et besoins à venir \nDemande #61916
URL:https://moebius.cegepmontpetit.ca/evenement/printemps-de-la-culture-4/
LOCATION:D2702
CATEGORIES:Événement spécial,Imprimante en fonction,Mode exclusif,Réservation - CLAAC,Téléviseur interactif 1x
ATTACH;FMTTYPE=image/png:https://moebius.cegepmontpetit.ca/wp-content/uploads/sites/166/2022/12/claac.png
END:VEVENT
BEGIN:VEVENT
DTSTART;TZID=America/Toronto:20240329T080000
DTEND;TZID=America/Toronto:20240329T160000
DTSTAMP:20260424T184028
CREATED:20240116T130836Z
LAST-MODIFIED:20240201T142119Z
UID:17181-1711699200-1711728000@moebius.cegepmontpetit.ca
SUMMARY:Férié - Vendredi Saint
DESCRIPTION:Local Fermé
URL:https://moebius.cegepmontpetit.ca/evenement/printemps-de-la-culture-5/
LOCATION:D2702
CATEGORIES:Local fermé
ATTACH;FMTTYPE=image/jpeg:https://moebius.cegepmontpetit.ca/wp-content/uploads/sites/166/2019/07/1090635-Modifier.jpg
END:VEVENT
END:VCALENDAR