BEGIN:VCALENDAR
VERSION:2.0
PRODID:-//Espace Moebius - ECPv6.0.12//NONSGML v1.0//EN
CALSCALE:GREGORIAN
METHOD:PUBLISH
X-ORIGINAL-URL:https://moebius.cegepmontpetit.ca
X-WR-CALDESC:évènements pour Espace Moebius
REFRESH-INTERVAL;VALUE=DURATION:PT1H
X-Robots-Tag:noindex
X-PUBLISHED-TTL:PT1H
BEGIN:VTIMEZONE
TZID:America/Toronto
BEGIN:DAYLIGHT
TZOFFSETFROM:-0500
TZOFFSETTO:-0400
TZNAME:EDT
DTSTART:20240310T070000
END:DAYLIGHT
BEGIN:STANDARD
TZOFFSETFROM:-0400
TZOFFSETTO:-0500
TZNAME:EST
DTSTART:20241103T060000
END:STANDARD
END:VTIMEZONE
BEGIN:VEVENT
DTSTART;TZID=America/Toronto:20240520T090000
DTEND;TZID=America/Toronto:20240520T120000
DTSTAMP:20260424T113923
CREATED:20240321T135808Z
LAST-MODIFIED:20240517T192744Z
UID:17755-1716195600-1716206400@moebius.cegepmontpetit.ca
SUMMARY:Local Fermé - Rencontre TTP
DESCRIPTION:
URL:https://moebius.cegepmontpetit.ca/evenement/reservation-espace-moebius-examens-csa-20/
LOCATION:D2702
ATTACH;FMTTYPE=image/jpeg:https://moebius.cegepmontpetit.ca/wp-content/uploads/sites/166/2019/07/1090639.jpg
END:VEVENT
BEGIN:VEVENT
DTSTART;TZID=America/Toronto:20240521T073000
DTEND;TZID=America/Toronto:20240521T190000
DTSTAMP:20260424T113923
CREATED:20240321T140646Z
LAST-MODIFIED:20240321T140646Z
UID:17757-1716276600-1716318000@moebius.cegepmontpetit.ca
SUMMARY:Réservation Espace Moebius - Examens CSA
DESCRIPTION:Disposition du local : Fin de session \nDemande #65219
URL:https://moebius.cegepmontpetit.ca/evenement/reservation-espace-moebius-examens-csa-21/
LOCATION:D2702
ATTACH;FMTTYPE=image/jpeg:https://moebius.cegepmontpetit.ca/wp-content/uploads/sites/166/2019/06/Moébius-ordinateur-HP-13-06-2019-1-e1568646589397.jpg
END:VEVENT
BEGIN:VEVENT
DTSTART;TZID=America/Toronto:20240522T080000
DTEND;TZID=America/Toronto:20240522T090000
DTSTAMP:20260424T113923
CREATED:20240503T134813Z
LAST-MODIFIED:20240515T194915Z
UID:17896-1716364800-1716368400@moebius.cegepmontpetit.ca
SUMMARY:Placement Local : Assemblée modifiée et coin discussion
DESCRIPTION:Demande #61959
URL:https://moebius.cegepmontpetit.ca/evenement/placement-local-assemblee-modifiee-et-coin-discussion/
LOCATION:D2702
CATEGORIES:Imprimante en fonction,Mode exclusif
ATTACH;FMTTYPE=image/jpeg:https://moebius.cegepmontpetit.ca/wp-content/uploads/sites/166/2024/05/Plan-pour-la-disposition-du-local-cours-stage.jpg
END:VEVENT
BEGIN:VEVENT
DTSTART;TZID=America/Toronto:20240522T090000
DTEND;TZID=America/Toronto:20240522T110000
DTSTAMP:20260424T113923
CREATED:20240116T191130Z
LAST-MODIFIED:20240515T194938Z
UID:17279-1716368400-1716375600@moebius.cegepmontpetit.ca
SUMMARY:Réservation Espace Moebius - Cours THD
DESCRIPTION:Disposition du local : Assemblée Modifiée\nSe référez à l’image du placement du local. \nDemande #61959
URL:https://moebius.cegepmontpetit.ca/evenement/reservation-espace-moebius-cours-thd-30/
LOCATION:D2702
CATEGORIES:Imprimante en fonction,Mode exclusif,Réservation - CLAAC,Téléviseur interactif 1x
ATTACH;FMTTYPE=image/jpeg:https://moebius.cegepmontpetit.ca/wp-content/uploads/sites/166/2019/03/dental-hygiene-600x375.jpg
END:VEVENT
BEGIN:VEVENT
DTSTART;TZID=America/Toronto:20240522T110000
DTEND;TZID=America/Toronto:20240522T120000
DTSTAMP:20260424T113923
CREATED:20240404T142812Z
LAST-MODIFIED:20240404T142812Z
UID:17794-1716375600-1716379200@moebius.cegepmontpetit.ca
SUMMARY:Placement du local : Fin de sessions (Examens)
DESCRIPTION:
URL:https://moebius.cegepmontpetit.ca/evenement/placement-du-local-fin-de-sessions-examens/
LOCATION:D2702
END:VEVENT
BEGIN:VEVENT
DTSTART;TZID=America/Toronto:20240522T120000
DTEND;TZID=America/Toronto:20240522T190000
DTSTAMP:20260424T113923
CREATED:20240321T141538Z
LAST-MODIFIED:20240321T141547Z
UID:17759-1716379200-1716404400@moebius.cegepmontpetit.ca
SUMMARY:Réservation Espace Moebius - Examens CSA
DESCRIPTION:Disposition du local : Fin de session \nDemande #65219
URL:https://moebius.cegepmontpetit.ca/evenement/reservation-espace-moebius-examens-csa-22/
LOCATION:D2702
CATEGORIES:Réservation de l'Espace Moebius
ATTACH;FMTTYPE=image/jpeg:https://moebius.cegepmontpetit.ca/wp-content/uploads/sites/166/2019/06/Moébius-ordinateur-HP-13-06-2019-1-e1568646589397.jpg
END:VEVENT
BEGIN:VEVENT
DTSTART;TZID=America/Toronto:20240523T080000
DTEND;TZID=America/Toronto:20240523T081000
DTSTAMP:20260424T113923
CREATED:20240503T134527Z
LAST-MODIFIED:20240503T135059Z
UID:17891-1716451200-1716451800@moebius.cegepmontpetit.ca
SUMMARY:Placement Local : Assemblée modifiée et coin discussion
DESCRIPTION:Demande #61959
URL:https://moebius.cegepmontpetit.ca/evenement/placement-local-assemblee-modifiee/
LOCATION:D2702
CATEGORIES:Imprimante en fonction,Mode exclusif
ATTACH;FMTTYPE=image/jpeg:https://moebius.cegepmontpetit.ca/wp-content/uploads/sites/166/2024/05/Plan-pour-la-disposition-du-local-cours-stage.jpg
END:VEVENT
END:VCALENDAR