BEGIN:VCALENDAR
VERSION:2.0
PRODID:-//Espace Moebius - ECPv6.0.12//NONSGML v1.0//EN
CALSCALE:GREGORIAN
METHOD:PUBLISH
X-ORIGINAL-URL:https://moebius.cegepmontpetit.ca
X-WR-CALDESC:évènements pour Espace Moebius
REFRESH-INTERVAL;VALUE=DURATION:PT1H
X-Robots-Tag:noindex
X-PUBLISHED-TTL:PT1H
BEGIN:VTIMEZONE
TZID:America/Toronto
BEGIN:DAYLIGHT
TZOFFSETFROM:-0500
TZOFFSETTO:-0400
TZNAME:EDT
DTSTART:20240310T070000
END:DAYLIGHT
BEGIN:STANDARD
TZOFFSETFROM:-0400
TZOFFSETTO:-0500
TZNAME:EST
DTSTART:20241103T060000
END:STANDARD
END:VTIMEZONE
BEGIN:VEVENT
DTSTART;TZID=America/Toronto:20240527T120000
DTEND;TZID=America/Toronto:20240527T130000
DTSTAMP:20260424T102701
CREATED:20240523T192256Z
LAST-MODIFIED:20240523T192256Z
UID:18221-1716811200-1716814800@moebius.cegepmontpetit.ca
SUMMARY:Dîner - Local Fermé
DESCRIPTION:
URL:https://moebius.cegepmontpetit.ca/evenement/diner-local-ferme-17/
LOCATION:D2702
ATTACH;FMTTYPE=image/jpeg:https://moebius.cegepmontpetit.ca/wp-content/uploads/sites/166/2019/07/1090639.jpg
END:VEVENT
BEGIN:VEVENT
DTSTART;TZID=America/Toronto:20240527T153000
DTEND;TZID=America/Toronto:20240527T160000
DTSTAMP:20260424T102701
CREATED:20240524T154128Z
LAST-MODIFIED:20240524T154128Z
UID:18287-1716823800-1716825600@moebius.cegepmontpetit.ca
SUMMARY:Placement Local : ONU modifiée
DESCRIPTION:Un aménagement en « U » pour regarder un écran\, pour 22 personnes\n2 tables alignées pour y déposer café et déjeuner
URL:https://moebius.cegepmontpetit.ca/evenement/placement-local-onu-modifiee/
LOCATION:D2702
ATTACH;FMTTYPE=image/png:https://moebius.cegepmontpetit.ca/wp-content/uploads/sites/166/2024/05/ONU-Modifiee.png
END:VEVENT
BEGIN:VEVENT
DTSTART;VALUE=DATE:20240528
DTEND;VALUE=DATE:20240530
DTSTAMP:20260424T102701
CREATED:20240516T124525Z
LAST-MODIFIED:20240524T143924Z
UID:18060-1716876000-1716962399@moebius.cegepmontpetit.ca
SUMMARY:Prêt BenQ 75 Pouces + Tableau blanc – Espace conférence
DESCRIPTION:
URL:https://moebius.cegepmontpetit.ca/evenement/pret-benq-75-pouces-espace-conference-4/
LOCATION:D2702
ATTACH;FMTTYPE=image/jpeg:https://moebius.cegepmontpetit.ca/wp-content/uploads/sites/166/2022/06/PXL_20220208_150128587.MP_-scaled.jpg
END:VEVENT
BEGIN:VEVENT
DTSTART;TZID=America/Toronto:20240528T080000
DTEND;TZID=America/Toronto:20240528T170000
DTSTAMP:20260424T102701
CREATED:20240523T195953Z
LAST-MODIFIED:20240524T154057Z
UID:18285-1716883200-1716915600@moebius.cegepmontpetit.ca
SUMMARY:Réservation Espace Moebius - Rencontre Direction
DESCRIPTION:Demande # 67585 \nDisposition du local :\nUn aménagement en « U » pour regarder un écran\, pour 22 personnes\n2 tables alignées pour y déposer café et déjeuner
URL:https://moebius.cegepmontpetit.ca/evenement/reservation-espace-moebius-rencontre-direction/
LOCATION:D2702
ATTACH;FMTTYPE=image/png:https://moebius.cegepmontpetit.ca/wp-content/uploads/sites/166/2024/05/ONU-Modifiee.png
END:VEVENT
BEGIN:VEVENT
DTSTART;TZID=America/Toronto:20240529T120000
DTEND;TZID=America/Toronto:20240529T130000
DTSTAMP:20260424T102701
CREATED:20240523T192429Z
LAST-MODIFIED:20240523T192429Z
UID:18225-1716984000-1716987600@moebius.cegepmontpetit.ca
SUMMARY:Dîner - Local Fermé
DESCRIPTION:
URL:https://moebius.cegepmontpetit.ca/evenement/diner-local-ferme-19/
LOCATION:D2702
ATTACH;FMTTYPE=image/jpeg:https://moebius.cegepmontpetit.ca/wp-content/uploads/sites/166/2019/07/1090639.jpg
END:VEVENT
BEGIN:VEVENT
DTSTART;TZID=America/Toronto:20240530T080000
DTEND;TZID=America/Toronto:20240530T083000
DTSTAMP:20260424T102701
CREATED:20240517T142953Z
LAST-MODIFIED:20240517T142953Z
UID:18105-1717056000-1717057800@moebius.cegepmontpetit.ca
SUMMARY:Placement Local : La Mini Expo
DESCRIPTION:
URL:https://moebius.cegepmontpetit.ca/evenement/placement-local-la-mini-expo/
LOCATION:D2702
ATTACH;FMTTYPE=image/png:https://moebius.cegepmontpetit.ca/wp-content/uploads/sites/166/2024/05/LaMini_Expo.png
END:VEVENT
BEGIN:VEVENT
DTSTART;TZID=America/Toronto:20240530T083000
DTEND;TZID=America/Toronto:20240530T113000
DTSTAMP:20260424T102701
CREATED:20240517T142758Z
LAST-MODIFIED:20240517T142758Z
UID:18102-1717057800-1717068600@moebius.cegepmontpetit.ca
SUMMARY:Réservation Espace Moebius - Rencontre CÉ
DESCRIPTION:Besoin d’un portable pour la projection.\nDemande #67385
URL:https://moebius.cegepmontpetit.ca/evenement/reservation-espace-moebius-rencontre-ce/
LOCATION:D2702
CATEGORIES:Besoin de portables,Mode exclusif,Réservation - CLAAC,Téléviseur interactif 1x
ATTACH;FMTTYPE=image/png:https://moebius.cegepmontpetit.ca/wp-content/uploads/sites/166/2024/05/LaMini_Expo.png
END:VEVENT
BEGIN:VEVENT
DTSTART;TZID=America/Toronto:20240530T120000
DTEND;TZID=America/Toronto:20240530T130000
DTSTAMP:20260424T102701
CREATED:20240523T192455Z
LAST-MODIFIED:20240523T192455Z
UID:18227-1717070400-1717074000@moebius.cegepmontpetit.ca
SUMMARY:Dîner - Local Fermé
DESCRIPTION:
URL:https://moebius.cegepmontpetit.ca/evenement/diner-local-ferme-20/
LOCATION:D2702
ATTACH;FMTTYPE=image/jpeg:https://moebius.cegepmontpetit.ca/wp-content/uploads/sites/166/2019/07/1090639.jpg
END:VEVENT
BEGIN:VEVENT
DTSTART;TZID=America/Toronto:20240530T130000
DTEND;TZID=America/Toronto:20240530T140000
DTSTAMP:20260424T102701
CREATED:20240529T191109Z
LAST-MODIFIED:20240529T192107Z
UID:18353-1717074000-1717077600@moebius.cegepmontpetit.ca
SUMMARY:Placement du local : 10-4 modifié
DESCRIPTION:Demande #66128\nDisposition 10-4 modifiée et les 48 chaises.  \nInstallation des deux téléviseurs et les relier en HDM + le projecteur interactif de la CLAAC. \n* Mettre chariot de portable à côté de la BENQ 86 pouces pour l’utiliser comme  »lutrin ». \nVerres de couleur deux ensembles (vert\,jaune\,rouge) par équipe.
URL:https://moebius.cegepmontpetit.ca/evenement/placement-du-local-10-4-modifie/
LOCATION:D2702
CATEGORIES:Réservation - CLAAC,Téléviseur interactif 2x
ATTACH;FMTTYPE=image/png:https://moebius.cegepmontpetit.ca/wp-content/uploads/sites/166/2024/05/image.png
END:VEVENT
BEGIN:VEVENT
DTSTART;TZID=America/Toronto:20240531T120000
DTEND;TZID=America/Toronto:20240531T130000
DTSTAMP:20260424T102701
CREATED:20240523T192525Z
LAST-MODIFIED:20240523T192525Z
UID:18229-1717156800-1717160400@moebius.cegepmontpetit.ca
SUMMARY:Dîner - Local Fermé
DESCRIPTION:
URL:https://moebius.cegepmontpetit.ca/evenement/diner-local-ferme-21/
LOCATION:D2702
ATTACH;FMTTYPE=image/jpeg:https://moebius.cegepmontpetit.ca/wp-content/uploads/sites/166/2019/07/1090639.jpg
END:VEVENT
END:VCALENDAR