BEGIN:VCALENDAR
VERSION:2.0
PRODID:-//Espace Moebius - ECPv6.0.12//NONSGML v1.0//EN
CALSCALE:GREGORIAN
METHOD:PUBLISH
X-ORIGINAL-URL:https://moebius.cegepmontpetit.ca
X-WR-CALDESC:évènements pour Espace Moebius
REFRESH-INTERVAL;VALUE=DURATION:PT1H
X-Robots-Tag:noindex
X-PUBLISHED-TTL:PT1H
BEGIN:VTIMEZONE
TZID:America/Toronto
BEGIN:DAYLIGHT
TZOFFSETFROM:-0500
TZOFFSETTO:-0400
TZNAME:EDT
DTSTART:20240310T070000
END:DAYLIGHT
BEGIN:STANDARD
TZOFFSETFROM:-0400
TZOFFSETTO:-0500
TZNAME:EST
DTSTART:20241103T060000
END:STANDARD
END:VTIMEZONE
BEGIN:VEVENT
DTSTART;TZID=America/Toronto:20240617T090000
DTEND;TZID=America/Toronto:20240617T120000
DTSTAMP:20260424T113925
CREATED:20240529T154123Z
LAST-MODIFIED:20240529T154242Z
UID:18341-1718614800-1718625600@moebius.cegepmontpetit.ca
SUMMARY:Réservation Espace Moebius – Rencontre Disti
DESCRIPTION:#67733 \nPortables: une dizaine
URL:https://moebius.cegepmontpetit.ca/evenement/reservation-espace-moebius-rencontre-disti-6/
LOCATION:D2702
CATEGORIES:Besoin de portables,Imprimante en fonction,Mode exclusif,Téléviseur interactif 1x
ATTACH;FMTTYPE=image/jpeg:https://moebius.cegepmontpetit.ca/wp-content/uploads/sites/166/2019/03/P1090429.jpg
END:VEVENT
BEGIN:VEVENT
DTSTART;TZID=America/Toronto:20240617T120000
DTEND;TZID=America/Toronto:20240617T130000
DTSTAMP:20260424T113925
CREATED:20240523T193444Z
LAST-MODIFIED:20240523T193444Z
UID:18248-1718625600-1718629200@moebius.cegepmontpetit.ca
SUMMARY:Dîner - Local Fermé
DESCRIPTION:
URL:https://moebius.cegepmontpetit.ca/evenement/diner-local-ferme-29/
LOCATION:D2702
ATTACH;FMTTYPE=image/jpeg:https://moebius.cegepmontpetit.ca/wp-content/uploads/sites/166/2019/07/1090633-Modifier-e1562721284853.jpg
END:VEVENT
BEGIN:VEVENT
DTSTART;TZID=America/Toronto:20240618T090000
DTEND;TZID=America/Toronto:20240618T120000
DTSTAMP:20260424T113925
CREATED:20240529T154337Z
LAST-MODIFIED:20240529T154337Z
UID:18343-1718701200-1718712000@moebius.cegepmontpetit.ca
SUMMARY:Réservation Espace Moebius – Rencontre Disti
DESCRIPTION:#67733 \nPortables: une dizaine
URL:https://moebius.cegepmontpetit.ca/evenement/reservation-espace-moebius-rencontre-disti-7/
LOCATION:D2702
CATEGORIES:Besoin de portables,Imprimante en fonction,Mode exclusif,Téléviseur interactif 1x
ATTACH;FMTTYPE=image/jpeg:https://moebius.cegepmontpetit.ca/wp-content/uploads/sites/166/2019/03/P1090429.jpg
END:VEVENT
BEGIN:VEVENT
DTSTART;TZID=America/Toronto:20240618T120000
DTEND;TZID=America/Toronto:20240618T130000
DTSTAMP:20260424T113925
CREATED:20240523T193517Z
LAST-MODIFIED:20240523T193517Z
UID:18250-1718712000-1718715600@moebius.cegepmontpetit.ca
SUMMARY:Dîner - Local Fermé
DESCRIPTION:
URL:https://moebius.cegepmontpetit.ca/evenement/diner-local-ferme-30/
LOCATION:D2702
ATTACH;FMTTYPE=image/jpeg:https://moebius.cegepmontpetit.ca/wp-content/uploads/sites/166/2019/07/1090633-Modifier-e1562721284853.jpg
END:VEVENT
BEGIN:VEVENT
DTSTART;TZID=America/Toronto:20240619T100000
DTEND;TZID=America/Toronto:20240619T110000
DTSTAMP:20260424T113925
CREATED:20240612T194715Z
LAST-MODIFIED:20240612T194715Z
UID:18451-1718791200-1718794800@moebius.cegepmontpetit.ca
SUMMARY:Médialab : Présentation Simulations Soins Infirmiers
DESCRIPTION:Besoins des simulations RV 510-MPOC\, 510-TCC\, 610 Post-OP et 21B-FX-Tibia.\nBesoins des 3 postes Rift + 1 Poste mobile\nDemande #68215
URL:https://moebius.cegepmontpetit.ca/evenement/medialab-presentation-simulations-soins-infirmiers/
LOCATION:D2702
CATEGORIES:Atelier - Réalité virtuelle,Imprimante en fonction,Mode partagé,Réservation - Médialab
ATTACH;FMTTYPE=image/jpeg:https://moebius.cegepmontpetit.ca/wp-content/uploads/sites/166/2019/04/P1090458.jpg
END:VEVENT
BEGIN:VEVENT
DTSTART;TZID=America/Toronto:20240619T120000
DTEND;TZID=America/Toronto:20240619T130000
DTSTAMP:20260424T113925
CREATED:20240523T193554Z
LAST-MODIFIED:20240523T193554Z
UID:18252-1718798400-1718802000@moebius.cegepmontpetit.ca
SUMMARY:Dîner - Local Fermé
DESCRIPTION:
URL:https://moebius.cegepmontpetit.ca/evenement/diner-local-ferme-31/
LOCATION:D2702
ATTACH;FMTTYPE=image/jpeg:https://moebius.cegepmontpetit.ca/wp-content/uploads/sites/166/2019/07/1090639.jpg
END:VEVENT
BEGIN:VEVENT
DTSTART;TZID=America/Toronto:20240620T103000
DTEND;TZID=America/Toronto:20240620T113000
DTSTAMP:20260424T113925
CREATED:20240614T143147Z
LAST-MODIFIED:20240614T143147Z
UID:18455-1718879400-1718883000@moebius.cegepmontpetit.ca
SUMMARY:Placement local: Réunion modifié
DESCRIPTION:#68255 \nDisposition: En rond\, style réunion\, pour 25 personnes
URL:https://moebius.cegepmontpetit.ca/evenement/placement-local-reunion-modifie/
LOCATION:D2702
ATTACH;FMTTYPE=image/png:https://moebius.cegepmontpetit.ca/wp-content/uploads/sites/166/2024/05/02_La_Re-U-nion.png
END:VEVENT
BEGIN:VEVENT
DTSTART;TZID=America/Toronto:20240620T113000
DTEND;TZID=America/Toronto:20240620T140000
DTSTAMP:20260424T113925
CREATED:20240614T143010Z
LAST-MODIFIED:20240614T143010Z
UID:18453-1718883000-1718892000@moebius.cegepmontpetit.ca
SUMMARY:Réservation Espace Moebius - Rencontre administratif
DESCRIPTION:#68255 \nDisposition: En rond\, style réunion\, pour 25 personnes
URL:https://moebius.cegepmontpetit.ca/evenement/reservation-espace-moebius-rencontre-administratif/
LOCATION:D2702
CATEGORIES:Mode exclusif
ATTACH;FMTTYPE=image/png:https://moebius.cegepmontpetit.ca/wp-content/uploads/sites/166/2024/05/02_La_Re-U-nion.png
END:VEVENT
BEGIN:VEVENT
DTSTART;TZID=America/Toronto:20240620T120000
DTEND;TZID=America/Toronto:20240620T130000
DTSTAMP:20260424T113925
CREATED:20240523T193625Z
LAST-MODIFIED:20240523T193625Z
UID:18254-1718884800-1718888400@moebius.cegepmontpetit.ca
SUMMARY:Dîner - Local Fermé
DESCRIPTION:
URL:https://moebius.cegepmontpetit.ca/evenement/diner-local-ferme-32/
LOCATION:D2702
ATTACH;FMTTYPE=image/jpeg:https://moebius.cegepmontpetit.ca/wp-content/uploads/sites/166/2019/07/1090633-Modifier-e1562721284853.jpg
END:VEVENT
BEGIN:VEVENT
DTSTART;TZID=America/Toronto:20240621T090000
DTEND;TZID=America/Toronto:20240621T120000
DTSTAMP:20260424T113925
CREATED:20240529T154504Z
LAST-MODIFIED:20240529T154504Z
UID:18345-1718960400-1718971200@moebius.cegepmontpetit.ca
SUMMARY:Réservation Espace Moebius – Rencontre Disti
DESCRIPTION:#67733 \nPortables: une dizaine
URL:https://moebius.cegepmontpetit.ca/evenement/reservation-espace-moebius-rencontre-disti-8/
LOCATION:D2702
CATEGORIES:Besoin de portables,Imprimante en fonction,Mode exclusif,Téléviseur interactif 1x
ATTACH;FMTTYPE=image/jpeg:https://moebius.cegepmontpetit.ca/wp-content/uploads/sites/166/2019/03/P1090429.jpg
END:VEVENT
BEGIN:VEVENT
DTSTART;TZID=America/Toronto:20240621T113000
DTEND;TZID=America/Toronto:20240621T160000
DTSTAMP:20260424T113925
CREATED:20240523T193711Z
LAST-MODIFIED:20240523T193711Z
UID:18256-1718969400-1718985600@moebius.cegepmontpetit.ca
SUMMARY:Dîner et Horaire d'été - Local Fermé
DESCRIPTION:
URL:https://moebius.cegepmontpetit.ca/evenement/diner-et-horaire-dete-local-ferme-2/
LOCATION:D2702
ATTACH;FMTTYPE=image/jpeg:https://moebius.cegepmontpetit.ca/wp-content/uploads/sites/166/2019/07/1090639.jpg
END:VEVENT
END:VCALENDAR