BEGIN:VCALENDAR
VERSION:2.0
PRODID:-//Espace Moebius - ECPv6.0.12//NONSGML v1.0//EN
CALSCALE:GREGORIAN
METHOD:PUBLISH
X-ORIGINAL-URL:https://moebius.cegepmontpetit.ca
X-WR-CALDESC:évènements pour Espace Moebius
REFRESH-INTERVAL;VALUE=DURATION:PT1H
X-Robots-Tag:noindex
X-PUBLISHED-TTL:PT1H
BEGIN:VTIMEZONE
TZID:America/Toronto
BEGIN:DAYLIGHT
TZOFFSETFROM:-0500
TZOFFSETTO:-0400
TZNAME:EDT
DTSTART:20240310T070000
END:DAYLIGHT
BEGIN:STANDARD
TZOFFSETFROM:-0400
TZOFFSETTO:-0500
TZNAME:EST
DTSTART:20241103T060000
END:STANDARD
END:VTIMEZONE
BEGIN:VEVENT
DTSTART;TZID=America/Toronto:20240624T080000
DTEND;TZID=America/Toronto:20240624T160000
DTSTAMP:20260424T113924
CREATED:20240523T193910Z
LAST-MODIFIED:20240523T193910Z
UID:18259-1719216000-1719244800@moebius.cegepmontpetit.ca
SUMMARY:Férié - Fête nationale du Québec
DESCRIPTION:
URL:https://moebius.cegepmontpetit.ca/evenement/ferie-fete-nationale-du-quebec-3/
LOCATION:D2702
ATTACH;FMTTYPE=image/jpeg:https://moebius.cegepmontpetit.ca/wp-content/uploads/sites/166/2019/07/1090639.jpg
END:VEVENT
BEGIN:VEVENT
DTSTART;TZID=America/Toronto:20240625T120000
DTEND;TZID=America/Toronto:20240625T130000
DTSTAMP:20260424T113924
CREATED:20240523T193833Z
LAST-MODIFIED:20240523T193833Z
UID:18237-1719316800-1719320400@moebius.cegepmontpetit.ca
SUMMARY:Dîner - Local Fermé
DESCRIPTION:
URL:https://moebius.cegepmontpetit.ca/evenement/diner-local-ferme-33/
LOCATION:D2702
ATTACH;FMTTYPE=image/jpeg:https://moebius.cegepmontpetit.ca/wp-content/uploads/sites/166/2019/07/1090633-Modifier-e1562721284853.jpg
END:VEVENT
BEGIN:VEVENT
DTSTART;TZID=America/Toronto:20240626T090000
DTEND;TZID=America/Toronto:20240626T120000
DTSTAMP:20260424T113924
CREATED:20240529T154631Z
LAST-MODIFIED:20240529T154631Z
UID:18347-1719392400-1719403200@moebius.cegepmontpetit.ca
SUMMARY:Réservation Espace Moebius – Rencontre Disti
DESCRIPTION:#67733 \nPortables: une dizaine
URL:https://moebius.cegepmontpetit.ca/evenement/reservation-espace-moebius-rencontre-disti-9/
LOCATION:D2702
CATEGORIES:Besoin de portables,Imprimante en fonction,Mode exclusif,Téléviseur interactif 1x
ATTACH;FMTTYPE=image/jpeg:https://moebius.cegepmontpetit.ca/wp-content/uploads/sites/166/2019/03/P1090429.jpg
END:VEVENT
BEGIN:VEVENT
DTSTART;TZID=America/Toronto:20240626T120000
DTEND;TZID=America/Toronto:20240626T130000
DTSTAMP:20260424T113924
CREATED:20240523T194307Z
LAST-MODIFIED:20240523T194307Z
UID:18261-1719403200-1719406800@moebius.cegepmontpetit.ca
SUMMARY:Dîner - Local Fermé
DESCRIPTION:
URL:https://moebius.cegepmontpetit.ca/evenement/diner-local-ferme-34/
LOCATION:D2702
ATTACH;FMTTYPE=image/jpeg:https://moebius.cegepmontpetit.ca/wp-content/uploads/sites/166/2019/07/1090639.jpg
END:VEVENT
BEGIN:VEVENT
DTSTART;TZID=America/Toronto:20240627T090000
DTEND;TZID=America/Toronto:20240627T120000
DTSTAMP:20260424T113924
CREATED:20240529T154729Z
LAST-MODIFIED:20240529T154729Z
UID:18349-1719478800-1719489600@moebius.cegepmontpetit.ca
SUMMARY:Réservation Espace Moebius – Rencontre Disti
DESCRIPTION:#67733 \nPortables: une dizaine
URL:https://moebius.cegepmontpetit.ca/evenement/reservation-espace-moebius-rencontre-disti-10/
LOCATION:D2702
CATEGORIES:Besoin de portables,Imprimante en fonction,Mode exclusif,Téléviseur interactif 1x
ATTACH;FMTTYPE=image/jpeg:https://moebius.cegepmontpetit.ca/wp-content/uploads/sites/166/2019/03/P1090429.jpg
END:VEVENT
BEGIN:VEVENT
DTSTART;TZID=America/Toronto:20240627T120000
DTEND;TZID=America/Toronto:20240627T130000
DTSTAMP:20260424T113924
CREATED:20240523T194347Z
LAST-MODIFIED:20240523T194347Z
UID:18263-1719489600-1719493200@moebius.cegepmontpetit.ca
SUMMARY:Dîner - Local Fermé
DESCRIPTION:
URL:https://moebius.cegepmontpetit.ca/evenement/diner-local-ferme-35/
LOCATION:D2702
ATTACH;FMTTYPE=image/jpeg:https://moebius.cegepmontpetit.ca/wp-content/uploads/sites/166/2019/07/1090633-Modifier-e1562721284853.jpg
END:VEVENT
BEGIN:VEVENT
DTSTART;TZID=America/Toronto:20240628T113000
DTEND;TZID=America/Toronto:20240628T160000
DTSTAMP:20260424T113924
CREATED:20240523T194424Z
LAST-MODIFIED:20240523T194424Z
UID:18265-1719574200-1719590400@moebius.cegepmontpetit.ca
SUMMARY:Dîner et Horaire d'été - Local Fermé
DESCRIPTION:
URL:https://moebius.cegepmontpetit.ca/evenement/diner-et-horaire-dete-local-ferme-3/
LOCATION:D2702
ATTACH;FMTTYPE=image/jpeg:https://moebius.cegepmontpetit.ca/wp-content/uploads/sites/166/2019/07/1090639.jpg
END:VEVENT
END:VCALENDAR