BEGIN:VCALENDAR
VERSION:2.0
PRODID:-//Espace Moebius - ECPv6.0.12//NONSGML v1.0//EN
CALSCALE:GREGORIAN
METHOD:PUBLISH
X-ORIGINAL-URL:https://moebius.cegepmontpetit.ca
X-WR-CALDESC:évènements pour Espace Moebius
REFRESH-INTERVAL;VALUE=DURATION:PT1H
X-Robots-Tag:noindex
X-PUBLISHED-TTL:PT1H
BEGIN:VTIMEZONE
TZID:America/Toronto
BEGIN:DAYLIGHT
TZOFFSETFROM:-0500
TZOFFSETTO:-0400
TZNAME:EDT
DTSTART:20240310T070000
END:DAYLIGHT
BEGIN:STANDARD
TZOFFSETFROM:-0400
TZOFFSETTO:-0500
TZNAME:EST
DTSTART:20241103T060000
END:STANDARD
END:VTIMEZONE
BEGIN:VEVENT
DTSTART;TZID=America/Toronto:20240708T120000
DTEND;TZID=America/Toronto:20240708T130000
DTSTAMP:20260424T102657
CREATED:20240523T195230Z
LAST-MODIFIED:20240523T195230Z
UID:18277-1720440000-1720443600@moebius.cegepmontpetit.ca
SUMMARY:Dîner - Local Fermé
DESCRIPTION:
URL:https://moebius.cegepmontpetit.ca/evenement/diner-local-ferme-39/
LOCATION:D2702
ATTACH;FMTTYPE=image/jpeg:https://moebius.cegepmontpetit.ca/wp-content/uploads/sites/166/2019/07/1090635-Modifier.jpg
END:VEVENT
BEGIN:VEVENT
DTSTART;TZID=America/Toronto:20240709T080000
DTEND;TZID=America/Toronto:20240709T120000
DTSTAMP:20260424T102657
CREATED:20240626T190855Z
LAST-MODIFIED:20240626T190925Z
UID:18484-1720512000-1720526400@moebius.cegepmontpetit.ca
SUMMARY:Local Fermé
DESCRIPTION:
URL:https://moebius.cegepmontpetit.ca/evenement/local-ferme-159/
LOCATION:D2702
ATTACH;FMTTYPE=image/jpeg:https://moebius.cegepmontpetit.ca/wp-content/uploads/sites/166/2019/02/claac-moebius.jpg
END:VEVENT
BEGIN:VEVENT
DTSTART;TZID=America/Toronto:20240709T120000
DTEND;TZID=America/Toronto:20240709T130000
DTSTAMP:20260424T102657
CREATED:20240523T195317Z
LAST-MODIFIED:20240523T195317Z
UID:18279-1720526400-1720530000@moebius.cegepmontpetit.ca
SUMMARY:Dîner - Local Fermé
DESCRIPTION:
URL:https://moebius.cegepmontpetit.ca/evenement/diner-local-ferme-40/
LOCATION:D2702
ATTACH;FMTTYPE=image/jpeg:https://moebius.cegepmontpetit.ca/wp-content/uploads/sites/166/2019/07/1090635-Modifier.jpg
END:VEVENT
BEGIN:VEVENT
DTSTART;TZID=America/Toronto:20240710T120000
DTEND;TZID=America/Toronto:20240710T130000
DTSTAMP:20260424T102657
CREATED:20240523T195345Z
LAST-MODIFIED:20240523T195345Z
UID:18281-1720612800-1720616400@moebius.cegepmontpetit.ca
SUMMARY:Dîner - Local Fermé
DESCRIPTION:
URL:https://moebius.cegepmontpetit.ca/evenement/diner-local-ferme-41/
LOCATION:D2702
ATTACH;FMTTYPE=image/jpeg:https://moebius.cegepmontpetit.ca/wp-content/uploads/sites/166/2019/07/1090635-Modifier.jpg
END:VEVENT
BEGIN:VEVENT
DTSTART;TZID=America/Toronto:20240711T120000
DTEND;TZID=America/Toronto:20240711T130000
DTSTAMP:20260424T102657
CREATED:20240523T195414Z
LAST-MODIFIED:20240523T195414Z
UID:18283-1720699200-1720702800@moebius.cegepmontpetit.ca
SUMMARY:Dîner - Local Fermé
DESCRIPTION:
URL:https://moebius.cegepmontpetit.ca/evenement/diner-local-ferme-42/
LOCATION:D2702
ATTACH;FMTTYPE=image/jpeg:https://moebius.cegepmontpetit.ca/wp-content/uploads/sites/166/2019/07/1090635-Modifier.jpg
END:VEVENT
BEGIN:VEVENT
DTSTART;VALUE=DATE:20240712
DTEND;VALUE=DATE:20240811
DTSTAMP:20260424T102657
CREATED:20240522T134537Z
LAST-MODIFIED:20240522T134537Z
UID:18135-1720764000-1723269599@moebius.cegepmontpetit.ca
SUMMARY:Bibliothèque fermée - Impression 3D en fonction -
DESCRIPTION:
URL:https://moebius.cegepmontpetit.ca/evenement/bibliotheque-fermee-impression-3d-en-fonction/
LOCATION:D2702
ATTACH;FMTTYPE=image/jpeg:https://moebius.cegepmontpetit.ca/wp-content/uploads/sites/166/2019/10/panoramaEspaceMedialab.jpg
END:VEVENT
END:VCALENDAR