BEGIN:VCALENDAR
VERSION:2.0
PRODID:-//Espace Moebius - ECPv6.0.12//NONSGML v1.0//EN
CALSCALE:GREGORIAN
METHOD:PUBLISH
X-ORIGINAL-URL:https://moebius.cegepmontpetit.ca
X-WR-CALDESC:évènements pour Espace Moebius
REFRESH-INTERVAL;VALUE=DURATION:PT1H
X-Robots-Tag:noindex
X-PUBLISHED-TTL:PT1H
BEGIN:VTIMEZONE
TZID:America/Toronto
BEGIN:DAYLIGHT
TZOFFSETFROM:-0500
TZOFFSETTO:-0400
TZNAME:EDT
DTSTART:20240310T070000
END:DAYLIGHT
BEGIN:STANDARD
TZOFFSETFROM:-0400
TZOFFSETTO:-0500
TZNAME:EST
DTSTART:20241103T060000
END:STANDARD
END:VTIMEZONE
BEGIN:VEVENT
DTSTART;TZID=America/Toronto:20241014T080000
DTEND;TZID=America/Toronto:20241014T170000
DTSTAMP:20260424T102433
CREATED:20240522T141354Z
LAST-MODIFIED:20240522T141354Z
UID:18141-1728892800-1728925200@moebius.cegepmontpetit.ca
SUMMARY:Férié - Action de grâces
DESCRIPTION:
URL:https://moebius.cegepmontpetit.ca/evenement/ferie-action-de-graces/
LOCATION:D2702
ATTACH;FMTTYPE=image/jpeg:https://moebius.cegepmontpetit.ca/wp-content/uploads/sites/166/2019/07/1090635-Modifier.jpg
END:VEVENT
BEGIN:VEVENT
DTSTART;VALUE=DATE:20241015
DTEND;VALUE=DATE:20241017
DTSTAMP:20260424T102433
CREATED:20240522T170626Z
LAST-MODIFIED:20240522T170626Z
UID:18153-1728972000-1729058399@moebius.cegepmontpetit.ca
SUMMARY:Journée pédagogique (JP)
DESCRIPTION:
URL:https://moebius.cegepmontpetit.ca/evenement/journee-pedagogique-jp-2/
LOCATION:D2702
END:VEVENT
BEGIN:VEVENT
DTSTART;TZID=America/Toronto:20241015T080000
DTEND;TZID=America/Toronto:20241015T160000
DTSTAMP:20260424T102433
CREATED:20240923T135246Z
LAST-MODIFIED:20240923T135246Z
UID:19323-1728979200-1729008000@moebius.cegepmontpetit.ca
SUMMARY:Réservation - Formation CPN
DESCRIPTION:#71690 \n2 Téléviseurs
URL:https://moebius.cegepmontpetit.ca/evenement/reservation-formation-cpn/
LOCATION:D2702
CATEGORIES:Réservation - CLAAC,Téléviseur interactif 1x
ATTACH;FMTTYPE=image/jpeg:https://moebius.cegepmontpetit.ca/wp-content/uploads/sites/166/2019/10/panoramaEspaceMedialab.jpg
END:VEVENT
BEGIN:VEVENT
DTSTART;VALUE=DATE:20241016
DTEND;VALUE=DATE:20241019
DTSTAMP:20260424T102433
CREATED:20240522T170709Z
LAST-MODIFIED:20240522T170709Z
UID:18156-1729058400-1729231199@moebius.cegepmontpetit.ca
SUMMARY:Journée de mise à jour (JM)
DESCRIPTION:
URL:https://moebius.cegepmontpetit.ca/evenement/journee-de-mise-a-jour-jm-3/
LOCATION:D2702
END:VEVENT
BEGIN:VEVENT
DTSTART;TZID=America/Toronto:20241016T083000
DTEND;TZID=America/Toronto:20241016T120000
DTSTAMP:20260424T102433
CREATED:20240927T124638Z
LAST-MODIFIED:20240927T124638Z
UID:19383-1729067400-1729080000@moebius.cegepmontpetit.ca
SUMMARY:Réservation - Formation enseignants
DESCRIPTION:#71956 \n– Téléviseur interactif : 2\n– Projecteur interactif : 1
URL:https://moebius.cegepmontpetit.ca/evenement/reservation-formation-enseignants/
LOCATION:D2702
CATEGORIES:Mode exclusif,Réservation - CLAAC,Téléviseur interactif 2x
ATTACH;FMTTYPE=image/jpeg:https://moebius.cegepmontpetit.ca/wp-content/uploads/sites/166/2019/10/panoramaEspaceMedialab.jpg
END:VEVENT
BEGIN:VEVENT
DTSTART;TZID=America/Toronto:20241017T080000
DTEND;TZID=America/Toronto:20241017T083000
DTSTAMP:20260424T102433
CREATED:20240906T121614Z
LAST-MODIFIED:20240906T145812Z
UID:19185-1729152000-1729153800@moebius.cegepmontpetit.ca
SUMMARY:Placement Local: Expo modifié
DESCRIPTION:#70027\nAvoir la clé de la porte sécurisé\n1 laptop
URL:https://moebius.cegepmontpetit.ca/evenement/placement-local-a-definir/
LOCATION:D2702
ATTACH;FMTTYPE=image/png:https://moebius.cegepmontpetit.ca/wp-content/uploads/sites/166/2024/06/Expo_modifie.png
END:VEVENT
BEGIN:VEVENT
DTSTART;TZID=America/Toronto:20241017T083000
DTEND;TZID=America/Toronto:20241017T103000
DTSTAMP:20260424T102433
CREATED:20240827T123917Z
LAST-MODIFIED:20240906T145859Z
UID:19079-1729153800-1729161000@moebius.cegepmontpetit.ca
SUMMARY:Réservation - Cours Français
DESCRIPTION:#70027 \nDispostion du local: Expo modifié \nAvoir clé de la porte sécurité\n1 laptop
URL:https://moebius.cegepmontpetit.ca/evenement/reservation-cours-francais-4/
LOCATION:D2702
END:VEVENT
BEGIN:VEVENT
DTSTART;VALUE=DATE:20241018
DTEND;VALUE=DATE:20241020
DTSTAMP:20260424T102433
CREATED:20240522T170738Z
LAST-MODIFIED:20240522T170738Z
UID:18159-1729231200-1729317599@moebius.cegepmontpetit.ca
SUMMARY:Journée d'encadrement (JE)
DESCRIPTION:
URL:https://moebius.cegepmontpetit.ca/evenement/journee-dencadrement-je-3/
LOCATION:D2702
END:VEVENT
BEGIN:VEVENT
DTSTART;TZID=America/Toronto:20241018T123000
DTEND;TZID=America/Toronto:20241018T130000
DTSTAMP:20260424T102433
CREATED:20240904T143150Z
LAST-MODIFIED:20240904T143150Z
UID:19168-1729254600-1729256400@moebius.cegepmontpetit.ca
SUMMARY:Placement Local: 6 postes RV
DESCRIPTION:3 Rift + 3 Quest avec laptop \nVérifier les liens des musées dans les ordinateurs
URL:https://moebius.cegepmontpetit.ca/evenement/placement-local-6-postes-rv-2/
LOCATION:D2702
END:VEVENT
BEGIN:VEVENT
DTSTART;TZID=America/Toronto:20241018T130000
DTEND;TZID=America/Toronto:20241018T150000
DTSTAMP:20260424T102433
CREATED:20240904T143038Z
LAST-MODIFIED:20240904T143038Z
UID:19166-1729256400-1729263600@moebius.cegepmontpetit.ca
SUMMARY:Réservation – RV Musée
DESCRIPTION:#70354 \nIls peuvent choisir leur musée \nJuste les étudiants\npar groupe de 5-6
URL:https://moebius.cegepmontpetit.ca/evenement/reservation-rv-musee-2/
LOCATION:D2702
CATEGORIES:Atelier - Réalité virtuelle,Imprimante en fonction,Mode exclusif
ATTACH;FMTTYPE=image/jpeg:https://moebius.cegepmontpetit.ca/wp-content/uploads/sites/166/2019/04/P1090458.jpg
END:VEVENT
END:VCALENDAR