BEGIN:VCALENDAR
VERSION:2.0
PRODID:-//Espace Moebius - ECPv6.0.12//NONSGML v1.0//EN
CALSCALE:GREGORIAN
METHOD:PUBLISH
X-WR-CALNAME:Espace Moebius
X-ORIGINAL-URL:https://moebius.cegepmontpetit.ca
X-WR-CALDESC:évènements pour Espace Moebius
REFRESH-INTERVAL;VALUE=DURATION:PT1H
X-Robots-Tag:noindex
X-PUBLISHED-TTL:PT1H
BEGIN:VTIMEZONE
TZID:America/Toronto
BEGIN:DAYLIGHT
TZOFFSETFROM:-0500
TZOFFSETTO:-0400
TZNAME:EDT
DTSTART:20240310T070000
END:DAYLIGHT
BEGIN:STANDARD
TZOFFSETFROM:-0400
TZOFFSETTO:-0500
TZNAME:EST
DTSTART:20241103T060000
END:STANDARD
END:VTIMEZONE
BEGIN:VEVENT
DTSTART;TZID=America/Toronto:20241028T093000
DTEND;TZID=America/Toronto:20241028T100000
DTSTAMP:20260424T102643
CREATED:20240923T121302Z
LAST-MODIFIED:20240923T121302Z
UID:19319-1730107800-1730109600@moebius.cegepmontpetit.ca
SUMMARY:Placement Local: L'Onu
DESCRIPTION:#71674
URL:https://moebius.cegepmontpetit.ca/evenement/placement-local-lonu/
LOCATION:D2702
ATTACH;FMTTYPE=image/png:https://moebius.cegepmontpetit.ca/wp-content/uploads/sites/166/2024/05/08_LONU.png
END:VEVENT
BEGIN:VEVENT
DTSTART;TZID=America/Toronto:20241028T100000
DTEND;TZID=America/Toronto:20241028T113000
DTSTAMP:20260424T102643
CREATED:20240923T120718Z
LAST-MODIFIED:20240923T120829Z
UID:19315-1730109600-1730115000@moebius.cegepmontpetit.ca
SUMMARY:Réservation - Cours Anglais
DESCRIPTION:#71674 \nDisposition: L’ONU \nBesoin portable: 32
URL:https://moebius.cegepmontpetit.ca/evenement/reservation-cours-anglais/
LOCATION:D2702
CATEGORIES:Besoin de portables,Mode exclusif,Réservation - CLAAC,Téléviseur interactif 1x
ATTACH;FMTTYPE=image/png:https://moebius.cegepmontpetit.ca/wp-content/uploads/sites/166/2024/05/08_LONU.png
END:VEVENT
BEGIN:VEVENT
DTSTART;TZID=America/Toronto:20241028T120000
DTEND;TZID=America/Toronto:20241028T180000
DTSTAMP:20260424T102643
CREATED:20240829T123452Z
LAST-MODIFIED:20241025T120535Z
UID:19113-1730116800-1730138400@moebius.cegepmontpetit.ca
SUMMARY:Réservation – RV Radiodiagnostic
DESCRIPTION:Besoin des 3 station Quest + 2 Rift Backup \n2 Groupe: 1.12h-15h 2.15-18h \nCasque Rift: 3 + 3 chaise rouge \nSondage à préparer \nDemande #69757
URL:https://moebius.cegepmontpetit.ca/evenement/reservation-rv-radiodiagnostic-3/
LOCATION:D2702
CATEGORIES:Atelier - Réalité virtuelle,Imprimante en fonction,Réservation - CLAAC,Téléviseur interactif 1x
ATTACH;FMTTYPE=image/jpeg:https://moebius.cegepmontpetit.ca/wp-content/uploads/sites/166/2024/02/Quest_3_1_Choix-scaled.jpg
END:VEVENT
BEGIN:VEVENT
DTSTART;TZID=America/Toronto:20241029T080000
DTEND;TZID=America/Toronto:20241029T110000
DTSTAMP:20260424T102643
CREATED:20240822T172146Z
LAST-MODIFIED:20241025T120606Z
UID:18999-1730188800-1730199600@moebius.cegepmontpetit.ca
SUMMARY:Réservation - RV Radiodiagnostic
DESCRIPTION:Besoin des 3 station Quest + 2 Rift Backup \nSondage à préparer \nDemande #69757
URL:https://moebius.cegepmontpetit.ca/evenement/reservation-rv-radiodiagnostic-2/
LOCATION:D2702
CATEGORIES:Atelier - Réalité virtuelle,Imprimante en fonction,Réservation - CLAAC,Téléviseur interactif 1x
ATTACH;FMTTYPE=image/jpeg:https://moebius.cegepmontpetit.ca/wp-content/uploads/sites/166/2024/02/Quest_3_1_Choix-scaled.jpg
END:VEVENT
BEGIN:VEVENT
DTSTART;TZID=America/Toronto:20241029T130000
DTEND;TZID=America/Toronto:20241029T153000
DTSTAMP:20260424T102643
CREATED:20241021T122109Z
LAST-MODIFIED:20241023T165056Z
UID:19466-1730206800-1730215800@moebius.cegepmontpetit.ca
SUMMARY:Réservation - RV Démonstration simulations
DESCRIPTION:#72802 \nCasque: 3 Rift + 1 Quest 3\nsimulations de RV Cégep de St-Jean-sur-Richelieu. \n510-MPOC
URL:https://moebius.cegepmontpetit.ca/evenement/reservation-rv-demonstration-simulations/
LOCATION:D2702
CATEGORIES:Atelier - Réalité virtuelle,Imprimante en fonction,Mode exclusif
ATTACH;FMTTYPE=image/jpeg:https://moebius.cegepmontpetit.ca/wp-content/uploads/sites/166/2019/03/P1090476.jpg
END:VEVENT
BEGIN:VEVENT
DTSTART;TZID=America/Toronto:20241029T153000
DTEND;TZID=America/Toronto:20241029T160000
DTSTAMP:20260424T102643
CREATED:20240816T140427Z
LAST-MODIFIED:20240816T140558Z
UID:18814-1730215800-1730217600@moebius.cegepmontpetit.ca
SUMMARY:Placement Local : 6 équipes (îlots) de 5
DESCRIPTION:Disposition : 6 équipes (îlots) de 5 avec grands tableaux blancs mobiles et les petits tableaux blancs\nAccessoires : Verres de couleur pour chaque îlot.
URL:https://moebius.cegepmontpetit.ca/evenement/placement-local-6-equipes-ilots-de-5-2/
LOCATION:D2702
ATTACH;FMTTYPE=image/png:https://moebius.cegepmontpetit.ca/wp-content/uploads/sites/166/2024/08/PLacement_Melanie_THD.png
END:VEVENT
BEGIN:VEVENT
DTSTART;TZID=America/Toronto:20241029T160000
DTEND;TZID=America/Toronto:20241029T180000
DTSTAMP:20260424T102643
CREATED:20240816T134600Z
LAST-MODIFIED:20240816T134600Z
UID:18800-1730217600-1730224800@moebius.cegepmontpetit.ca
SUMMARY:Réservation - Cours THD
DESCRIPTION:Disposition : 6 équipes (îlots) de 5 avec  grands tableaux blancs mobiles et les petits tableaux blancs\nAccessoires : Verres de couleur pour chaque îlot.\nDemande #69322
URL:https://moebius.cegepmontpetit.ca/evenement/reservation-cours-thd-12/
LOCATION:D2702
CATEGORIES:Mode exclusif,Réservation - CLAAC,Téléviseur interactif 1x
ATTACH;FMTTYPE=image/jpeg:https://moebius.cegepmontpetit.ca/wp-content/uploads/sites/166/2019/03/dental-hygiene-600x375.jpg
END:VEVENT
BEGIN:VEVENT
DTSTART;TZID=America/Toronto:20241030T133000
DTEND;TZID=America/Toronto:20241030T140000
DTSTAMP:20260424T102643
CREATED:20240826T173455Z
LAST-MODIFIED:20240826T173455Z
UID:19075-1730295000-1730296800@moebius.cegepmontpetit.ca
SUMMARY:Placement Local: Disposition particulière
DESCRIPTION:
URL:https://moebius.cegepmontpetit.ca/evenement/placement-local-disposition-particuliere-9/
LOCATION:D2702
ATTACH;FMTTYPE=image/png:https://moebius.cegepmontpetit.ca/wp-content/uploads/sites/166/2024/08/Placement_30_oct_69736.png
END:VEVENT
BEGIN:VEVENT
DTSTART;TZID=America/Toronto:20241030T140000
DTEND;TZID=America/Toronto:20241030T160000
DTSTAMP:20260424T102643
CREATED:20240816T131044Z
LAST-MODIFIED:20240826T173518Z
UID:18783-1730296800-1730304000@moebius.cegepmontpetit.ca
SUMMARY:Réservation - Cours THD
DESCRIPTION:#69319 \nDisposition: Regarde la disposition \nBouton sonores\, verres de couleur et cartes aimantées
URL:https://moebius.cegepmontpetit.ca/evenement/reservation-cours-thd-6/
LOCATION:D2702
CATEGORIES:Imprimante en fonction,Mode exclusif,Téléviseur interactif 1x
ATTACH;FMTTYPE=image/jpeg:https://moebius.cegepmontpetit.ca/wp-content/uploads/sites/166/2019/10/panorama-espace-CLAAC.jpg
END:VEVENT
BEGIN:VEVENT
DTSTART;TZID=America/Toronto:20241031T123000
DTEND;TZID=America/Toronto:20241031T160000
DTSTAMP:20260424T102643
CREATED:20240820T195716Z
LAST-MODIFIED:20240820T195716Z
UID:18932-1730377800-1730390400@moebius.cegepmontpetit.ca
SUMMARY:Réservation - RV Soins Infirmiers
DESCRIPTION:Simulation 309\nDemande # 69332
URL:https://moebius.cegepmontpetit.ca/evenement/reservation-rv-soins-infirmiers-36/
LOCATION:D2702
CATEGORIES:Atelier - Réalité virtuelle,Imprimante en fonction,Mode exclusif,Réservation - CLAAC,Téléviseur interactif 1x
ATTACH;FMTTYPE=image/jpeg:https://moebius.cegepmontpetit.ca/wp-content/uploads/sites/166/2019/04/P1090458.jpg
END:VEVENT
BEGIN:VEVENT
DTSTART;TZID=America/Toronto:20241101T084500
DTEND;TZID=America/Toronto:20241101T100000
DTSTAMP:20260424T102643
CREATED:20241002T122958Z
LAST-MODIFIED:20241025T131028Z
UID:19409-1730450700-1730455200@moebius.cegepmontpetit.ca
SUMMARY:Réservation - Formation étudiantes
DESCRIPTION:#72156 \nDisposition: Classique mais moins 2 table de 4 \nLaptop: 8
URL:https://moebius.cegepmontpetit.ca/evenement/reservation-formation-etudiantes/
LOCATION:D2702
CATEGORIES:Besoin de portables,Imprimante en fonction,Mode partagé,Réservation - CLAAC,Téléviseur interactif 1x
ATTACH;FMTTYPE=image/png:https://moebius.cegepmontpetit.ca/wp-content/uploads/sites/166/2024/10/Disposition_Genevieve_Dion_1nov8h45-10h.png
END:VEVENT
BEGIN:VEVENT
DTSTART;TZID=America/Toronto:20241101T103000
DTEND;TZID=America/Toronto:20241101T110000
DTSTAMP:20260424T102643
CREATED:20240916T133347Z
LAST-MODIFIED:20240920T143225Z
UID:19263-1730457000-1730458800@moebius.cegepmontpetit.ca
SUMMARY:Placement local: Disposition personnelle
DESCRIPTION:1 IPAD + 1 TREPIED
URL:https://moebius.cegepmontpetit.ca/evenement/placement-local-disposition-personnelle-5/
LOCATION:D2702
ATTACH;FMTTYPE=image/png:https://moebius.cegepmontpetit.ca/wp-content/uploads/sites/166/2024/09/Dispostion_1nov.png
END:VEVENT
BEGIN:VEVENT
DTSTART;TZID=America/Toronto:20241101T110000
DTEND;TZID=America/Toronto:20241101T133000
DTSTAMP:20260424T102643
CREATED:20240916T133304Z
LAST-MODIFIED:20240920T143309Z
UID:19261-1730458800-1730467800@moebius.cegepmontpetit.ca
SUMMARY:Réservation - Cours THD
DESCRIPTION:#71319 \nDisposition: Regarder placement\n1 IPAD + 1 TRPIED\nLaptop: 21
URL:https://moebius.cegepmontpetit.ca/evenement/reservation-cours-thd-22/
LOCATION:D2702
CATEGORIES:Besoin de portables,Imprimante en fonction,Mode exclusif,Réservation - CLAAC,Téléviseur interactif 1x
ATTACH;FMTTYPE=image/jpeg:https://moebius.cegepmontpetit.ca/wp-content/uploads/sites/166/2019/10/panoramaEspaceMedialab.jpg
END:VEVENT
END:VCALENDAR