BEGIN:VCALENDAR
VERSION:2.0
PRODID:-//Espace Moebius - ECPv6.0.12//NONSGML v1.0//EN
CALSCALE:GREGORIAN
METHOD:PUBLISH
X-WR-CALNAME:Espace Moebius
X-ORIGINAL-URL:https://moebius.cegepmontpetit.ca
X-WR-CALDESC:évènements pour Espace Moebius
REFRESH-INTERVAL;VALUE=DURATION:PT1H
X-Robots-Tag:noindex
X-PUBLISHED-TTL:PT1H
BEGIN:VTIMEZONE
TZID:America/Toronto
BEGIN:DAYLIGHT
TZOFFSETFROM:-0500
TZOFFSETTO:-0400
TZNAME:EDT
DTSTART:20240310T070000
END:DAYLIGHT
BEGIN:STANDARD
TZOFFSETFROM:-0400
TZOFFSETTO:-0500
TZNAME:EST
DTSTART:20241103T060000
END:STANDARD
END:VTIMEZONE
BEGIN:VEVENT
DTSTART;VALUE=DATE:20241128
DTEND;VALUE=DATE:20241204
DTSTAMP:20260424T045721
CREATED:20241125T182616Z
LAST-MODIFIED:20241125T182616Z
UID:19977-1732773600-1733205599@moebius.cegepmontpetit.ca
SUMMARY:Prêt - Boutons sonores
DESCRIPTION:Lise Bédard Optique lunetterie
URL:https://moebius.cegepmontpetit.ca/evenement/pret-boutons-sonores/
LOCATION:D2702
ATTACH;FMTTYPE=image/jpeg:https://moebius.cegepmontpetit.ca/wp-content/uploads/sites/166/2019/06/Moebius_2019_05_16_0017-e1568646956205.jpg
END:VEVENT
BEGIN:VEVENT
DTSTART;TZID=America/Toronto:20241202T080000
DTEND;TZID=America/Toronto:20241202T081500
DTSTAMP:20260424T045721
CREATED:20240926T143827Z
LAST-MODIFIED:20240930T175440Z
UID:19381-1733126400-1733127300@moebius.cegepmontpetit.ca
SUMMARY:Placement Local: Personnalisé
DESCRIPTION:#71928 \nDisposition: Présentations d’équipes (3 équipes par heure)\nTéléviseur du fond et sièges et table qui font face. \n– Téléviseur interactif : 1\n– Projecteur interactif : 1
URL:https://moebius.cegepmontpetit.ca/evenement/placement-local-a-venir-2/
LOCATION:D2702
ATTACH;FMTTYPE=image/png:https://moebius.cegepmontpetit.ca/wp-content/uploads/sites/166/2024/09/Disposition_2dec.png
END:VEVENT
BEGIN:VEVENT
DTSTART;TZID=America/Toronto:20241202T080000
DTEND;TZID=America/Toronto:20241202T110000
DTSTAMP:20260424T045721
CREATED:20240926T143709Z
LAST-MODIFIED:20240926T143709Z
UID:19379-1733126400-1733137200@moebius.cegepmontpetit.ca
SUMMARY:Réservation - Cours Administrative
DESCRIPTION:#71928 \nDisposition: Présentations d’équipes (3 équipes par heure)\nTéléviseur du fond et sièges et table qui font face. \n– Téléviseur interactif : 1\n– Projecteur interactif : 1
URL:https://moebius.cegepmontpetit.ca/evenement/reservation-cours-administrative/
LOCATION:D2702
CATEGORIES:Mode exclusif,Réservation - CLAAC,Téléviseur interactif 1x
ATTACH;FMTTYPE=image/jpeg:https://moebius.cegepmontpetit.ca/wp-content/uploads/sites/166/2019/10/panoramaEspaceMedialab.jpg
END:VEVENT
BEGIN:VEVENT
DTSTART;TZID=America/Toronto:20241202T110000
DTEND;TZID=America/Toronto:20241202T130000
DTSTAMP:20260424T045721
CREATED:20240821T125911Z
LAST-MODIFIED:20240821T125911Z
UID:18942-1733137200-1733144400@moebius.cegepmontpetit.ca
SUMMARY:Réservation – Cours Français
DESCRIPTION:#69589 \nDisposition: Classique
URL:https://moebius.cegepmontpetit.ca/evenement/reservation-cours-francais-3/
LOCATION:D2702
CATEGORIES:Mode exclusif
ATTACH;FMTTYPE=image/jpeg:https://moebius.cegepmontpetit.ca/wp-content/uploads/sites/166/2019/10/panoramaEspaceMedialab.jpg
END:VEVENT
BEGIN:VEVENT
DTSTART;TZID=America/Toronto:20241202T130000
DTEND;TZID=America/Toronto:20241202T150000
DTSTAMP:20260424T045721
CREATED:20241126T180827Z
LAST-MODIFIED:20241126T180827Z
UID:19989-1733144400-1733151600@moebius.cegepmontpetit.ca
SUMMARY:Réservation - Cours TIM
DESCRIPTION:#73878
URL:https://moebius.cegepmontpetit.ca/evenement/reservation-cours-tim-4/
LOCATION:D2702
CATEGORIES:Atelier - impression 3D
ATTACH;FMTTYPE=image/jpeg:https://moebius.cegepmontpetit.ca/wp-content/uploads/sites/166/2019/10/panoramaEspaceMedialab.jpg
END:VEVENT
BEGIN:VEVENT
DTSTART;TZID=America/Toronto:20241202T143000
DTEND;TZID=America/Toronto:20241202T150000
DTSTAMP:20260424T045721
CREATED:20241122T135056Z
LAST-MODIFIED:20241122T135056Z
UID:19953-1733149800-1733151600@moebius.cegepmontpetit.ca
SUMMARY:Placement Local: ONU
DESCRIPTION:#74049
URL:https://moebius.cegepmontpetit.ca/evenement/placement-local-onu/
LOCATION:D2702
ATTACH;FMTTYPE=image/png:https://moebius.cegepmontpetit.ca/wp-content/uploads/sites/166/2024/05/08_LONU.png
END:VEVENT
BEGIN:VEVENT
DTSTART;TZID=America/Toronto:20241202T150000
DTEND;TZID=America/Toronto:20241202T180000
DTSTAMP:20260424T045721
CREATED:20241122T134951Z
LAST-MODIFIED:20241122T134951Z
UID:19951-1733151600-1733162400@moebius.cegepmontpetit.ca
SUMMARY:Réservation - Cours Économie
DESCRIPTION:#74049 \nDisposition: ONU
URL:https://moebius.cegepmontpetit.ca/evenement/reservation-cours-economie/
LOCATION:D2702
CATEGORIES:Mode exclusif
ATTACH;FMTTYPE=image/png:https://moebius.cegepmontpetit.ca/wp-content/uploads/sites/166/2024/05/08_LONU.png
END:VEVENT
BEGIN:VEVENT
DTSTART;TZID=America/Toronto:20241203T093000
DTEND;TZID=America/Toronto:20241203T100000
DTSTAMP:20260424T045721
CREATED:20240911T163744Z
LAST-MODIFIED:20240924T152523Z
UID:19238-1733218200-1733220000@moebius.cegepmontpetit.ca
SUMMARY:Placement Local: Disposition personnelle
DESCRIPTION:#71111 \nDisposition: regarder le placement \nAccessoire: 2 iPad + 2 tripier (comptoir de prêt)
URL:https://moebius.cegepmontpetit.ca/evenement/placement-local-disposition-personnelle-3/
LOCATION:D2702
ATTACH;FMTTYPE=image/png:https://moebius.cegepmontpetit.ca/wp-content/uploads/sites/166/2024/08/Disposition_personnalise_psychologie_69417_10-19_dec.png
END:VEVENT
BEGIN:VEVENT
DTSTART;TZID=America/Toronto:20241203T100000
DTEND;TZID=America/Toronto:20241203T130000
DTSTAMP:20260424T045721
CREATED:20240911T163316Z
LAST-MODIFIED:20241112T193324Z
UID:19234-1733220000-1733230800@moebius.cegepmontpetit.ca
SUMMARY:Réservation - Cours Psychologie
DESCRIPTION:#71111 \nDisposition: regarder le placement \nAccessoire: 1 iPad + 1 tripier
URL:https://moebius.cegepmontpetit.ca/evenement/reservation-cours-psychologie-7/
LOCATION:D2702
CATEGORIES:Mode exclusif
ATTACH;FMTTYPE=image/png:https://moebius.cegepmontpetit.ca/wp-content/uploads/sites/166/2024/08/Disposition_personnalise_psychologie_69417_10-19_dec.png
END:VEVENT
BEGIN:VEVENT
DTSTART;TZID=America/Toronto:20241203T130000
DTEND;TZID=America/Toronto:20241203T170000
DTSTAMP:20260424T045721
CREATED:20240815T185515Z
LAST-MODIFIED:20240815T185515Z
UID:18733-1733230800-1733245200@moebius.cegepmontpetit.ca
SUMMARY:Réservation - RV Soins Infirmiers
DESCRIPTION:Simulation 309\nDemande # 69332
URL:https://moebius.cegepmontpetit.ca/evenement/reservation-rv-soins-infirmiers-24/
LOCATION:D2702
CATEGORIES:Atelier - impression 3D,Imprimante en fonction,Mode exclusif,Réservation - CLAAC,Téléviseur interactif 1x
ATTACH;FMTTYPE=image/jpeg:https://moebius.cegepmontpetit.ca/wp-content/uploads/sites/166/2019/04/P1090458.jpg
END:VEVENT
BEGIN:VEVENT
DTSTART;TZID=America/Toronto:20241204T080000
DTEND;TZID=America/Toronto:20241204T081000
DTSTAMP:20260424T045721
CREATED:20241122T135329Z
LAST-MODIFIED:20241122T135329Z
UID:19957-1733299200-1733299800@moebius.cegepmontpetit.ca
SUMMARY:Placement Local: ONU
DESCRIPTION:#74049
URL:https://moebius.cegepmontpetit.ca/evenement/placement-local-onu-2/
LOCATION:D2702
ATTACH;FMTTYPE=image/png:https://moebius.cegepmontpetit.ca/wp-content/uploads/sites/166/2024/05/08_LONU.png
END:VEVENT
BEGIN:VEVENT
DTSTART;TZID=America/Toronto:20241204T080000
DTEND;TZID=America/Toronto:20241204T110000
DTSTAMP:20260424T045721
CREATED:20241122T135215Z
LAST-MODIFIED:20241122T135215Z
UID:19955-1733299200-1733310000@moebius.cegepmontpetit.ca
SUMMARY:Réservation – Cours Économie
DESCRIPTION:#74049 \nDisposition: ONU
URL:https://moebius.cegepmontpetit.ca/evenement/reservation-cours-economie-2/
LOCATION:D2702
CATEGORIES:Imprimante en fonction,Mode exclusif
ATTACH;FMTTYPE=image/png:https://moebius.cegepmontpetit.ca/wp-content/uploads/sites/166/2024/05/08_LONU.png
END:VEVENT
BEGIN:VEVENT
DTSTART;TZID=America/Toronto:20241204T113000
DTEND;TZID=America/Toronto:20241204T120000
DTSTAMP:20260424T045721
CREATED:20240822T183012Z
LAST-MODIFIED:20240822T183012Z
UID:19013-1733311800-1733313600@moebius.cegepmontpetit.ca
SUMMARY:Placement Local: Disposition personnalisée
DESCRIPTION:
URL:https://moebius.cegepmontpetit.ca/evenement/placement-local-disposition-personnalisee/
LOCATION:D2702
ATTACH;FMTTYPE=image/png:https://moebius.cegepmontpetit.ca/wp-content/uploads/sites/166/2024/08/Placement_personalise_4_dec.png
END:VEVENT
BEGIN:VEVENT
DTSTART;TZID=America/Toronto:20241204T120000
DTEND;TZID=America/Toronto:20241204T140000
DTSTAMP:20260424T045721
CREATED:20240822T182852Z
LAST-MODIFIED:20240822T182852Z
UID:19010-1733313600-1733320800@moebius.cegepmontpetit.ca
SUMMARY:Réservation - Cours Administration
DESCRIPTION:#69831 \nDisposition: L’assemblée adapté pour 6 personnes \nÉtudiants: Total de 35\, mais présence sur rotation dans un groupe de 4 étudiants
URL:https://moebius.cegepmontpetit.ca/evenement/reservation-cours-administration-4/
LOCATION:D2702
CATEGORIES:Imprimante en fonction,Mode exclusif,Réservation - CLAAC,Téléviseur interactif 1x
ATTACH;FMTTYPE=image/png:https://moebius.cegepmontpetit.ca/wp-content/uploads/sites/166/2024/08/Placement_personalise_4_dec.png
END:VEVENT
BEGIN:VEVENT
DTSTART;TZID=America/Toronto:20241204T133000
DTEND;TZID=America/Toronto:20241204T140000
DTSTAMP:20260424T045721
CREATED:20240826T172203Z
LAST-MODIFIED:20240826T172203Z
UID:19041-1733319000-1733320800@moebius.cegepmontpetit.ca
SUMMARY:Placement Local: Disposition Personnalisée
DESCRIPTION:
URL:https://moebius.cegepmontpetit.ca/evenement/placement-local-disposition-personnalisee-3/
LOCATION:D2702
ATTACH;FMTTYPE=image/png:https://moebius.cegepmontpetit.ca/wp-content/uploads/sites/166/2024/08/Placement_4_dec_69736.png
END:VEVENT
BEGIN:VEVENT
DTSTART;TZID=America/Toronto:20241204T140000
DTEND;TZID=America/Toronto:20241204T160000
DTSTAMP:20260424T045721
CREATED:20240816T132008Z
LAST-MODIFIED:20240826T171953Z
UID:18794-1733320800-1733328000@moebius.cegepmontpetit.ca
SUMMARY:Réservation - Cours THD
DESCRIPTION:#69319 \nDisposition: Personnalisé \nBouton sonores\, verres de couleur et cartes aimantées
URL:https://moebius.cegepmontpetit.ca/evenement/reservation-cours-thd-10/
LOCATION:D2702
CATEGORIES:Imprimante en fonction,Mode exclusif,Téléviseur interactif 1x
ATTACH;FMTTYPE=image/jpeg:https://moebius.cegepmontpetit.ca/wp-content/uploads/sites/166/2019/10/panorama-espace-CLAAC.jpg
END:VEVENT
BEGIN:VEVENT
DTSTART;TZID=America/Toronto:20241204T160000
DTEND;TZID=America/Toronto:20241204T161000
DTSTAMP:20260424T045721
CREATED:20241126T132229Z
LAST-MODIFIED:20241129T130346Z
UID:19986-1733328000-1733328600@moebius.cegepmontpetit.ca
SUMMARY:Placement local: Personnelle
DESCRIPTION:#74205
URL:https://moebius.cegepmontpetit.ca/evenement/placement-local-classique/
LOCATION:D2702
ATTACH;FMTTYPE=image/png:https://moebius.cegepmontpetit.ca/wp-content/uploads/sites/166/2024/11/Disposition_Gabriel_Houle.png
END:VEVENT
BEGIN:VEVENT
DTSTART;TZID=America/Toronto:20241204T160000
DTEND;TZID=America/Toronto:20241204T180000
DTSTAMP:20260424T045721
CREATED:20241126T132145Z
LAST-MODIFIED:20241129T130431Z
UID:19984-1733328000-1733335200@moebius.cegepmontpetit.ca
SUMMARY:Réservation - Cours THD
DESCRIPTION:#74205 \nDisposition: Personnelle \nAimants
URL:https://moebius.cegepmontpetit.ca/evenement/reservation-cours-thd-24/
LOCATION:D2702
CATEGORIES:Imprimante en fonction,Mode exclusif,Réservation - CLAAC,Téléviseur interactif 1x
ATTACH;FMTTYPE=image/jpeg:https://moebius.cegepmontpetit.ca/wp-content/uploads/sites/166/2019/10/panoramaEspaceMedialab.jpg
END:VEVENT
BEGIN:VEVENT
DTSTART;TZID=America/Toronto:20241205T090000
DTEND;TZID=America/Toronto:20241205T123000
DTSTAMP:20260424T045721
CREATED:20240815T181448Z
LAST-MODIFIED:20240819T172357Z
UID:18716-1733389200-1733401800@moebius.cegepmontpetit.ca
SUMMARY:Réservation - RV Soins Infirmiers
DESCRIPTION:Simulation 309\nDemande # 69332
URL:https://moebius.cegepmontpetit.ca/evenement/reservation-rv-soins-infirmiers-16/
LOCATION:D2702
CATEGORIES:Atelier - Réalité virtuelle,Imprimante en fonction,Mode exclusif,Réservation - CLAAC,Téléviseur interactif 1x
ATTACH;FMTTYPE=image/jpeg:https://moebius.cegepmontpetit.ca/wp-content/uploads/sites/166/2019/04/P1090458.jpg
END:VEVENT
BEGIN:VEVENT
DTSTART;TZID=America/Toronto:20241205T130000
DTEND;TZID=America/Toronto:20241205T170000
DTSTAMP:20260424T045721
CREATED:20240815T185701Z
LAST-MODIFIED:20240815T185701Z
UID:18735-1733403600-1733418000@moebius.cegepmontpetit.ca
SUMMARY:Réservation - RV Soins Infirmiers
DESCRIPTION:Simulation 309\nDemande # 69332
URL:https://moebius.cegepmontpetit.ca/evenement/reservation-rv-soins-infirmiers-25/
LOCATION:D2702
CATEGORIES:Besoin de portables,Imprimante en fonction,Mode exclusif,Réservation - CLAAC,Téléviseur interactif 1x
ATTACH;FMTTYPE=image/jpeg:https://moebius.cegepmontpetit.ca/wp-content/uploads/sites/166/2019/04/OculusRift.jpg
END:VEVENT
BEGIN:VEVENT
DTSTART;TZID=America/Toronto:20241206T130000
DTEND;TZID=America/Toronto:20241206T160000
DTSTAMP:20260424T045721
CREATED:20240822T123833Z
LAST-MODIFIED:20240822T123833Z
UID:18968-1733490000-1733500800@moebius.cegepmontpetit.ca
SUMMARY:Réservation – RV Soins Infirmiers
DESCRIPTION:Simulation 419-PED\nDemande # 69332
URL:https://moebius.cegepmontpetit.ca/evenement/reservation-rv-soins-infirmiers-38/
LOCATION:D2702
CATEGORIES:Atelier - Réalité virtuelle,Imprimante en fonction,Mode exclusif,Réservation - CLAAC,Téléviseur interactif 1x
ATTACH;FMTTYPE=image/jpeg:https://moebius.cegepmontpetit.ca/wp-content/uploads/sites/166/2019/04/P1090458.jpg
END:VEVENT
END:VCALENDAR