BEGIN:VCALENDAR
VERSION:2.0
PRODID:-//Espace Moebius - ECPv6.0.12//NONSGML v1.0//EN
CALSCALE:GREGORIAN
METHOD:PUBLISH
X-WR-CALNAME:Espace Moebius
X-ORIGINAL-URL:https://moebius.cegepmontpetit.ca
X-WR-CALDESC:évènements pour Espace Moebius
REFRESH-INTERVAL;VALUE=DURATION:PT1H
X-Robots-Tag:noindex
X-PUBLISHED-TTL:PT1H
BEGIN:VTIMEZONE
TZID:America/Toronto
BEGIN:DAYLIGHT
TZOFFSETFROM:-0500
TZOFFSETTO:-0400
TZNAME:EDT
DTSTART:20240310T070000
END:DAYLIGHT
BEGIN:STANDARD
TZOFFSETFROM:-0400
TZOFFSETTO:-0500
TZNAME:EST
DTSTART:20241103T060000
END:STANDARD
END:VTIMEZONE
BEGIN:VEVENT
DTSTART;VALUE=DATE:20241209
DTEND;VALUE=DATE:20241211
DTSTAMP:20260424T045720
CREATED:20240522T170920Z
LAST-MODIFIED:20240522T170920Z
UID:18164-1733724000-1733810399@moebius.cegepmontpetit.ca
SUMMARY:Journée particulière d'enseignement (JR)
DESCRIPTION:
URL:https://moebius.cegepmontpetit.ca/evenement/journee-particuliere-denseignement-jr-7/
LOCATION:D2702
END:VEVENT
BEGIN:VEVENT
DTSTART;TZID=America/Toronto:20241209T090000
DTEND;TZID=America/Toronto:20241209T110000
DTSTAMP:20260424T045720
CREATED:20240827T152024Z
LAST-MODIFIED:20241119T190336Z
UID:19091-1733734800-1733742000@moebius.cegepmontpetit.ca
SUMMARY:Mode Partagé - RV Tests techniques simulations Soins Infirmiers
DESCRIPTION:Tests des nouvelles simulations réalisées en soins infirmiers.\nDemande #70048
URL:https://moebius.cegepmontpetit.ca/evenement/mode-partage-rv-tests-techniques-simulations-soins-infirmiers-2/
LOCATION:D2702
CATEGORIES:Atelier - Réalité virtuelle,Imprimante en fonction,Mode partagé
ATTACH;FMTTYPE=image/jpeg:https://moebius.cegepmontpetit.ca/wp-content/uploads/sites/166/2019/04/P1090458.jpg
END:VEVENT
BEGIN:VEVENT
DTSTART;VALUE=DATE:20241210
DTEND;VALUE=DATE:20241213
DTSTAMP:20260424T045720
CREATED:20240522T171051Z
LAST-MODIFIED:20240522T171051Z
UID:18166-1733810400-1733983199@moebius.cegepmontpetit.ca
SUMMARY:Évaluations terminales selon l'horaire régulier des cours (EHR)
DESCRIPTION:
URL:https://moebius.cegepmontpetit.ca/evenement/evaluations-terminales-selon-lhoraire-regulier-des-cours-ehr/
LOCATION:D2702
END:VEVENT
BEGIN:VEVENT
DTSTART;TZID=America/Toronto:20241210T093000
DTEND;TZID=America/Toronto:20241210T100000
DTSTAMP:20260424T045720
CREATED:20240911T163835Z
LAST-MODIFIED:20240924T152625Z
UID:19240-1733823000-1733824800@moebius.cegepmontpetit.ca
SUMMARY:Placement Local: Disposition personnelle
DESCRIPTION:#71111 \nDisposition: regarder le placement \nAccessoire: 2 iPad + 2 tripier (comptoir de prêt)
URL:https://moebius.cegepmontpetit.ca/evenement/placement-local-disposition-personnelle-4/
LOCATION:D2702
ATTACH;FMTTYPE=image/png:https://moebius.cegepmontpetit.ca/wp-content/uploads/sites/166/2024/08/Disposition_personnalise_psychologie_69417_10-19_dec.png
END:VEVENT
BEGIN:VEVENT
DTSTART;TZID=America/Toronto:20241210T100000
DTEND;TZID=America/Toronto:20241210T123000
DTSTAMP:20260424T045720
CREATED:20240911T163529Z
LAST-MODIFIED:20241112T193348Z
UID:19236-1733824800-1733833800@moebius.cegepmontpetit.ca
SUMMARY:Réservation – Cours Psychologie
DESCRIPTION:#71111 \nDisposition: regarder le placement \nAccessoire: 1 iPad + 1 tripier
URL:https://moebius.cegepmontpetit.ca/evenement/reservation-cours-psychologie-8/
LOCATION:D2702
CATEGORIES:Mode exclusif
ATTACH;FMTTYPE=image/png:https://moebius.cegepmontpetit.ca/wp-content/uploads/sites/166/2024/08/Disposition_personnalise_psychologie_69417_10-19_dec.png
END:VEVENT
BEGIN:VEVENT
DTSTART;TZID=America/Toronto:20241210T123000
DTEND;TZID=America/Toronto:20241210T150000
DTSTAMP:20260424T045720
CREATED:20240820T195923Z
LAST-MODIFIED:20240822T155340Z
UID:18935-1733833800-1733842800@moebius.cegepmontpetit.ca
SUMMARY:Réservation - RV Soins Infirmiers
DESCRIPTION:Simulation 309\nDemande # 69332
URL:https://moebius.cegepmontpetit.ca/evenement/reservation-rv-soins-infirmiers-37/
LOCATION:D2702
CATEGORIES:Atelier - Réalité virtuelle,Imprimante en fonction,Mode exclusif,Réservation - CLAAC,Téléviseur interactif 1x
ATTACH;FMTTYPE=image/jpeg:https://moebius.cegepmontpetit.ca/wp-content/uploads/sites/166/2019/04/OculusRift.jpg
END:VEVENT
BEGIN:VEVENT
DTSTART;TZID=America/Toronto:20241210T150000
DTEND;TZID=America/Toronto:20241210T170000
DTSTAMP:20260424T045720
CREATED:20240822T163235Z
LAST-MODIFIED:20240916T180414Z
UID:18983-1733842800-1733850000@moebius.cegepmontpetit.ca
SUMMARY:Réservation – Cours Psychologie
DESCRIPTION:#69417 \nDisposition personnelle \n2 ipad\, 2 trepied
URL:https://moebius.cegepmontpetit.ca/evenement/reservation-rv-cours-psychologie-9/
LOCATION:D2702
CATEGORIES:Atelier - Réalité virtuelle,Mode exclusif
ATTACH;FMTTYPE=image/png:https://moebius.cegepmontpetit.ca/wp-content/uploads/sites/166/2024/08/Disposition_personnalise_psychologie_69417_10-19_dec.png
END:VEVENT
BEGIN:VEVENT
DTSTART;TZID=America/Toronto:20241211T080000
DTEND;TZID=America/Toronto:20241211T081000
DTSTAMP:20260424T045720
CREATED:20241122T135530Z
LAST-MODIFIED:20241122T135546Z
UID:19961-1733904000-1733904600@moebius.cegepmontpetit.ca
SUMMARY:Placement Local: ONU
DESCRIPTION:#74049
URL:https://moebius.cegepmontpetit.ca/evenement/placement-local-onu-3/
LOCATION:D2702
ATTACH;FMTTYPE=image/png:https://moebius.cegepmontpetit.ca/wp-content/uploads/sites/166/2024/05/08_LONU.png
END:VEVENT
BEGIN:VEVENT
DTSTART;TZID=America/Toronto:20241211T080000
DTEND;TZID=America/Toronto:20241211T130000
DTSTAMP:20260424T045720
CREATED:20241122T135453Z
LAST-MODIFIED:20241122T135453Z
UID:19959-1733904000-1733922000@moebius.cegepmontpetit.ca
SUMMARY:Réservation – Cours Économie
DESCRIPTION:#74049 \nDisposition: ONU
URL:https://moebius.cegepmontpetit.ca/evenement/reservation-cours-economie-3/
LOCATION:D2702
CATEGORIES:Imprimante en fonction,Mode exclusif
ATTACH;FMTTYPE=image/png:https://moebius.cegepmontpetit.ca/wp-content/uploads/sites/166/2024/05/08_LONU.png
END:VEVENT
BEGIN:VEVENT
DTSTART;VALUE=DATE:20241212
DTEND;VALUE=DATE:20241215
DTSTAMP:20260424T045720
CREATED:20240522T171137Z
LAST-MODIFIED:20240522T171137Z
UID:18168-1733983200-1734155999@moebius.cegepmontpetit.ca
SUMMARY:Évaluations terminales communes (EC)
DESCRIPTION:
URL:https://moebius.cegepmontpetit.ca/evenement/evaluations-terminales-communes-ec-5/
LOCATION:D2702
END:VEVENT
BEGIN:VEVENT
DTSTART;TZID=America/Toronto:20241212T080000
DTEND;TZID=America/Toronto:20241212T113000
DTSTAMP:20260424T045720
CREATED:20241204T174155Z
LAST-MODIFIED:20241204T174155Z
UID:20007-1733990400-1734003000@moebius.cegepmontpetit.ca
SUMMARY:Réservation - Cours Économie
DESCRIPTION:#74505 \nDisposition: ONU
URL:https://moebius.cegepmontpetit.ca/evenement/reservation-cours-economie-5/
LOCATION:D2702
CATEGORIES:Imprimante en fonction,Mode exclusif,Réservation - CLAAC,Téléviseur interactif 1x
ATTACH;FMTTYPE=image/png:https://moebius.cegepmontpetit.ca/wp-content/uploads/sites/166/2024/05/08_LONU.png
END:VEVENT
BEGIN:VEVENT
DTSTART;TZID=America/Toronto:20241212T140000
DTEND;TZID=America/Toronto:20241212T170000
DTSTAMP:20260424T045720
CREATED:20241114T201128Z
LAST-MODIFIED:20241114T201349Z
UID:19880-1734012000-1734022800@moebius.cegepmontpetit.ca
SUMMARY:Réservation - Cours THD
DESCRIPTION:#73795 \nQuelle disposition désirez-vous :\nTables pour 4 étudiants \nPortable: 2
URL:https://moebius.cegepmontpetit.ca/evenement/reservation-cours-thd-21/
LOCATION:D2702
CATEGORIES:Imprimante en fonction,Mode exclusif,Réservation - CLAAC,Téléviseur interactif 1x
ATTACH;FMTTYPE=image/jpeg:https://moebius.cegepmontpetit.ca/wp-content/uploads/sites/166/2019/10/panoramaEspaceMedialab.jpg
END:VEVENT
BEGIN:VEVENT
DTSTART;TZID=America/Toronto:20241213T080000
DTEND;TZID=America/Toronto:20241213T120000
DTSTAMP:20260424T045720
CREATED:20241114T201842Z
LAST-MODIFIED:20241211T164848Z
UID:19884-1734076800-1734091200@moebius.cegepmontpetit.ca
SUMMARY:Réservation – Cours THD
DESCRIPTION:#73796 \nQuelle disposition désirez-vous :\nTables pour 4 étudiants \nPortable: 2
URL:https://moebius.cegepmontpetit.ca/evenement/reservation-cours-thd-23/
LOCATION:D2702
CATEGORIES:Imprimante en fonction,Mode exclusif,Réservation - CLAAC,Téléviseur interactif 1x
ATTACH;FMTTYPE=image/jpeg:https://moebius.cegepmontpetit.ca/wp-content/uploads/sites/166/2019/10/panoramaEspaceMedialab.jpg
END:VEVENT
BEGIN:VEVENT
DTSTART;TZID=America/Toronto:20241213T143000
DTEND;TZID=America/Toronto:20241213T150000
DTSTAMP:20260424T045720
CREATED:20241125T204539Z
LAST-MODIFIED:20241125T204539Z
UID:19982-1734100200-1734102000@moebius.cegepmontpetit.ca
SUMMARY:Placement local: 3 Rift + 3 Quest Fixe (RAD)
DESCRIPTION:
URL:https://moebius.cegepmontpetit.ca/evenement/placement-local-3-rift-3-quest-fixe-rad/
LOCATION:D2702
END:VEVENT
BEGIN:VEVENT
DTSTART;TZID=America/Toronto:20241213T150000
DTEND;TZID=America/Toronto:20241213T180000
DTSTAMP:20260424T045720
CREATED:20241119T204312Z
LAST-MODIFIED:20241209T131340Z
UID:19931-1734102000-1734112800@moebius.cegepmontpetit.ca
SUMMARY:Réservation – Présentation Simulation RAD
DESCRIPTION:#73949 \nSimulation RAD \nCasque: 3 Quest Station fixe + 3 Rift
URL:https://moebius.cegepmontpetit.ca/evenement/reservation-presentation-simulation-rad-2/
LOCATION:D2702
CATEGORIES:Atelier - Réalité virtuelle,Imprimante en fonction,Mode exclusif
ATTACH;FMTTYPE=image/jpeg:https://moebius.cegepmontpetit.ca/wp-content/uploads/sites/166/2024/02/Quest_3_1_Choix-scaled.jpg
END:VEVENT
END:VCALENDAR