BEGIN:VCALENDAR
VERSION:2.0
PRODID:-//Espace Moebius - ECPv6.0.12//NONSGML v1.0//EN
CALSCALE:GREGORIAN
METHOD:PUBLISH
X-ORIGINAL-URL:https://moebius.cegepmontpetit.ca
X-WR-CALDESC:évènements pour Espace Moebius
REFRESH-INTERVAL;VALUE=DURATION:PT1H
X-Robots-Tag:noindex
X-PUBLISHED-TTL:PT1H
BEGIN:VTIMEZONE
TZID:America/Toronto
BEGIN:DAYLIGHT
TZOFFSETFROM:-0500
TZOFFSETTO:-0400
TZNAME:EDT
DTSTART:20250309T070000
END:DAYLIGHT
BEGIN:STANDARD
TZOFFSETFROM:-0400
TZOFFSETTO:-0500
TZNAME:EST
DTSTART:20251102T060000
END:STANDARD
END:VTIMEZONE
BEGIN:VEVENT
DTSTART;VALUE=DATE:20250317
DTEND;VALUE=DATE:20250319
DTSTAMP:20260423T201448
CREATED:20240523T134411Z
LAST-MODIFIED:20240523T134411Z
UID:18182-1742191200-1742277599@moebius.cegepmontpetit.ca
SUMMARY:Journée de mise à jour (JM)
DESCRIPTION:
URL:https://moebius.cegepmontpetit.ca/evenement/journee-de-mise-a-jour-jm-4/
LOCATION:D2702
END:VEVENT
BEGIN:VEVENT
DTSTART;TZID=America/Toronto:20250317T080000
DTEND;TZID=America/Toronto:20250317T123000
DTSTAMP:20260423T201448
CREATED:20250224T202138Z
LAST-MODIFIED:20250224T202138Z
UID:20438-1742198400-1742214600@moebius.cegepmontpetit.ca
SUMMARY:Réservation - Rencontre administrative
DESCRIPTION:#77311 \nDisposition: style Aquarium sans les tables au centre et seulement 10 chaises en demi-cercle. De plus\, nous avons besoin de l’écran pour assurer la projection.
URL:https://moebius.cegepmontpetit.ca/evenement/reservation-rencontre-administrative-2/
LOCATION:D2702
CATEGORIES:Réservation - CLAAC,Téléviseur interactif 1x
ATTACH;FMTTYPE=image/png:https://moebius.cegepmontpetit.ca/wp-content/uploads/sites/166/2025/02/Dispostion_Edith_17_mars.png
END:VEVENT
BEGIN:VEVENT
DTSTART;VALUE=DATE:20250318
DTEND;VALUE=DATE:20250320
DTSTAMP:20260423T201448
CREATED:20240523T134507Z
LAST-MODIFIED:20240523T134507Z
UID:18184-1742277600-1742363999@moebius.cegepmontpetit.ca
SUMMARY:Journée pédagogique (JP)
DESCRIPTION:
URL:https://moebius.cegepmontpetit.ca/evenement/journee-pedagogique-jp-3/
LOCATION:D2702
END:VEVENT
BEGIN:VEVENT
DTSTART;VALUE=DATE:20250319
DTEND;VALUE=DATE:20250322
DTSTAMP:20260423T201448
CREATED:20240523T134547Z
LAST-MODIFIED:20240523T134557Z
UID:18186-1742364000-1742536799@moebius.cegepmontpetit.ca
SUMMARY:Journée de mise à jour (JM)
DESCRIPTION:
URL:https://moebius.cegepmontpetit.ca/evenement/journee-de-mise-a-jour-jm-5/
LOCATION:D2702
END:VEVENT
BEGIN:VEVENT
DTSTART;VALUE=DATE:20250320
DTEND;VALUE=DATE:20250322
DTSTAMP:20260423T201448
CREATED:20250305T152053Z
LAST-MODIFIED:20250305T152053Z
UID:20457-1742450400-1742536799@moebius.cegepmontpetit.ca
SUMMARY:Local Fermé
DESCRIPTION:
URL:https://moebius.cegepmontpetit.ca/evenement/local-ferme-161/
LOCATION:D2702
END:VEVENT
BEGIN:VEVENT
DTSTART;VALUE=DATE:20250321
DTEND;VALUE=DATE:20250323
DTSTAMP:20260423T201448
CREATED:20240523T134713Z
LAST-MODIFIED:20240523T134713Z
UID:18188-1742536800-1742623199@moebius.cegepmontpetit.ca
SUMMARY:Journée d'encadrement (JE)
DESCRIPTION:
URL:https://moebius.cegepmontpetit.ca/evenement/journee-dencadrement-je-4/
LOCATION:D2702
END:VEVENT
BEGIN:VEVENT
DTSTART;VALUE=DATE:20250321
DTEND;VALUE=DATE:20250323
DTSTAMP:20260423T201448
CREATED:20250305T152107Z
LAST-MODIFIED:20250305T152107Z
UID:20459-1742536800-1742623199@moebius.cegepmontpetit.ca
SUMMARY:Local Fermé
DESCRIPTION:
URL:https://moebius.cegepmontpetit.ca/evenement/local-ferme-162/
LOCATION:D2702
END:VEVENT
END:VCALENDAR