BEGIN:VCALENDAR
VERSION:2.0
PRODID:-//Espace Moebius - ECPv6.0.12//NONSGML v1.0//EN
CALSCALE:GREGORIAN
METHOD:PUBLISH
X-ORIGINAL-URL:https://moebius.cegepmontpetit.ca
X-WR-CALDESC:évènements pour Espace Moebius
REFRESH-INTERVAL;VALUE=DURATION:PT1H
X-Robots-Tag:noindex
X-PUBLISHED-TTL:PT1H
BEGIN:VTIMEZONE
TZID:America/Toronto
BEGIN:DAYLIGHT
TZOFFSETFROM:-0500
TZOFFSETTO:-0400
TZNAME:EDT
DTSTART:20250309T070000
END:DAYLIGHT
BEGIN:STANDARD
TZOFFSETFROM:-0400
TZOFFSETTO:-0500
TZNAME:EST
DTSTART:20251102T060000
END:STANDARD
END:VTIMEZONE
BEGIN:VEVENT
DTSTART;TZID=America/Toronto:20250616T120000
DTEND;TZID=America/Toronto:20250616T130000
DTSTAMP:20260423T132255
CREATED:20250519T132049Z
LAST-MODIFIED:20250519T132049Z
UID:20808-1750075200-1750078800@moebius.cegepmontpetit.ca
SUMMARY:Dîner TTP - Local Fermé
DESCRIPTION:
URL:https://moebius.cegepmontpetit.ca/evenement/diner-ttp-local-ferme-12/
LOCATION:D2702
ATTACH;FMTTYPE=image/jpeg:https://moebius.cegepmontpetit.ca/wp-content/uploads/sites/166/2019/07/1090639.jpg
END:VEVENT
BEGIN:VEVENT
DTSTART;TZID=America/Toronto:20250616T130000
DTEND;TZID=America/Toronto:20250616T170000
DTSTAMP:20260423T132255
CREATED:20250610T160102Z
LAST-MODIFIED:20250610T184505Z
UID:20960-1750078800-1750093200@moebius.cegepmontpetit.ca
SUMMARY:Rencontre - Département DISTI
DESCRIPTION:Synapse # 80482 \nDisposition pour collaboration :  \n2 équipes de 6 et une équipe de 4 personnes avec tableaux blancs autour.\nTéléviseur interactif en avant.
URL:https://moebius.cegepmontpetit.ca/evenement/rencontre-departement-disti/
LOCATION:D2702
CATEGORIES:Réservation - CLAAC,Téléviseur interactif 1x
ATTACH;FMTTYPE=image/png:https://moebius.cegepmontpetit.ca/wp-content/uploads/sites/166/2022/12/claac.png
END:VEVENT
BEGIN:VEVENT
DTSTART;TZID=America/Toronto:20250617T080000
DTEND;TZID=America/Toronto:20250617T120000
DTSTAMP:20260423T132255
CREATED:20250613T150642Z
LAST-MODIFIED:20250617T174446Z
UID:20992-1750147200-1750161600@moebius.cegepmontpetit.ca
SUMMARY:Local Fermé - Formation TTP
DESCRIPTION:
URL:https://moebius.cegepmontpetit.ca/evenement/local-ferme-formation-ttp/
LOCATION:D2702
ATTACH;FMTTYPE=image/jpeg:https://moebius.cegepmontpetit.ca/wp-content/uploads/sites/166/2019/07/1090635-Modifier.jpg
END:VEVENT
BEGIN:VEVENT
DTSTART;TZID=America/Toronto:20250617T120000
DTEND;TZID=America/Toronto:20250617T130000
DTSTAMP:20260423T132255
CREATED:20250519T132049Z
LAST-MODIFIED:20250519T132049Z
UID:20809-1750161600-1750165200@moebius.cegepmontpetit.ca
SUMMARY:Dîner TTP - Local Fermé
DESCRIPTION:
URL:https://moebius.cegepmontpetit.ca/evenement/diner-ttp-local-ferme-12/2025-06-17/
LOCATION:D2702
ATTACH;FMTTYPE=image/jpeg:https://moebius.cegepmontpetit.ca/wp-content/uploads/sites/166/2019/07/1090639.jpg
END:VEVENT
BEGIN:VEVENT
DTSTART;TZID=America/Toronto:20250618T120000
DTEND;TZID=America/Toronto:20250618T130000
DTSTAMP:20260423T132255
CREATED:20250519T132049Z
LAST-MODIFIED:20250519T132049Z
UID:20810-1750248000-1750251600@moebius.cegepmontpetit.ca
SUMMARY:Dîner TTP - Local Fermé
DESCRIPTION:
URL:https://moebius.cegepmontpetit.ca/evenement/diner-ttp-local-ferme-12/2025-06-18/
LOCATION:D2702
ATTACH;FMTTYPE=image/jpeg:https://moebius.cegepmontpetit.ca/wp-content/uploads/sites/166/2019/07/1090639.jpg
END:VEVENT
BEGIN:VEVENT
DTSTART;TZID=America/Toronto:20250618T130000
DTEND;TZID=America/Toronto:20250618T160000
DTSTAMP:20260423T132255
CREATED:20250611T133725Z
LAST-MODIFIED:20250611T133725Z
UID:20965-1750251600-1750262400@moebius.cegepmontpetit.ca
SUMMARY:Mode Partagé - Medialab - Finalisation caissons pour Imprimantes 3D
DESCRIPTION:
URL:https://moebius.cegepmontpetit.ca/evenement/mode-partage-medialab-finalisation-caissons-pour-imprimantes-3d/
LOCATION:D2702
CATEGORIES:Mode partagé
ATTACH;FMTTYPE=image/jpeg:https://moebius.cegepmontpetit.ca/wp-content/uploads/sites/166/2024/05/Les-imprimantes-scaled.jpg
END:VEVENT
BEGIN:VEVENT
DTSTART;TZID=America/Toronto:20250619T080000
DTEND;TZID=America/Toronto:20250619T120000
DTSTAMP:20260423T132255
CREATED:20250523T140251Z
LAST-MODIFIED:20250616T194645Z
UID:20906-1750320000-1750334400@moebius.cegepmontpetit.ca
SUMMARY:Réservation : Comité Projet SharePoint
DESCRIPTION:Synapse # 79381. \nLocal utilisé pour l’avancement et les questionnements des employés pour le projet SharePoint.\nLe travail individuel ou en équipe à voix basse est possible.
URL:https://moebius.cegepmontpetit.ca/evenement/mode-partage-comite-projet-sharepoint-3/
LOCATION:D2702
CATEGORIES:Réservation - CLAAC,Réservation - Zone discussion,Téléviseur interactif 1x
ATTACH;FMTTYPE=image/png:https://moebius.cegepmontpetit.ca/wp-content/uploads/sites/166/2022/12/claac.png
END:VEVENT
BEGIN:VEVENT
DTSTART;TZID=America/Toronto:20250619T120000
DTEND;TZID=America/Toronto:20250619T170000
DTSTAMP:20260423T132255
CREATED:20250610T130158Z
LAST-MODIFIED:20250616T193924Z
UID:20955-1750334400-1750352400@moebius.cegepmontpetit.ca
SUMMARY:Réservation - Rencontre département des communications
DESCRIPTION:Synapse # 80658
URL:https://moebius.cegepmontpetit.ca/evenement/local-ferme-165/
LOCATION:D2702
CATEGORIES:Événement spécial,Mode exclusif,Réservation - CLAAC,Réservation de l'Espace Moebius,Téléviseur interactif 1x
ATTACH;FMTTYPE=image/png:https://moebius.cegepmontpetit.ca/wp-content/uploads/sites/166/2022/12/claac.png
END:VEVENT
BEGIN:VEVENT
DTSTART;TZID=America/Toronto:20250620T113000
DTEND;TZID=America/Toronto:20250620T160000
DTSTAMP:20260423T132255
CREATED:20250506T154947Z
LAST-MODIFIED:20250506T155118Z
UID:20699-1750419000-1750435200@moebius.cegepmontpetit.ca
SUMMARY:Horaire Été - Local Fermé
DESCRIPTION:
URL:https://moebius.cegepmontpetit.ca/evenement/horaire-ete-local-ferme-2/
LOCATION:D2702
CATEGORIES:Local fermé
ATTACH;FMTTYPE=image/jpeg:https://moebius.cegepmontpetit.ca/wp-content/uploads/sites/166/2019/07/1090635-Modifier.jpg
END:VEVENT
END:VCALENDAR