BEGIN:VCALENDAR
VERSION:2.0
PRODID:-//Espace Moebius - ECPv6.0.12//NONSGML v1.0//EN
CALSCALE:GREGORIAN
METHOD:PUBLISH
X-WR-CALNAME:Espace Moebius
X-ORIGINAL-URL:https://moebius.cegepmontpetit.ca
X-WR-CALDESC:évènements pour Espace Moebius
REFRESH-INTERVAL;VALUE=DURATION:PT1H
X-Robots-Tag:noindex
X-PUBLISHED-TTL:PT1H
BEGIN:VTIMEZONE
TZID:America/Toronto
BEGIN:DAYLIGHT
TZOFFSETFROM:-0500
TZOFFSETTO:-0400
TZNAME:EDT
DTSTART:20250309T070000
END:DAYLIGHT
BEGIN:STANDARD
TZOFFSETFROM:-0400
TZOFFSETTO:-0500
TZNAME:EST
DTSTART:20251102T060000
END:STANDARD
END:VTIMEZONE
BEGIN:VEVENT
DTSTART;VALUE=DATE:20250901
DTEND;VALUE=DATE:20250903
DTSTAMP:20260423T093500
CREATED:20250506T155353Z
LAST-MODIFIED:20250506T155353Z
UID:20705-1756706400-1756792799@moebius.cegepmontpetit.ca
SUMMARY:Férié - Fête du Travail
DESCRIPTION:
URL:https://moebius.cegepmontpetit.ca/evenement/ferie-fete-du-travail-2/
LOCATION:D2702
CATEGORIES:Local fermé
ATTACH;FMTTYPE=image/jpeg:https://moebius.cegepmontpetit.ca/wp-content/uploads/sites/166/2019/07/1090635-Modifier.jpg
END:VEVENT
BEGIN:VEVENT
DTSTART;TZID=America/Toronto:20250902T100000
DTEND;TZID=America/Toronto:20250902T120000
DTSTAMP:20260423T093500
CREATED:20250827T172421Z
LAST-MODIFIED:20250827T172421Z
UID:21472-1756807200-1756814400@moebius.cegepmontpetit.ca
SUMMARY:Mode Partagé : Installation électronique Caissons imprimantes 3D (Médialab)
DESCRIPTION:
URL:https://moebius.cegepmontpetit.ca/evenement/mode-partage-installation-electronique-caissons-imprimantes-3d-medialab/
LOCATION:D2702
ATTACH;FMTTYPE=image/jpeg:https://moebius.cegepmontpetit.ca/wp-content/uploads/sites/166/2024/05/Les-imprimantes-scaled.jpg
END:VEVENT
BEGIN:VEVENT
DTSTART;TZID=America/Toronto:20250902T153000
DTEND;TZID=America/Toronto:20250902T160000
DTSTAMP:20260423T093500
CREATED:20250819T171355Z
LAST-MODIFIED:20250818T132703Z
UID:21050-1756827000-1756828800@moebius.cegepmontpetit.ca
SUMMARY:Installation Postes RV - 6 stations
DESCRIPTION:Placement Local pour 3 septembre\n6 stations RV : 3 stations mobiles
URL:https://moebius.cegepmontpetit.ca/evenement/installation-postes-rv-6-stations/
LOCATION:D2702
CATEGORIES:Atelier - Réalité virtuelle
ATTACH;FMTTYPE=image/jpeg:https://moebius.cegepmontpetit.ca/wp-content/uploads/sites/166/2024/02/Quest_3_1_Choix-scaled.jpg
END:VEVENT
BEGIN:VEVENT
DTSTART;TZID=America/Toronto:20250903T080000
DTEND;TZID=America/Toronto:20250903T110000
DTSTAMP:20260423T093500
CREATED:20250819T171241Z
LAST-MODIFIED:20250826T174556Z
UID:21046-1756886400-1756897200@moebius.cegepmontpetit.ca
SUMMARY:Réservation RV - Soins Infirmiers
DESCRIPTION:** Déposer les feuilles pour le projet de Recherche sur le bureau d’accueil. **\nSynapse #82034\nProblématique : 60 A RV # 1 Dépression et RV # 2 psychose\nBesoin des 6 postes (3 par simulation)
URL:https://moebius.cegepmontpetit.ca/evenement/reservation-rv-soins-infirmiers-59/
LOCATION:D2702
CATEGORIES:Atelier - Réalité virtuelle,Imprimante en fonction,Réservation - CLAAC,Téléviseur interactif 1x
ATTACH;FMTTYPE=image/jpeg:https://moebius.cegepmontpetit.ca/wp-content/uploads/sites/166/2024/02/Quest_3_1_Choix-scaled.jpg
END:VEVENT
BEGIN:VEVENT
DTSTART;TZID=America/Toronto:20250903T130000
DTEND;TZID=America/Toronto:20250903T160000
DTSTAMP:20260423T093500
CREATED:20250819T171328Z
LAST-MODIFIED:20250903T123159Z
UID:21048-1756904400-1756915200@moebius.cegepmontpetit.ca
SUMMARY:Réservation RV - Soins Infirmiers
DESCRIPTION:** Déposer les feuilles pour le projet de Recherche sur le bureau d’accueil. **\nSynapse #82034\nProblématique : 60 A RV # 1 Dépression et RV # 2 psychose\nBesoin des 6 postes (3 par simulation)
URL:https://moebius.cegepmontpetit.ca/evenement/reservation-rv-soins-infirmiers-66/
LOCATION:D2702
CATEGORIES:Atelier - Réalité virtuelle,Imprimante en fonction,Réservation - CLAAC,Téléviseur interactif 1x
ATTACH;FMTTYPE=image/jpeg:https://moebius.cegepmontpetit.ca/wp-content/uploads/sites/166/2024/02/Quest_3_1_Choix-scaled.jpg
END:VEVENT
BEGIN:VEVENT
DTSTART;TZID=America/Toronto:20250904T080000
DTEND;TZID=America/Toronto:20250904T110000
DTSTAMP:20260423T093500
CREATED:20250826T123517Z
LAST-MODIFIED:20250826T123517Z
UID:21427-1756972800-1756983600@moebius.cegepmontpetit.ca
SUMMARY:Réservation - Cours administration
DESCRIPTION:Synapse #82348
URL:https://moebius.cegepmontpetit.ca/evenement/reservation-cours-administration-12/
LOCATION:D2702
CATEGORIES:Imprimante en fonction,Mode exclusif,Réservation - CLAAC,Téléviseur interactif 1x
ATTACH;FMTTYPE=image/jpeg:https://moebius.cegepmontpetit.ca/wp-content/uploads/sites/166/2025/08/Gestion-internationale_1.jpg
END:VEVENT
BEGIN:VEVENT
DTSTART;TZID=America/Toronto:20250905T080000
DTEND;TZID=America/Toronto:20250905T100000
DTSTAMP:20260423T093500
CREATED:20250903T175440Z
LAST-MODIFIED:20250903T175440Z
UID:21572-1757059200-1757066400@moebius.cegepmontpetit.ca
SUMMARY:Rencontre TTP - Local Fermé
DESCRIPTION:
URL:https://moebius.cegepmontpetit.ca/evenement/rencontre-ttp-local-ferme-2/
LOCATION:D2702
ATTACH;FMTTYPE=image/jpeg:https://moebius.cegepmontpetit.ca/wp-content/uploads/sites/166/2019/07/1090633-Modifier-e1562721284853.jpg
END:VEVENT
BEGIN:VEVENT
DTSTART;TZID=America/Toronto:20250905T153000
DTEND;TZID=America/Toronto:20250905T160000
DTSTAMP:20260423T093500
CREATED:20250821T134803Z
LAST-MODIFIED:20250904T172237Z
UID:21313-1757086200-1757088000@moebius.cegepmontpetit.ca
SUMMARY:Placement Local : 6 équipes de 4
DESCRIPTION:Pour ce cours\, seulement 6 équipes seront utilisées\, nous pouvons donc en enlever une des 7.
URL:https://moebius.cegepmontpetit.ca/evenement/placement-local-a-confirmer-cours-lundi-8h00/
LOCATION:D2702
ATTACH;FMTTYPE=image/png:https://moebius.cegepmontpetit.ca/wp-content/uploads/sites/166/2025/08/Dispo_8sept2025_Claire_Charette.png
END:VEVENT
END:VCALENDAR