BEGIN:VCALENDAR
VERSION:2.0
PRODID:-//Espace Moebius - ECPv6.0.12//NONSGML v1.0//EN
CALSCALE:GREGORIAN
METHOD:PUBLISH
X-ORIGINAL-URL:https://moebius.cegepmontpetit.ca
X-WR-CALDESC:évènements pour Espace Moebius
REFRESH-INTERVAL;VALUE=DURATION:PT1H
X-Robots-Tag:noindex
X-PUBLISHED-TTL:PT1H
BEGIN:VTIMEZONE
TZID:America/Toronto
BEGIN:DAYLIGHT
TZOFFSETFROM:-0500
TZOFFSETTO:-0400
TZNAME:EDT
DTSTART:20260308T070000
END:DAYLIGHT
BEGIN:STANDARD
TZOFFSETFROM:-0400
TZOFFSETTO:-0500
TZNAME:EST
DTSTART:20261101T060000
END:STANDARD
END:VTIMEZONE
BEGIN:VEVENT
DTSTART;TZID=America/Toronto:20260209T080000
DTEND;TZID=America/Toronto:20260209T090000
DTSTAMP:20260423T014711
CREATED:20260126T184520Z
LAST-MODIFIED:20260126T184520Z
UID:22440-1770624000-1770627600@moebius.cegepmontpetit.ca
SUMMARY:Placement local l'entre deux
DESCRIPTION:
URL:https://moebius.cegepmontpetit.ca/evenement/placement-local-lentre-deux/
LOCATION:D2702
ATTACH;FMTTYPE=image/png:https://moebius.cegepmontpetit.ca/wp-content/uploads/sites/166/2024/05/19_LEntre-Deux.png
END:VEVENT
BEGIN:VEVENT
DTSTART;TZID=America/Toronto:20260209T090000
DTEND;TZID=America/Toronto:20260209T170000
DTSTAMP:20260423T014711
CREATED:20260126T184429Z
LAST-MODIFIED:20260126T184435Z
UID:22437-1770627600-1770656400@moebius.cegepmontpetit.ca
SUMMARY:Réservation - Cours TIM
DESCRIPTION:#87950\nDisposition: l’entre deux\nNombre requis : 1 (pour la présentation sur écran)
URL:https://moebius.cegepmontpetit.ca/evenement/reservation-cours-tim-7/
LOCATION:D2702
CATEGORIES:Réservation de l'Espace Moebius
ATTACH;FMTTYPE=image/png:https://moebius.cegepmontpetit.ca/wp-content/uploads/sites/166/2024/05/19_LEntre-Deux.png
END:VEVENT
BEGIN:VEVENT
DTSTART;TZID=America/Toronto:20260210T130000
DTEND;TZID=America/Toronto:20260210T170000
DTSTAMP:20260423T014712
CREATED:20260119T131029Z
LAST-MODIFIED:20260119T131029Z
UID:22218-1770728400-1770742800@moebius.cegepmontpetit.ca
SUMMARY:Réservation RV – Soins Infirmiers
DESCRIPTION:Problématique: 180-410 hypovolémie\n3 station
URL:https://moebius.cegepmontpetit.ca/evenement/reservation-rv-soins-infirmiers-111/
LOCATION:D2702
CATEGORIES:Atelier - Réalité virtuelle
ATTACH;FMTTYPE=image/jpeg:https://moebius.cegepmontpetit.ca/wp-content/uploads/sites/166/2025/09/Realite_Virtuelle_Chaises_Quest_3-1-scaled.jpg
END:VEVENT
BEGIN:VEVENT
DTSTART;TZID=America/Toronto:20260211T080000
DTEND;TZID=America/Toronto:20260211T110000
DTSTAMP:20260423T014712
CREATED:20260120T133937Z
LAST-MODIFIED:20260120T133937Z
UID:22391-1770796800-1770807600@moebius.cegepmontpetit.ca
SUMMARY:Réservation – Cours Anglais
DESCRIPTION:#87666\n– Téléviseur interactif : 1
URL:https://moebius.cegepmontpetit.ca/evenement/reservation-cours-anglais-15/
LOCATION:D2702
CATEGORIES:Réservation de l'Espace Moebius
ATTACH;FMTTYPE=image/jpeg:https://moebius.cegepmontpetit.ca/wp-content/uploads/sites/166/2025/07/Espace_Moebius_-4-scaled.jpg
END:VEVENT
BEGIN:VEVENT
DTSTART;TZID=America/Toronto:20260212T083000
DTEND;TZID=America/Toronto:20260212T090000
DTSTAMP:20260423T014712
CREATED:20260126T183619Z
LAST-MODIFIED:20260126T183619Z
UID:22435-1770885000-1770886800@moebius.cegepmontpetit.ca
SUMMARY:Placement local personnelle
DESCRIPTION:
URL:https://moebius.cegepmontpetit.ca/evenement/placement-local-personnelle/
LOCATION:D2702
ATTACH;FMTTYPE=image/png:https://moebius.cegepmontpetit.ca/wp-content/uploads/sites/166/2026/01/Disposition_12-fevrier.png
END:VEVENT
BEGIN:VEVENT
DTSTART;TZID=America/Toronto:20260212T090000
DTEND;TZID=America/Toronto:20260212T110000
DTSTAMP:20260423T014712
CREATED:20260126T183537Z
LAST-MODIFIED:20260126T183537Z
UID:22431-1770886800-1770894000@moebius.cegepmontpetit.ca
SUMMARY:Réservation - Réunion CIEESH et du CREPS
DESCRIPTION:#87941\nDispostion: personnelle\n1 portable + 1 benq
URL:https://moebius.cegepmontpetit.ca/evenement/reservation-reunion-cieesh-et-du-creps/
LOCATION:D2702
ATTACH;FMTTYPE=image/png:https://moebius.cegepmontpetit.ca/wp-content/uploads/sites/166/2026/01/Disposition_12-fevrier.png
END:VEVENT
BEGIN:VEVENT
DTSTART;TZID=America/Toronto:20260212T150000
DTEND;TZID=America/Toronto:20260212T170000
DTSTAMP:20260423T014712
CREATED:20260210T180323Z
LAST-MODIFIED:20260210T180323Z
UID:22474-1770908400-1770915600@moebius.cegepmontpetit.ca
SUMMARY:Réservation - Cours Cinéma
DESCRIPTION:#88763
URL:https://moebius.cegepmontpetit.ca/evenement/reservation-cours-cinema-3/
LOCATION:D2702
CATEGORIES:Réservation de l'Espace Moebius
ATTACH;FMTTYPE=image/jpeg:https://moebius.cegepmontpetit.ca/wp-content/uploads/sites/166/2025/07/Espace_Moebius_-4-scaled.jpg
END:VEVENT
BEGIN:VEVENT
DTSTART;TZID=America/Toronto:20260213T093000
DTEND;TZID=America/Toronto:20260213T100000
DTSTAMP:20260423T014712
CREATED:20260119T135229Z
LAST-MODIFIED:20260119T135546Z
UID:22259-1770975000-1770976800@moebius.cegepmontpetit.ca
SUMMARY:Placement local: CLAAC-sique
DESCRIPTION:
URL:https://moebius.cegepmontpetit.ca/evenement/placement-local-7/
LOCATION:D2702
END:VEVENT
BEGIN:VEVENT
DTSTART;TZID=America/Toronto:20260213T100000
DTEND;TZID=America/Toronto:20260213T150000
DTSTAMP:20260423T014712
CREATED:20260119T134534Z
LAST-MODIFIED:20260120T130657Z
UID:22251-1770976800-1770994800@moebius.cegepmontpetit.ca
SUMMARY:Réservation – Stage TIM
DESCRIPTION:#87647\nConfiguration: CLAAC-sique\n1 professeur\n40 étudiants\n40 ordinateurs portables (AM + PM)\nTableaux blanc sur roulettes  avec crayons\n2 téléviseurs géants (IMPORTANT)
URL:https://moebius.cegepmontpetit.ca/evenement/reservation-stage-tim-2/
LOCATION:D2702
CATEGORIES:Réservation - CLAAC,Réservation de l'Espace Moebius,Téléviseur interactif 1x
ATTACH;FMTTYPE=image/jpeg:https://moebius.cegepmontpetit.ca/wp-content/uploads/sites/166/2019/10/panoramaEspaceMedialab.jpg
END:VEVENT
END:VCALENDAR