BEGIN:VCALENDAR
VERSION:2.0
PRODID:-//Espace Moebius - ECPv6.0.12//NONSGML v1.0//EN
CALSCALE:GREGORIAN
METHOD:PUBLISH
X-WR-CALNAME:Espace Moebius
X-ORIGINAL-URL:https://moebius.cegepmontpetit.ca
X-WR-CALDESC:évènements pour Espace Moebius
REFRESH-INTERVAL;VALUE=DURATION:PT1H
X-Robots-Tag:noindex
X-PUBLISHED-TTL:PT1H
BEGIN:VTIMEZONE
TZID:America/Toronto
BEGIN:DAYLIGHT
TZOFFSETFROM:-0500
TZOFFSETTO:-0400
TZNAME:EDT
DTSTART:20260308T070000
END:DAYLIGHT
BEGIN:STANDARD
TZOFFSETFROM:-0400
TZOFFSETTO:-0500
TZNAME:EST
DTSTART:20261101T060000
END:STANDARD
END:VTIMEZONE
BEGIN:VEVENT
DTSTART;TZID=America/Toronto:20260216T090000
DTEND;TZID=America/Toronto:20260216T120000
DTSTAMP:20260423T070355
CREATED:20260119T132914Z
LAST-MODIFIED:20260119T132914Z
UID:22239-1771232400-1771243200@moebius.cegepmontpetit.ca
SUMMARY:Réservation – Communauté EVA
DESCRIPTION:Disposition: en cercle
URL:https://moebius.cegepmontpetit.ca/evenement/reservation-communaute-eva-3/
LOCATION:D2702
CATEGORIES:Réservation de l'Espace Moebius
ATTACH;FMTTYPE=image/jpeg:https://moebius.cegepmontpetit.ca/wp-content/uploads/sites/166/2025/09/Realite_Virtuelle_Chaises_Quest_3-1-scaled.jpg
END:VEVENT
BEGIN:VEVENT
DTSTART;VALUE=DATE:20260217
DTEND;VALUE=DATE:20260219
DTSTAMP:20260423T070355
CREATED:20260216T194610Z
LAST-MODIFIED:20260216T194610Z
UID:22480-1771308000-1771394399@moebius.cegepmontpetit.ca
SUMMARY:Prêt tableau blanc
DESCRIPTION:#89030
URL:https://moebius.cegepmontpetit.ca/evenement/pret-tableau-blanc/
LOCATION:D2702
ATTACH;FMTTYPE=image/jpeg:https://moebius.cegepmontpetit.ca/wp-content/uploads/sites/166/2019/03/P1090439-e1568646684656.jpg
END:VEVENT
BEGIN:VEVENT
DTSTART;TZID=America/Toronto:20260217T080000
DTEND;TZID=America/Toronto:20260217T120000
DTSTAMP:20260423T070355
CREATED:20260115T163428Z
LAST-MODIFIED:20260119T165728Z
UID:22189-1771315200-1771329600@moebius.cegepmontpetit.ca
SUMMARY:Réservation RV – Soins Infirmiers
DESCRIPTION:Problématique: AVC\, TCC et MPOC\n6 station \nRemarques : Il faudrait 6 station de VR avec une même simulation dessus. On changera la simulation sur les stations par la suite.
URL:https://moebius.cegepmontpetit.ca/evenement/reservation-rv-soins-infirmiers-100/
LOCATION:D2702
CATEGORIES:Atelier - Réalité virtuelle
ATTACH;FMTTYPE=image/jpeg:https://moebius.cegepmontpetit.ca/wp-content/uploads/sites/166/2025/09/Realite_Virtuelle_Chaises_Quest_3-1-scaled.jpg
END:VEVENT
BEGIN:VEVENT
DTSTART;TZID=America/Toronto:20260217T140000
DTEND;TZID=America/Toronto:20260217T160000
DTSTAMP:20260423T070355
CREATED:20260127T133639Z
LAST-MODIFIED:20260127T133639Z
UID:22444-1771336800-1771344000@moebius.cegepmontpetit.ca
SUMMARY:Réservation – Cours Techniques dentaires (Prothèses dentaires)
DESCRIPTION:#88003\n– Téléviseur interactif : 1\n– Projecteur interactif : 1\n– Boutons sonores : Oui\n– Verres de couleur : Oui\n– Un ordinateur portable : Oui\n– Nombre requis : 20
URL:https://moebius.cegepmontpetit.ca/evenement/reservation-cours-techniques-dentaires-protheses-dentaires-5/
LOCATION:D2702
CATEGORIES:Besoin de portables,Imprimante en fonction,Mode exclusif,Réservation - CLAAC,Réservation de l'Espace Moebius,Téléviseur interactif 1x
ATTACH;FMTTYPE=image/jpeg:https://moebius.cegepmontpetit.ca/wp-content/uploads/sites/166/2025/07/Espace_Moebius_-4-scaled.jpg
END:VEVENT
BEGIN:VEVENT
DTSTART;VALUE=DATE:20260218
DTEND;VALUE=DATE:20260220
DTSTAMP:20260423T070355
CREATED:20260205T182453Z
LAST-MODIFIED:20260205T182516Z
UID:22468-1771394400-1771480799@moebius.cegepmontpetit.ca
SUMMARY:Prêt BenQ
DESCRIPTION:#87476
URL:https://moebius.cegepmontpetit.ca/evenement/pret-benq-4/
LOCATION:D2702
ATTACH;FMTTYPE=image/jpeg:https://moebius.cegepmontpetit.ca/wp-content/uploads/sites/166/2022/06/PXL_20220208_150128587.MP_-scaled.jpg
END:VEVENT
BEGIN:VEVENT
DTSTART;TZID=America/Toronto:20260218T080000
DTEND;TZID=America/Toronto:20260218T100000
DTSTAMP:20260423T070355
CREATED:20260115T162402Z
LAST-MODIFIED:20260115T164818Z
UID:22175-1771401600-1771408800@moebius.cegepmontpetit.ca
SUMMARY:Réservation RV – Soins Infirmiers
DESCRIPTION:Problématique: 50A délirium\n3 station \nRemarques : besoin que 2 personnes étudiantes puissent entendre la situation en même temps.
URL:https://moebius.cegepmontpetit.ca/evenement/reservation-rv-soins-infirmiers-93/
LOCATION:D2702
CATEGORIES:Atelier - Réalité virtuelle
ATTACH;FMTTYPE=image/jpeg:https://moebius.cegepmontpetit.ca/wp-content/uploads/sites/166/2025/09/Realite_Virtuelle_Chaises_Quest_3-1-scaled.jpg
END:VEVENT
BEGIN:VEVENT
DTSTART;TZID=America/Toronto:20260218T100000
DTEND;TZID=America/Toronto:20260218T120000
DTSTAMP:20260423T070355
CREATED:20260115T162452Z
LAST-MODIFIED:20260115T162452Z
UID:22177-1771408800-1771416000@moebius.cegepmontpetit.ca
SUMMARY:Réservation RV – Soins Infirmiers
DESCRIPTION:Problématique: 516 vaccination\n3 station
URL:https://moebius.cegepmontpetit.ca/evenement/reservation-rv-soins-infirmiers-94/
LOCATION:D2702
CATEGORIES:Atelier - Réalité virtuelle
ATTACH;FMTTYPE=image/jpeg:https://moebius.cegepmontpetit.ca/wp-content/uploads/sites/166/2025/09/Realite_Virtuelle_Chaises_Quest_3-1-scaled.jpg
END:VEVENT
BEGIN:VEVENT
DTSTART;TZID=America/Toronto:20260218T130000
DTEND;TZID=America/Toronto:20260218T150000
DTSTAMP:20260423T070355
CREATED:20260115T162542Z
LAST-MODIFIED:20260115T164842Z
UID:22179-1771419600-1771426800@moebius.cegepmontpetit.ca
SUMMARY:Réservation RV – Soins Infirmiers
DESCRIPTION:Problématique: 50A délirium\n3 station \nRemarques : s’assurer que 2 personnes étudiantes puissent entendre la même situation
URL:https://moebius.cegepmontpetit.ca/evenement/reservation-rv-soins-infirmiers-95/
LOCATION:D2702
CATEGORIES:Atelier - Réalité virtuelle
ATTACH;FMTTYPE=image/jpeg:https://moebius.cegepmontpetit.ca/wp-content/uploads/sites/166/2025/09/Realite_Virtuelle_Chaises_Quest_3-1-scaled.jpg
END:VEVENT
BEGIN:VEVENT
DTSTART;TZID=America/Toronto:20260219T113000
DTEND;TZID=America/Toronto:20260219T120000
DTSTAMP:20260423T070355
CREATED:20260211T152323Z
LAST-MODIFIED:20260211T152323Z
UID:22478-1771500600-1771502400@moebius.cegepmontpetit.ca
SUMMARY:Placement local: Premier Ministre
DESCRIPTION:#88803 Disposition: Le Premier Ministre (60 place\, chaises Zone discussion\, rouge et blanche) 2 BenQ qui affiche même chose (1. Place Habituelle 2. Place Premier Ministre)
URL:https://moebius.cegepmontpetit.ca/evenement/placement-local-premier-ministre-3/
LOCATION:D2702
ATTACH;FMTTYPE=image/png:https://moebius.cegepmontpetit.ca/wp-content/uploads/sites/166/2024/05/13_Le_Premier-Ministre.png
END:VEVENT
BEGIN:VEVENT
DTSTART;TZID=America/Toronto:20260219T120000
DTEND;TZID=America/Toronto:20260219T140000
DTSTAMP:20260423T070355
CREATED:20260211T152236Z
LAST-MODIFIED:20260211T152236Z
UID:22476-1771502400-1771509600@moebius.cegepmontpetit.ca
SUMMARY:Réservation - Cours Techniques de l'informatique
DESCRIPTION:#88803\nDisposition: Le Premier Ministre (60 place\, chaises Zone discussion\, rouge et blanche)\n2 BenQ qui affiche même chose (1. Place Habituelle 2. Place Premier Ministre)
URL:https://moebius.cegepmontpetit.ca/evenement/reservation-cours-techniques-de-linformatique-2/
LOCATION:D2702
CATEGORIES:Réservation - CLAAC,Réservation de l'Espace Moebius,Téléviseur interactif 2x
ATTACH;FMTTYPE=image/png:https://moebius.cegepmontpetit.ca/wp-content/uploads/sites/166/2024/05/13_Le_Premier-Ministre.png
END:VEVENT
BEGIN:VEVENT
DTSTART;TZID=America/Toronto:20260220T080000
DTEND;TZID=America/Toronto:20260220T110000
DTSTAMP:20260423T070355
CREATED:20260121T131011Z
LAST-MODIFIED:20260121T131011Z
UID:22410-1771574400-1771585200@moebius.cegepmontpetit.ca
SUMMARY:Réservation - Cours Denturologie
DESCRIPTION:#87714\nordinateur portable: 28
URL:https://moebius.cegepmontpetit.ca/evenement/reservation-cours-denturologie/
LOCATION:D2702
CATEGORIES:Besoin de portables,Réservation de l'Espace Moebius
ATTACH;FMTTYPE=image/jpeg:https://moebius.cegepmontpetit.ca/wp-content/uploads/sites/166/2025/07/Espace_Moebius_-4-scaled.jpg
END:VEVENT
END:VCALENDAR