BEGIN:VCALENDAR
VERSION:2.0
PRODID:-//Espace Moebius - ECPv6.0.12//NONSGML v1.0//EN
CALSCALE:GREGORIAN
METHOD:PUBLISH
X-ORIGINAL-URL:https://moebius.cegepmontpetit.ca
X-WR-CALDESC:évènements pour Espace Moebius
REFRESH-INTERVAL;VALUE=DURATION:PT1H
X-Robots-Tag:noindex
X-PUBLISHED-TTL:PT1H
BEGIN:VTIMEZONE
TZID:America/Toronto
BEGIN:DAYLIGHT
TZOFFSETFROM:-0500
TZOFFSETTO:-0400
TZNAME:EDT
DTSTART:20260308T070000
END:DAYLIGHT
BEGIN:STANDARD
TZOFFSETFROM:-0400
TZOFFSETTO:-0500
TZNAME:EST
DTSTART:20261101T060000
END:STANDARD
END:VTIMEZONE
BEGIN:VEVENT
DTSTART;TZID=America/Toronto:20260224T080000
DTEND;TZID=America/Toronto:20260224T120000
DTSTAMP:20260423T014710
CREATED:20260115T162911Z
LAST-MODIFIED:20260115T162911Z
UID:22181-1771920000-1771934400@moebius.cegepmontpetit.ca
SUMMARY:Réservation RV – Soins Infirmiers
DESCRIPTION:Problématique: AVC\, TCC et MPOC\n6 station \nRemarques : Il faudrait 6 station de VR avec une même simulation dessus. On changera la simulation sur les stations par la suite.
URL:https://moebius.cegepmontpetit.ca/evenement/reservation-rv-soins-infirmiers-96/
LOCATION:D2702
CATEGORIES:Atelier - Réalité virtuelle
ATTACH;FMTTYPE=image/jpeg:https://moebius.cegepmontpetit.ca/wp-content/uploads/sites/166/2025/09/Realite_Virtuelle_Chaises_Quest_3-1-scaled.jpg
END:VEVENT
BEGIN:VEVENT
DTSTART;TZID=America/Toronto:20260224T113000
DTEND;TZID=America/Toronto:20260224T120000
DTSTAMP:20260423T014710
CREATED:20260119T192705Z
LAST-MODIFIED:20260119T192705Z
UID:22306-1771932600-1771934400@moebius.cegepmontpetit.ca
SUMMARY:Placement local 6 station RV
DESCRIPTION:keep talking
URL:https://moebius.cegepmontpetit.ca/evenement/placement-local-6-station-rv-5/
LOCATION:D2702
ATTACH;FMTTYPE=image/jpeg:https://moebius.cegepmontpetit.ca/wp-content/uploads/sites/166/2019/09/keep-talking-and-nobody-explodes.jpg
END:VEVENT
BEGIN:VEVENT
DTSTART;TZID=America/Toronto:20260224T120000
DTEND;TZID=America/Toronto:20260224T140000
DTSTAMP:20260423T014710
CREATED:20260119T192613Z
LAST-MODIFIED:20260119T192613Z
UID:22304-1771934400-1771941600@moebius.cegepmontpetit.ca
SUMMARY:Réservation RV - Cours Psychologie
DESCRIPTION:#87625\nActivité: Keep talking\n6 station
URL:https://moebius.cegepmontpetit.ca/evenement/reservation-rv-cours-psychologie/
LOCATION:D2702
CATEGORIES:Atelier - Réalité virtuelle
ATTACH;FMTTYPE=image/jpeg:https://moebius.cegepmontpetit.ca/wp-content/uploads/sites/166/2019/09/keep-talking-and-nobody-explodes.jpg
END:VEVENT
BEGIN:VEVENT
DTSTART;TZID=America/Toronto:20260224T140000
DTEND;TZID=America/Toronto:20260224T143000
DTSTAMP:20260423T014710
CREATED:20260119T204710Z
LAST-MODIFIED:20260127T145619Z
UID:22361-1771941600-1771943400@moebius.cegepmontpetit.ca
SUMMARY:Placement local 6 station
DESCRIPTION:Activité:\n1 sur chaque casque\nBeat Saber\nNVIDIA VR Funhouse\nGoalie Challenge VR\nEleven\nRescuties VR\nSpiderman\nLudicrous Speed
URL:https://moebius.cegepmontpetit.ca/evenement/placement-local-6-station/
LOCATION:D2702
ATTACH;FMTTYPE=image/jpeg:https://moebius.cegepmontpetit.ca/wp-content/uploads/sites/166/2025/09/Realite_Virtuelle_Chaises_Quest_3-1-scaled.jpg
END:VEVENT
BEGIN:VEVENT
DTSTART;TZID=America/Toronto:20260224T143000
DTEND;TZID=America/Toronto:20260224T160000
DTSTAMP:20260423T014710
CREATED:20260119T204601Z
LAST-MODIFIED:20260127T145635Z
UID:22359-1771943400-1771948800@moebius.cegepmontpetit.ca
SUMMARY:Réservation RV - Cours Éducation physique
DESCRIPTION:#87639\nActivité:\n1 sur chaque casque\nBeat Saber\nNVIDIA VR Funhouse\nGoalie Challenge VR\nEleven\nRescuties VR\nSpiderman\nLudicrous Speed
URL:https://moebius.cegepmontpetit.ca/evenement/reservation-rv-cours-education-physique/
LOCATION:D2702
CATEGORIES:Atelier - Réalité virtuelle
ATTACH;FMTTYPE=image/jpeg:https://moebius.cegepmontpetit.ca/wp-content/uploads/sites/166/2025/09/Realite_Virtuelle_Chaises_Quest_3-1-scaled.jpg
END:VEVENT
BEGIN:VEVENT
DTSTART;TZID=America/Toronto:20260225T080000
DTEND;TZID=America/Toronto:20260225T110000
DTSTAMP:20260423T014710
CREATED:20260120T134029Z
LAST-MODIFIED:20260120T134029Z
UID:22393-1772006400-1772017200@moebius.cegepmontpetit.ca
SUMMARY:Réservation – Cours Anglais
DESCRIPTION:#87666\n– Téléviseur interactif : 1
URL:https://moebius.cegepmontpetit.ca/evenement/reservation-cours-anglais-16/
LOCATION:D2702
CATEGORIES:Réservation de l'Espace Moebius
ATTACH;FMTTYPE=image/jpeg:https://moebius.cegepmontpetit.ca/wp-content/uploads/sites/166/2025/07/Espace_Moebius_-4-scaled.jpg
END:VEVENT
BEGIN:VEVENT
DTSTART;TZID=America/Toronto:20260225T113000
DTEND;TZID=America/Toronto:20260225T120000
DTSTAMP:20260423T014710
CREATED:20260121T171222Z
LAST-MODIFIED:20260121T171222Z
UID:22422-1772019000-1772020800@moebius.cegepmontpetit.ca
SUMMARY:Placement local Premier Ministre
DESCRIPTION:
URL:https://moebius.cegepmontpetit.ca/evenement/placement-local-premier-ministre-2/
LOCATION:D2702
ATTACH;FMTTYPE=image/png:https://moebius.cegepmontpetit.ca/wp-content/uploads/sites/166/2024/05/13_Le_Premier-Ministre.png
END:VEVENT
BEGIN:VEVENT
DTSTART;TZID=America/Toronto:20260225T120000
DTEND;TZID=America/Toronto:20260225T140000
DTSTAMP:20260423T014710
CREATED:20260121T171115Z
LAST-MODIFIED:20260121T171115Z
UID:22420-1772020800-1772028000@moebius.cegepmontpetit.ca
SUMMARY:Réservation - Cours Français
DESCRIPTION:#87730\nDisposition: Premier Ministre\nL’événement sera ouvert à tous et toutes\,
URL:https://moebius.cegepmontpetit.ca/evenement/reservation-cours-francais-8/
LOCATION:D2702
CATEGORIES:Mode partagé,Réservation de l'Espace Moebius
ATTACH;FMTTYPE=image/png:https://moebius.cegepmontpetit.ca/wp-content/uploads/sites/166/2024/05/13_Le_Premier-Ministre.png
END:VEVENT
BEGIN:VEVENT
DTSTART;TZID=America/Toronto:20260226T080000
DTEND;TZID=America/Toronto:20260226T120000
DTSTAMP:20260423T014710
CREATED:20260123T155550Z
LAST-MODIFIED:20260123T155550Z
UID:22427-1772092800-1772107200@moebius.cegepmontpetit.ca
SUMMARY:Réservation - Cours Soins
DESCRIPTION:#87852\nordinateur: 30
URL:https://moebius.cegepmontpetit.ca/evenement/reservation-cours-soins/
LOCATION:D2702
CATEGORIES:Besoin de portables,Réservation de l'Espace Moebius
ATTACH;FMTTYPE=image/jpeg:https://moebius.cegepmontpetit.ca/wp-content/uploads/sites/166/2025/07/Espace_Moebius_-4-scaled.jpg
END:VEVENT
BEGIN:VEVENT
DTSTART;TZID=America/Toronto:20260227T120000
DTEND;TZID=America/Toronto:20260227T133000
DTSTAMP:20260423T014710
CREATED:20260227T134100Z
LAST-MODIFIED:20260227T134100Z
UID:22494-1772193600-1772199000@moebius.cegepmontpetit.ca
SUMMARY:Réservation - RV Soins Infirmiers
DESCRIPTION:#89507 \nRV 50A \n3 Stations
URL:https://moebius.cegepmontpetit.ca/evenement/reservation-rv-soins-infirmiers-121/
LOCATION:D2702
CATEGORIES:Atelier - Réalité virtuelle,Réservation de l'Espace Moebius
ATTACH;FMTTYPE=image/jpeg:https://moebius.cegepmontpetit.ca/wp-content/uploads/sites/166/2025/09/Realite_Virtuelle_Chaises_Quest_3-1-scaled.jpg
END:VEVENT
END:VCALENDAR