BEGIN:VCALENDAR
VERSION:2.0
PRODID:-//Espace Moebius - ECPv6.0.12//NONSGML v1.0//EN
CALSCALE:GREGORIAN
METHOD:PUBLISH
X-ORIGINAL-URL:https://moebius.cegepmontpetit.ca
X-WR-CALDESC:évènements pour Espace Moebius
REFRESH-INTERVAL;VALUE=DURATION:PT1H
X-Robots-Tag:noindex
X-PUBLISHED-TTL:PT1H
BEGIN:VTIMEZONE
TZID:America/Toronto
BEGIN:DAYLIGHT
TZOFFSETFROM:-0500
TZOFFSETTO:-0400
TZNAME:EDT
DTSTART:20260308T070000
END:DAYLIGHT
BEGIN:STANDARD
TZOFFSETFROM:-0400
TZOFFSETTO:-0500
TZNAME:EST
DTSTART:20261101T060000
END:STANDARD
END:VTIMEZONE
BEGIN:VEVENT
DTSTART;TZID=America/Toronto:20260323T090000
DTEND;TZID=America/Toronto:20260323T120000
DTSTAMP:20260423T014706
CREATED:20260119T133010Z
LAST-MODIFIED:20260119T133010Z
UID:22241-1774256400-1774267200@moebius.cegepmontpetit.ca
SUMMARY:Réservation – Communauté EVA
DESCRIPTION:Disposition: en cercle
URL:https://moebius.cegepmontpetit.ca/evenement/reservation-communaute-eva-4/
LOCATION:D2702
CATEGORIES:Réservation de l'Espace Moebius
ATTACH;FMTTYPE=image/jpeg:https://moebius.cegepmontpetit.ca/wp-content/uploads/sites/166/2025/07/Espace_Moebius_-4-scaled.jpg
END:VEVENT
BEGIN:VEVENT
DTSTART;TZID=America/Toronto:20260324T140000
DTEND;TZID=America/Toronto:20260324T160000
DTSTAMP:20260423T014706
CREATED:20260127T133906Z
LAST-MODIFIED:20260127T133906Z
UID:22448-1774360800-1774368000@moebius.cegepmontpetit.ca
SUMMARY:Réservation – Cours Techniques dentaires (Prothèses dentaires)
DESCRIPTION:#88003\n– Téléviseur interactif : 1\n– Projecteur interactif : 1\n– Boutons sonores : Oui\n– Verres de couleur : Oui\n– Un ordinateur portable : Oui\n– Nombre requis : 20
URL:https://moebius.cegepmontpetit.ca/evenement/reservation-cours-techniques-dentaires-protheses-dentaires-7/
LOCATION:D2702
CATEGORIES:Besoin de portables,Imprimante en fonction,Mode exclusif,Réservation - CLAAC,Réservation de l'Espace Moebius,Téléviseur interactif 1x
ATTACH;FMTTYPE=image/jpeg:https://moebius.cegepmontpetit.ca/wp-content/uploads/sites/166/2025/07/Espace_Moebius_-4-scaled.jpg
END:VEVENT
BEGIN:VEVENT
DTSTART;TZID=America/Toronto:20260325T083000
DTEND;TZID=America/Toronto:20260325T090000
DTSTAMP:20260423T014706
CREATED:20260119T201732Z
LAST-MODIFIED:20260119T201732Z
UID:22345-1774427400-1774429200@moebius.cegepmontpetit.ca
SUMMARY:Placement local 6 station (3 Rift 3 Quest)
DESCRIPTION:Google Earth et Home after war
URL:https://moebius.cegepmontpetit.ca/evenement/placement-local-6-station-3-rift-3-quest-3/
LOCATION:D2702
ATTACH;FMTTYPE=image/jpeg:https://moebius.cegepmontpetit.ca/wp-content/uploads/sites/166/2024/04/home_after_war_hero.jpg
END:VEVENT
BEGIN:VEVENT
DTSTART;TZID=America/Toronto:20260325T090000
DTEND;TZID=America/Toronto:20260325T120000
DTSTAMP:20260423T014706
CREATED:20260119T201644Z
LAST-MODIFIED:20260119T201644Z
UID:22342-1774429200-1774440000@moebius.cegepmontpetit.ca
SUMMARY:Réservation RV – Cours Géographie
DESCRIPTION:#87627\nActivité: Google Earth et Home after war\n6 station
URL:https://moebius.cegepmontpetit.ca/evenement/reservation-rv-cours-geographie-3/
LOCATION:D2702
CATEGORIES:Réservation de l'Espace Moebius
ATTACH;FMTTYPE=image/jpeg:https://moebius.cegepmontpetit.ca/wp-content/uploads/sites/166/2025/07/Espace_Moebius_-4-scaled.jpg
END:VEVENT
BEGIN:VEVENT
DTSTART;TZID=America/Toronto:20260326T080000
DTEND;TZID=America/Toronto:20260326T160000
DTSTAMP:20260423T014706
CREATED:20260115T163633Z
LAST-MODIFIED:20260121T165039Z
UID:22193-1774512000-1774540800@moebius.cegepmontpetit.ca
SUMMARY:Réservation RV – Soins Infirmiers
DESCRIPTION:Problématique: 610\n3 station
URL:https://moebius.cegepmontpetit.ca/evenement/reservation-rv-soins-infirmiers-102/
LOCATION:D2702
CATEGORIES:Atelier - Réalité virtuelle
ATTACH;FMTTYPE=image/jpeg:https://moebius.cegepmontpetit.ca/wp-content/uploads/sites/166/2025/09/Realite_Virtuelle_Chaises_Quest_3-1-scaled.jpg
END:VEVENT
BEGIN:VEVENT
DTSTART;TZID=America/Toronto:20260327T093000
DTEND;TZID=America/Toronto:20260327T100000
DTSTAMP:20260423T014706
CREATED:20260119T135329Z
LAST-MODIFIED:20260119T135824Z
UID:22263-1774603800-1774605600@moebius.cegepmontpetit.ca
SUMMARY:Placement local: Panel de discussion (à discuter)
DESCRIPTION:
URL:https://moebius.cegepmontpetit.ca/evenement/placement-local-9/
LOCATION:D2702
END:VEVENT
BEGIN:VEVENT
DTSTART;TZID=America/Toronto:20260327T100000
DTEND;TZID=America/Toronto:20260327T150000
DTSTAMP:20260423T014706
CREATED:20260119T134938Z
LAST-MODIFIED:20260120T130757Z
UID:22255-1774605600-1774623600@moebius.cegepmontpetit.ca
SUMMARY:Réservation – Stage TIM
DESCRIPTION:#87647\nConfiguration: Panel de discussion (à discuter)\n2 téléviseurs géants (IMPORTANT)\n8 panélistes sur un grande table\n1 professeur\n40 étudiants
URL:https://moebius.cegepmontpetit.ca/evenement/reservation-stage-tim-4/
LOCATION:D2702
CATEGORIES:Réservation - CLAAC,Réservation de l'Espace Moebius,Téléviseur interactif 1x
ATTACH;FMTTYPE=image/jpeg:https://moebius.cegepmontpetit.ca/wp-content/uploads/sites/166/2019/10/panoramaEspaceMedialab.jpg
END:VEVENT
END:VCALENDAR