BEGIN:VCALENDAR
VERSION:2.0
PRODID:-//Espace Moebius - ECPv6.0.12//NONSGML v1.0//EN
CALSCALE:GREGORIAN
METHOD:PUBLISH
X-WR-CALNAME:Espace Moebius
X-ORIGINAL-URL:https://moebius.cegepmontpetit.ca
X-WR-CALDESC:évènements pour Espace Moebius
REFRESH-INTERVAL;VALUE=DURATION:PT1H
X-Robots-Tag:noindex
X-PUBLISHED-TTL:PT1H
BEGIN:VTIMEZONE
TZID:America/Toronto
BEGIN:DAYLIGHT
TZOFFSETFROM:-0500
TZOFFSETTO:-0400
TZNAME:EDT
DTSTART:20260308T070000
END:DAYLIGHT
BEGIN:STANDARD
TZOFFSETFROM:-0400
TZOFFSETTO:-0500
TZNAME:EST
DTSTART:20261101T060000
END:STANDARD
END:VTIMEZONE
BEGIN:VEVENT
DTSTART;TZID=America/Toronto:20260420T080000
DTEND;TZID=America/Toronto:20260420T083000
DTSTAMP:20260422T184002
CREATED:20260415T131000Z
LAST-MODIFIED:20260415T131000Z
UID:22547-1776672000-1776673800@moebius.cegepmontpetit.ca
SUMMARY:Placement local: Disque-Cussion
DESCRIPTION:
URL:https://moebius.cegepmontpetit.ca/evenement/placement-local-disque-cussion-2/
LOCATION:D2702
ATTACH;FMTTYPE=image/png:https://moebius.cegepmontpetit.ca/wp-content/uploads/sites/166/2024/05/03_La-Disque-Cussion.png
END:VEVENT
BEGIN:VEVENT
DTSTART;TZID=America/Toronto:20260420T103000
DTEND;TZID=America/Toronto:20260420T120000
DTSTAMP:20260422T184002
CREATED:20260119T141646Z
LAST-MODIFIED:20260415T130754Z
UID:22274-1776681000-1776686400@moebius.cegepmontpetit.ca
SUMMARY:Réservation - Le printemps de la culture
DESCRIPTION:#84037 \nDisposition: Disque-Cussion \n+ ajoute table proche de la BenQ
URL:https://moebius.cegepmontpetit.ca/evenement/reservation-le-printemps-de-la-culture/
LOCATION:D2702
CATEGORIES:Réservation de l'Espace Moebius
ATTACH;FMTTYPE=image/png:https://moebius.cegepmontpetit.ca/wp-content/uploads/sites/166/2024/05/03_La-Disque-Cussion.png
END:VEVENT
BEGIN:VEVENT
DTSTART;TZID=America/Toronto:20260420T133000
DTEND;TZID=America/Toronto:20260420T160000
DTSTAMP:20260422T184002
CREATED:20260326T132717Z
LAST-MODIFIED:20260326T132717Z
UID:22520-1776691800-1776700800@moebius.cegepmontpetit.ca
SUMMARY:Réservation - Rencontre spéciale de l'équipe du SPIP
DESCRIPTION:#90333
URL:https://moebius.cegepmontpetit.ca/evenement/reservation-rencontre-speciale-de-lequipe-du-spip/
LOCATION:D2702
CATEGORIES:Réservation de l'Espace Moebius
ATTACH;FMTTYPE=image/jpeg:https://moebius.cegepmontpetit.ca/wp-content/uploads/sites/166/2025/07/Espace_Moebius_-4-scaled.jpg
END:VEVENT
BEGIN:VEVENT
DTSTART;TZID=America/Toronto:20260421T080000
DTEND;TZID=America/Toronto:20260421T120000
DTSTAMP:20260422T184002
CREATED:20260119T132146Z
LAST-MODIFIED:20260323T184334Z
UID:22232-1776758400-1776772800@moebius.cegepmontpetit.ca
SUMMARY:Réservation RV – Soins Infirmiers
DESCRIPTION:Problématique: 180-410 hypovolémie\n3 station
URL:https://moebius.cegepmontpetit.ca/evenement/reservation-rv-soins-infirmiers-118/
LOCATION:D2702
CATEGORIES:Atelier - Réalité virtuelle
ATTACH;FMTTYPE=image/jpeg:https://moebius.cegepmontpetit.ca/wp-content/uploads/sites/166/2025/09/Realite_Virtuelle_Chaises_Quest_3-1-scaled.jpg
END:VEVENT
BEGIN:VEVENT
DTSTART;TZID=America/Toronto:20260422T100000
DTEND;TZID=America/Toronto:20260422T120000
DTSTAMP:20260422T184002
CREATED:20260115T164138Z
LAST-MODIFIED:20260115T164138Z
UID:22199-1776852000-1776859200@moebius.cegepmontpetit.ca
SUMMARY:Réservation RV – Soins Infirmiers
DESCRIPTION:Problématique: 516 vaccination\n3 station
URL:https://moebius.cegepmontpetit.ca/evenement/reservation-rv-soins-infirmiers-105/
LOCATION:D2702
CATEGORIES:Atelier - Réalité virtuelle
ATTACH;FMTTYPE=image/jpeg:https://moebius.cegepmontpetit.ca/wp-content/uploads/sites/166/2025/09/Realite_Virtuelle_Chaises_Quest_3-1-scaled.jpg
END:VEVENT
BEGIN:VEVENT
DTSTART;TZID=America/Toronto:20260422T130000
DTEND;TZID=America/Toronto:20260422T160000
DTSTAMP:20260422T184002
CREATED:20260115T164257Z
LAST-MODIFIED:20260115T164257Z
UID:22201-1776862800-1776873600@moebius.cegepmontpetit.ca
SUMMARY:Réservation RV – Soins Infirmiers
DESCRIPTION:Problématique: Syndrome du compartiment (fracture) et chambre des erreurs (180-21B)\n6 station
URL:https://moebius.cegepmontpetit.ca/evenement/reservation-rv-soins-infirmiers-106/
LOCATION:D2702
CATEGORIES:Atelier - Réalité virtuelle
ATTACH;FMTTYPE=image/jpeg:https://moebius.cegepmontpetit.ca/wp-content/uploads/sites/166/2025/09/Realite_Virtuelle_Chaises_Quest_3-1-scaled.jpg
END:VEVENT
BEGIN:VEVENT
DTSTART;VALUE=DATE:20260423
DTEND;VALUE=DATE:20260425
DTSTAMP:20260422T184002
CREATED:20260318T191627Z
LAST-MODIFIED:20260318T191627Z
UID:22515-1776924000-1777010399@moebius.cegepmontpetit.ca
SUMMARY:Prêt BenQ
DESCRIPTION:Julie J Dubois \nRetour le lendemain
URL:https://moebius.cegepmontpetit.ca/evenement/pret-benq-8/
LOCATION:D2702
ATTACH;FMTTYPE=image/jpeg:https://moebius.cegepmontpetit.ca/wp-content/uploads/sites/166/2022/06/PXL_20220208_150128587.MP_-scaled.jpg
END:VEVENT
BEGIN:VEVENT
DTSTART;TZID=America/Toronto:20260423T130000
DTEND;TZID=America/Toronto:20260423T160000
DTSTAMP:20260422T184002
CREATED:20260115T164403Z
LAST-MODIFIED:20260115T164403Z
UID:22203-1776949200-1776960000@moebius.cegepmontpetit.ca
SUMMARY:Réservation RV – Soins Infirmiers
DESCRIPTION:Problématique: Syndrome du compartiment (fracture) et chambre des erreurs (180-21B)\n6 station
URL:https://moebius.cegepmontpetit.ca/evenement/reservation-rv-soins-infirmiers-107/
LOCATION:D2702
CATEGORIES:Atelier - Réalité virtuelle
ATTACH;FMTTYPE=image/jpeg:https://moebius.cegepmontpetit.ca/wp-content/uploads/sites/166/2025/09/Realite_Virtuelle_Chaises_Quest_3-1-scaled.jpg
END:VEVENT
END:VCALENDAR